BEGIN:VCALENDAR
VERSION:2.0
PRODID:icalendar-ruby
CALSCALE:GREGORIAN
BEGIN:VTIMEZONE
TZID:America/New_York
BEGIN:DAYLIGHT
DTSTART:20260308T030000
TZOFFSETFROM:-0500
TZOFFSETTO:-0400
RRULE:FREQ=YEARLY;BYDAY=2SU;BYMONTH=3
TZNAME:EDT
END:DAYLIGHT
BEGIN:STANDARD
DTSTART:20261101T010000
TZOFFSETFROM:-0400
TZOFFSETTO:-0500
RRULE:FREQ=YEARLY;BYDAY=1SU;BYMONTH=11
TZNAME:EST
END:STANDARD
END:VTIMEZONE
BEGIN:VEVENT
DTSTAMP:20260425T140107Z
UID:2677413f-05ee-4fcd-a9a8-3657d1feb6dc
DTSTART:20260428T183000
DTEND:20260428T203000
DESCRIPTION:
LOCATION:Room 3AB Town Hall
SUMMARY:School Committee Meeting
END:VEVENT
BEGIN:VEVENT
DTSTAMP:20260425T140107Z
UID:2d20cb4f-9287-4725-b02f-887ba10b983b
DTSTART:20260505T183000
DTEND:20260505T203000
DESCRIPTION:
LOCATION:Room 3AB Town Hall
SUMMARY:School Committee Meeting
END:VEVENT
BEGIN:VEVENT
DTSTAMP:20260425T140107Z
UID:75518cd5-87a7-41e7-be7c-e9aed04d1687
DTSTART:20260514T183000
DTEND:20260514T200000
DESCRIPTION:
LOCATION:Conf. Room 110
SUMMARY:QMS PAC Meeting
END:VEVENT
BEGIN:VEVENT
DTSTAMP:20260425T140107Z
UID:f0638e58-3634-4ff5-b35e-316def94342d
DTSTART:20260521T190000
DTEND:20260521T200000
DESCRIPTION:
LOCATION:QMS Auditorium
SUMMARY:QMS Got Talent
END:VEVENT
BEGIN:VEVENT
DTSTAMP:20260425T140107Z
UID:01c2dcd7-9f5b-4f84-b797-2bf092a5fefc
DTSTART;VALUE=DATE:20260525
DTEND;VALUE=DATE:20260526
DESCRIPTION:
LOCATION:
SUMMARY:Holiday - No School
END:VEVENT
BEGIN:VEVENT
DTSTAMP:20260425T140107Z
UID:0d982a12-529f-43f7-8b63-a6f7dd628ebe
DTSTART:20260526T183000
DTEND:20260526T203000
DESCRIPTION:
LOCATION:Room 3AB Town Hall
SUMMARY:School Committee Meeting
END:VEVENT
BEGIN:VEVENT
DTSTAMP:20260425T140107Z
UID:2d54b734-988d-42c3-bd55-a97fcfb1acb1
DTSTART:20260602T183000
DTEND:20260602T203000
DESCRIPTION:
LOCATION:Room 3AB Town Hall
SUMMARY:School Committee Meeting
END:VEVENT
BEGIN:VEVENT
DTSTAMP:20260425T140107Z
UID:2f0057ec-bcd5-4c1e-8927-fb2c43437c36
DTSTART:20260603T183000
DTEND:20260603T193000
DESCRIPTION:
LOCATION:QMS Auditorium
SUMMARY:QMS 7th & 8th Grade Concert
END:VEVENT
BEGIN:VEVENT
DTSTAMP:20260425T140107Z
UID:58161120-911e-4fee-848d-e560112c47f1
DTSTART:20260609T183000
DTEND:20260609T203000
DESCRIPTION:
LOCATION:Room 3AB Town Hall
SUMMARY:School Committee Meeting
END:VEVENT
BEGIN:VEVENT
DTSTAMP:20260425T140107Z
UID:1307dde5-b1f3-40b3-9916-51b45b5433aa
DTSTART:20260611T183000
DTEND:20260611T193000
DESCRIPTION:
LOCATION:QMS Auditorium
SUMMARY:QMS 6th Grade Concert
END:VEVENT
BEGIN:VEVENT
DTSTAMP:20260425T140107Z
UID:22baa6c7-0bb8-4986-a49d-f36da5ba15aa
DTSTART:20260611T183000
DTEND:20260611T200000
DESCRIPTION:
LOCATION:Conf. Room 110
SUMMARY:QMS PAC Meeting
END:VEVENT
BEGIN:VEVENT
DTSTAMP:20260425T140107Z
UID:edfe4844-d35c-440d-80dc-702381fecb74
DTSTART:20260612T140000
DTEND:20260612T170000
DESCRIPTION:
LOCATION:QMS Courtyard
SUMMARY:Tri-M Spring Fling
END:VEVENT
BEGIN:VEVENT
DTSTAMP:20260425T140107Z
UID:9bbbdc02-b3aa-4e2a-aad8-50b84de61518
DTSTART:20260616T183000
DTEND:20260616T203000
DESCRIPTION:
LOCATION:Room 2AB Town Hall
SUMMARY:School Committee Meeting tentative 
END:VEVENT
BEGIN:VEVENT
DTSTAMP:20260425T140107Z
UID:f6c9f2fd-410e-4154-897a-9de16343d1d6
DTSTART:20260619T080000
DTEND:20260619T090000
DESCRIPTION:
LOCATION:
SUMMARY:Holiday - No School
END:VEVENT
BEGIN:VEVENT
DTSTAMP:20260425T140107Z
UID:64bd5cc0-a671-4b54-88f4-a44ae082e752
DTSTART;VALUE=DATE:20260624
DTEND;VALUE=DATE:20260625
DESCRIPTION:
LOCATION:
SUMMARY:180th Day of School: Early Release
END:VEVENT
BEGIN:VEVENT
DTSTAMP:20260425T140107Z
UID:f8941c94-1f37-4140-a79c-4b98e9c0f52e
DTSTART;VALUE=DATE:20260827
DTEND;VALUE=DATE:20260828
DESCRIPTION:
LOCATION:
SUMMARY:New Teacher Orientation
END:VEVENT
BEGIN:VEVENT
DTSTAMP:20260425T140107Z
UID:6da56a2c-bee7-437e-b5b4-d35ac045ef2d
DTSTART;VALUE=DATE:20260831
DTEND;VALUE=DATE:20260901
DESCRIPTION:
LOCATION:
SUMMARY:District Wide Open House
END:VEVENT
BEGIN:VEVENT
DTSTAMP:20260425T140107Z
UID:fafe5d17-af73-4916-9240-67fb62b213c1
DTSTART;VALUE=DATE:20260901
DTEND;VALUE=DATE:20260902
DESCRIPTION:
LOCATION:
SUMMARY:First Day - Staff 
END:VEVENT
BEGIN:VEVENT
DTSTAMP:20260425T140107Z
UID:1f99bb2c-d830-4e5c-a6b5-1301bc1dc320
DTSTART;VALUE=DATE:20260902
DTEND;VALUE=DATE:20260903
DESCRIPTION:
LOCATION:
SUMMARY:First Day Grades 1 - 12
END:VEVENT
BEGIN:VEVENT
DTSTAMP:20260425T140107Z
UID:28f187e0-6554-4ed1-8f6d-95d3ee33be1c
DTSTART;VALUE=DATE:20260904
DTEND;VALUE=DATE:20260905
DESCRIPTION:
LOCATION:
SUMMARY:NO SCHOOL - Holiday
END:VEVENT
BEGIN:VEVENT
DTSTAMP:20260425T140107Z
UID:c342ba5a-a978-40ba-b220-113af56aaae6
DTSTART;VALUE=DATE:20260907
DTEND;VALUE=DATE:20260908
DESCRIPTION:
LOCATION:
SUMMARY:NO SCHOOL - Holiday
END:VEVENT
BEGIN:VEVENT
DTSTAMP:20260425T140107Z
UID:220f951d-0f3a-4014-9d00-dc06fa505fe0
DTSTART;VALUE=DATE:20260908
DTEND;VALUE=DATE:20260909
DESCRIPTION:
LOCATION:
SUMMARY:First Day - Kindergarten
END:VEVENT
BEGIN:VEVENT
DTSTAMP:20260425T140107Z
UID:d70c4238-1fe2-408f-b121-38d69752fc6b
DTSTART;VALUE=DATE:20260909
DTEND;VALUE=DATE:20260910
DESCRIPTION:
LOCATION:
SUMMARY:First Day - Roland Green PK
END:VEVENT
BEGIN:VEVENT
DTSTAMP:20260425T140107Z
UID:5d918833-c24a-4ed7-9c2b-b0bf152d1eb2
DTSTART;VALUE=DATE:20261007
DTEND;VALUE=DATE:20261008
DESCRIPTION:
LOCATION:
SUMMARY:Early Release - Staff Professional Development
END:VEVENT
BEGIN:VEVENT
DTSTAMP:20260425T140107Z
UID:494334c3-43aa-4ded-a4ef-adccf46ce82b
DTSTART;VALUE=DATE:20261012
DTEND;VALUE=DATE:20261013
DESCRIPTION:
LOCATION:
SUMMARY:NO SCHOOL - Holiday
END:VEVENT
BEGIN:VEVENT
DTSTAMP:20260425T140107Z
UID:8f096805-9b63-4205-8896-99cd79756425
DTSTART;VALUE=DATE:20261103
DTEND;VALUE=DATE:20261104
DESCRIPTION:
LOCATION:
SUMMARY:NO SCHOOL - Staff Professional Development
END:VEVENT
BEGIN:VEVENT
DTSTAMP:20260425T140107Z
UID:8f2b59dc-35ca-47c8-b556-0a59e13c7ab4
DTSTART;VALUE=DATE:20261111
DTEND;VALUE=DATE:20261112
DESCRIPTION:
LOCATION:
SUMMARY:NO SCHOOL - Holiday
END:VEVENT
BEGIN:VEVENT
DTSTAMP:20260425T140107Z
UID:47aa19c8-dc03-43a3-8011-1125fc4e48f9
DTSTART;VALUE=DATE:20261125
DTEND;VALUE=DATE:20261126
DESCRIPTION:
LOCATION:
SUMMARY:Early Release - Thanksgiving Break
END:VEVENT
BEGIN:VEVENT
DTSTAMP:20260425T140107Z
UID:7d189611-f437-4e6a-a8e8-120b769aa0d1
DTSTART;VALUE=DATE:20261126
DTEND;VALUE=DATE:20261127
DESCRIPTION:
LOCATION:
SUMMARY:NO SCHOOL - Thanksgiving Break
END:VEVENT
BEGIN:VEVENT
DTSTAMP:20260425T140107Z
UID:699c1de7-668a-407f-8165-0f58fc78f9c4
DTSTART;VALUE=DATE:20261127
DTEND;VALUE=DATE:20261128
DESCRIPTION:
LOCATION:
SUMMARY:NO SCHOOL - Thanksgiving Break
END:VEVENT
BEGIN:VEVENT
DTSTAMP:20260425T140107Z
UID:23fc0a68-3aad-404f-b73b-800b5eaadbb9
DTSTART;VALUE=DATE:20261224
DTEND;VALUE=DATE:20270102
DESCRIPTION:
LOCATION:
SUMMARY:NO SCHOOL - Winter Break
END:VEVENT
BEGIN:VEVENT
DTSTAMP:20260425T140107Z
UID:96476122-4fb1-4a87-a25a-8ef43e6dc27e
DTSTART;VALUE=DATE:20270104
DTEND;VALUE=DATE:20270105
DESCRIPTION:
LOCATION:
SUMMARY:Return from Winter Break
END:VEVENT
BEGIN:VEVENT
DTSTAMP:20260425T140107Z
UID:bedc9bc8-baa3-4152-8df8-78145d7ec82e
DTSTART;VALUE=DATE:20270118
DTEND;VALUE=DATE:20270119
DESCRIPTION:
LOCATION:
SUMMARY:NO SCHOOL - Holiday
END:VEVENT
BEGIN:VEVENT
DTSTAMP:20260425T140107Z
UID:b026411f-89b8-4bcd-87e3-96a52e455446
DTSTART;VALUE=DATE:20270127
DTEND;VALUE=DATE:20270128
DESCRIPTION:
LOCATION:
SUMMARY:Early Release - Staff Professional Development
END:VEVENT
BEGIN:VEVENT
DTSTAMP:20260425T140107Z
UID:9b2a655c-5d68-46e9-a7c1-710a763ec800
DTSTART;VALUE=DATE:20270215
DTEND;VALUE=DATE:20270220
DESCRIPTION:
LOCATION:
SUMMARY:NO SCHOOL - February Break
END:VEVENT
BEGIN:VEVENT
DTSTAMP:20260425T140107Z
UID:46d0c9d9-5de3-4be9-bb4e-1c83ea77de40
DTSTART;VALUE=DATE:20270303
DTEND;VALUE=DATE:20270304
DESCRIPTION:
LOCATION:
SUMMARY:Early Release - Staff Professional Development
END:VEVENT
BEGIN:VEVENT
DTSTAMP:20260425T140107Z
UID:079d745f-5132-47b7-b225-5ac222e7dbb1
DTSTART;VALUE=DATE:20270326
DTEND;VALUE=DATE:20270327
DESCRIPTION:
LOCATION:
SUMMARY:NO SCHOOL - Day of Low Attendance
END:VEVENT
BEGIN:VEVENT
DTSTAMP:20260425T140107Z
UID:029e5eea-9087-4184-9510-9cd1001e29eb
DTSTART;VALUE=DATE:20270419
DTEND;VALUE=DATE:20270424
DESCRIPTION:
LOCATION:
SUMMARY:NO SCHOOL - April Break
END:VEVENT
BEGIN:VEVENT
DTSTAMP:20260425T140107Z
UID:043d1e64-e250-423c-b4f6-4e57ec5f5cc6
DTSTART;VALUE=DATE:20270531
DTEND;VALUE=DATE:20270601
DESCRIPTION:
LOCATION:
SUMMARY:NO SCHOOL - Holiday
END:VEVENT
BEGIN:VEVENT
DTSTAMP:20260425T140107Z
UID:de28328d-8a85-438f-b7ed-8aeb34958abc
DTSTART;VALUE=DATE:20270617
DTEND;VALUE=DATE:20270618
DESCRIPTION:
LOCATION:
SUMMARY:180th Day of School - Early Release
END:VEVENT
END:VCALENDAR
