BEGIN:VCALENDAR
VERSION:2.0
PRODID:icalendar-ruby
CALSCALE:GREGORIAN
BEGIN:VTIMEZONE
TZID:America/Chicago
BEGIN:DAYLIGHT
DTSTART:20260308T030000
TZOFFSETFROM:-0600
TZOFFSETTO:-0500
RRULE:FREQ=YEARLY;BYDAY=2SU;BYMONTH=3
TZNAME:CDT
END:DAYLIGHT
BEGIN:STANDARD
DTSTART:20261101T010000
TZOFFSETFROM:-0500
TZOFFSETTO:-0600
RRULE:FREQ=YEARLY;BYDAY=1SU;BYMONTH=11
TZNAME:CST
END:STANDARD
END:VTIMEZONE
BEGIN:VEVENT
DTSTAMP:20260419T141829Z
UID:c314c171-80fa-44ef-a14f-c9291f49314e
DTSTART:20260430T183000
DTEND:20260430T200000
DESCRIPTION:
LOCATION:First Baptist Church 511 W Church St\, Pocahontas\, AR 72455\, USA
SUMMARY:JH/SH Spring Choir Concert
END:VEVENT
BEGIN:VEVENT
DTSTAMP:20260419T141829Z
UID:c5dc0d28-65e6-4357-b1bb-813e075607ea
DTSTART:20260507T180000
DTEND:20260507T200000
DESCRIPTION:
LOCATION:PJHS Cafeteria 
SUMMARY:FFA Banquet
END:VEVENT
BEGIN:VEVENT
DTSTAMP:20260419T141829Z
UID:925a4491-2fcd-414d-b064-be0fa41fb9af
DTSTART:20260515T200000
DTEND:20260515T220000
DESCRIPTION:
LOCATION:
SUMMARY:Graduation 
END:VEVENT
END:VCALENDAR
