BEGIN:VCALENDAR
VERSION:2.0
PRODID:icalendar-ruby
CALSCALE:GREGORIAN
BEGIN:VTIMEZONE
TZID:America/Chicago
BEGIN:DAYLIGHT
DTSTART:20260308T030000
TZOFFSETFROM:-0600
TZOFFSETTO:-0500
RRULE:FREQ=YEARLY;BYDAY=2SU;BYMONTH=3
TZNAME:CDT
END:DAYLIGHT
BEGIN:STANDARD
DTSTART:20261101T010000
TZOFFSETFROM:-0500
TZOFFSETTO:-0600
RRULE:FREQ=YEARLY;BYDAY=1SU;BYMONTH=11
TZNAME:CST
END:STANDARD
END:VTIMEZONE
BEGIN:VEVENT
DTSTAMP:20260422T054031Z
UID:a2fe2841-5747-4bdc-b78a-f8f0c9670073
DTSTART:20260422T170000
DTEND:20260422T183000
DESCRIPTION:<p><span>All Joliet District 86 families are invited to join us
  on Wednesday\, April 22 from 5:00- 6:30 p.m. at Sator Sanchez Elementary 
 School\, 1101 Harrison Avenue\, for a parent session with clinical social 
 worker Lorraine Guerrero Neumayer that will focus on understanding and res
 ponding to children’s emotional and behavioral reactions to difficult li
 fe experiences. Register here: </span><a target="_blank" rel="noopener nor
 eferrer nofollow" href="https://forms.gle/7ch3gzC6Q4WqkBF99">https://forms
 .gle/7ch3gzC6Q4WqkBF99</a></p>
LOCATION:1101 Harrison Ave\, Joliet\, IL 60432\, USA
SUMMARY:Joliet District 86 Parent and Family Workshop  
END:VEVENT
BEGIN:VEVENT
DTSTAMP:20260422T054031Z
UID:086e6016-678c-43e3-8648-d79aa5920d62
DTSTART;VALUE=DATE:20260423
DTEND;VALUE=DATE:20260424
DESCRIPTION:<p>All Joliet District 86 Schools start times are delayed on Th
 ursday\, April 23\, 2026 for a morning School Improvement Day for staff. B
 us pick up times will also be two hours later than the regular schedule. S
 chool dismissal times are the same. </p>
LOCATION:
SUMMARY:School Improvement Day - Late Start
END:VEVENT
BEGIN:VEVENT
DTSTAMP:20260422T054031Z
UID:25d107b2-bf52-4b22-bf70-015a1394a4d5
DTSTART:20260425T090000
DTEND:20260425T110000
DESCRIPTION:<p>Join us for our 11th Annual Autism Awareness 5K Run/Walk on 
 Saturday\, April 25\, 2026. The Races will start promptly at 9 a.m. at Jol
 iet Junior College\, 1215 Houbolt Road\, outside of the Event Center. Regi
 ster by ordering your 2026 Autism T-shirt by March 24\, 2026 at <a target=
 "_blank" rel="noopener noreferrer nofollow" href="https://elitedesignzz.tu
 osystems.com/stores/autismwalk5k">https://elitedesignzz.tuosystems.com/sto
 res/autismwalk5k</a>. Prizes will be awarded to the 1st\, 2nd\, and 3rd pl
 ace winners.  All proceeds benefit the District 86 Autism Programs at Mary
 crest Early Childhood Center\, Sator Sanchez Elementary\, and Hufford Juni
 or High Schools. </p>
LOCATION:Joliet Jr College\, Joliet\, IL 60431\, USA
SUMMARY:Joliet District 86 Autism Awareness 5K Run/Walk
END:VEVENT
BEGIN:VEVENT
DTSTAMP:20260422T054031Z
UID:29a1855c-203e-48cc-8173-14fb1eb9a80f
DTSTART:20260513T180000
DTEND:20260513T190000
DESCRIPTION:
LOCATION:Sator Sanchez Elementary School\, 1101 Harrison Ave\, Joliet\, IL 
 60432\, USA
SUMMARY:Board of School Inspectors Personnel Committee Meeting
END:VEVENT
BEGIN:VEVENT
DTSTAMP:20260422T054031Z
UID:f19ac23b-cb9d-4d20-a785-dc191ac25e75
DTSTART:20260513T190000
DTEND:20260513T210000
DESCRIPTION:
LOCATION:Sator Sanchez Elementary School\, 1101 Harrison Ave\, Joliet\, IL 
 60432\, USA
SUMMARY: Board of School Inspectors Meeting
END:VEVENT
BEGIN:VEVENT
DTSTAMP:20260422T054031Z
UID:81c69414-446e-4ace-a695-9baf4b7e96be
DTSTART:20260515T163000
DTEND:20260515T193000
DESCRIPTION:<p><span>The Joliet Public Schools District 86 Fine Arts Depart
 ment will host a Student Art Show on Friday\, May 15\, 2026 from 4:30-7:30
  p.m. at Dirksen Junior High\, 203 S. Midland Avenue\, and Lynne Thigpen E
 lementary\, 207 S. Midland Avenue in Joliet. The schools will be transform
 ed into an art gallery showcasing over 1\,500 pieces of student from all D
 istrict 86 elementary and junior high schools. The free event is open to t
 he public.</span></p><p><span>&nbsp\;</span></p>
LOCATION:Thigpen and Dirksen
SUMMARY:Joliet District 86 Student Art Show 
END:VEVENT
BEGIN:VEVENT
DTSTAMP:20260422T054031Z
UID:90fe9a43-2dec-4faa-a1e8-9478f6c7e043
DTSTART;VALUE=DATE:20260520
DTEND;VALUE=DATE:20260521
DESCRIPTION:
LOCATION:
SUMMARY:School Improvement Day - Early Release
END:VEVENT
BEGIN:VEVENT
DTSTAMP:20260422T054031Z
UID:c278df75-a9bb-450a-910e-587b04ebcb81
DTSTART;VALUE=DATE:20260525
DTEND;VALUE=DATE:20260526
DESCRIPTION:
LOCATION:
SUMMARY:Memorial Day - No School
END:VEVENT
BEGIN:VEVENT
DTSTAMP:20260422T054031Z
UID:9d98ac87-7d15-4c24-bcf6-052648ba7e0f
DTSTART:20260527T163000
DTEND:20260527T180000
DESCRIPTION:<p><span>Take a tour of A.O. Marshall Elementary School before 
 it closes in June. Enter the main entrance off of Harwood Street.  </span>
 </p>
LOCATION:319 Harwood St\, Joliet\, IL 60432\, USA
SUMMARY:Marshall Community Open House
END:VEVENT
BEGIN:VEVENT
DTSTAMP:20260422T054031Z
UID:55c70509-75ab-4312-9a2b-7512fe516a8b
DTSTART:20260601T080000
DTEND:20260601T090000
DESCRIPTION:<p>Graduation ceremonies will be held for more than 1\,000 Dirk
 sen\, Gompers\, Hufford\, Thompson\, and Washington eighth-grade students.
  Dirksen\, Gompers\, Hufford\, and Washington will host a morning ceremony
  and an afternoon ceremony while Thompson will host a morning ceremony onl
 y. Please call the schools directly for specific times. </p>
LOCATION:Joliet Public School District 86\, IL\, USA
SUMMARY:8th Grade Graduation Ceremonies
END:VEVENT
BEGIN:VEVENT
DTSTAMP:20260422T054031Z
UID:e1af1d97-6f0c-47ad-84f3-961a1504c18b
DTSTART;VALUE=DATE:20260602
DTEND;VALUE=DATE:20260603
DESCRIPTION:
LOCATION:
SUMMARY:End Third Trimester
END:VEVENT
BEGIN:VEVENT
DTSTAMP:20260422T054031Z
UID:63f95bf6-8adc-4706-b730-41d9ecfd9153
DTSTART;VALUE=DATE:20260602
DTEND;VALUE=DATE:20260603
DESCRIPTION:
LOCATION:
SUMMARY:School Improvement Day - Early Release
END:VEVENT
BEGIN:VEVENT
DTSTAMP:20260422T054031Z
UID:cde3e905-b3c6-4079-8c67-7212e5f14716
DTSTART;VALUE=DATE:20260602
DTEND;VALUE=DATE:20260603
DESCRIPTION:
LOCATION:
SUMMARY:Tentative Last Day of School if no Emergency Days Used
END:VEVENT
BEGIN:VEVENT
DTSTAMP:20260422T054031Z
UID:b7af5050-d8ab-4274-bd8e-1a2c47d62811
DTSTART:20260602T100000
DTEND:20260602T110000
DESCRIPTION:<p>A groundbreaking ceremony is scheduled for Tuesday\, June 2\
 , 2026 at 10:00 a.m. at Thomas Jefferson Elementary School\, 2651 Glenwood
  Avenue for the school's new addition. The addition is scheduled to open i
 n time for the 2027-2028 school year. </p>
LOCATION:2651 Glenwood Ave\, Joliet\, IL 60435\, USA
SUMMARY:Thomas Jefferson Addition Groundbreaking
END:VEVENT
BEGIN:VEVENT
DTSTAMP:20260422T054031Z
UID:4b17e184-b1bb-4408-b772-9005beba5070
DTSTART;VALUE=DATE:20260603
DTEND;VALUE=DATE:20260604
DESCRIPTION:
LOCATION:
SUMMARY:Emergency Day (if needed)
END:VEVENT
BEGIN:VEVENT
DTSTAMP:20260422T054031Z
UID:ef0f19ca-4a22-41bf-a2c5-7cbfb2db6550
DTSTART;VALUE=DATE:20260604
DTEND;VALUE=DATE:20260605
DESCRIPTION:
LOCATION:
SUMMARY:Emergency Day (if needed)
END:VEVENT
BEGIN:VEVENT
DTSTAMP:20260422T054031Z
UID:e4832617-bc70-48c5-a07e-ccbaaea1b20f
DTSTART;VALUE=DATE:20260605
DTEND;VALUE=DATE:20260606
DESCRIPTION:
LOCATION:
SUMMARY:Emergency Day (if needed)
END:VEVENT
BEGIN:VEVENT
DTSTAMP:20260422T054031Z
UID:c17bc2a9-c0bf-4f99-ae8a-f7589bb34500
DTSTART;VALUE=DATE:20260608
DTEND;VALUE=DATE:20260609
DESCRIPTION:
LOCATION:
SUMMARY:Emergency Day (if needed)
END:VEVENT
BEGIN:VEVENT
DTSTAMP:20260422T054031Z
UID:965afa4c-0cbb-44d1-9be9-229bf29f2126
DTSTART;VALUE=DATE:20260609
DTEND;VALUE=DATE:20260610
DESCRIPTION:
LOCATION:
SUMMARY:Emergency Day (if needed)
END:VEVENT
BEGIN:VEVENT
DTSTAMP:20260422T054031Z
UID:abfe6c38-a45f-4fc0-a4e1-00da96fad64e
DTSTART:20260610T190000
DTEND:20260610T210000
DESCRIPTION:
LOCATION:Lynne Thigpen Elementary School\, 207 S Midland Ave\, Joliet\, IL 
 60436\, USA
SUMMARY: Board of School Inspectors Meeting
END:VEVENT
BEGIN:VEVENT
DTSTAMP:20260422T054031Z
UID:05a4d069-fb27-44d3-aa95-0b9bc6e57a3a
DTSTART;VALUE=DATE:20260619
DTEND;VALUE=DATE:20260620
DESCRIPTION:
LOCATION:
SUMMARY:Juneteenth Holiday - No School
END:VEVENT
BEGIN:VEVENT
DTSTAMP:20260422T054031Z
UID:2e0d6165-ff5a-41e7-ab11-4291d6e1b6b7
DTSTART;VALUE=DATE:20260703
DTEND;VALUE=DATE:20260704
DESCRIPTION:
LOCATION:
SUMMARY:Independence Day Holiday Observed - No School
END:VEVENT
BEGIN:VEVENT
DTSTAMP:20260422T054031Z
UID:c5d1ef55-37e8-42aa-a2be-67573e2c5e58
DTSTART;VALUE=DATE:20260817
DTEND;VALUE=DATE:20260818
DESCRIPTION:
LOCATION:
SUMMARY:Teacher Institute - No Student Attendance.
END:VEVENT
BEGIN:VEVENT
DTSTAMP:20260422T054031Z
UID:2dac308f-fa17-4484-8584-410efccd0377
DTSTART;VALUE=DATE:20260818
DTEND;VALUE=DATE:20260819
DESCRIPTION:
LOCATION:
SUMMARY:Teacher Institute - No Student Attendance
END:VEVENT
BEGIN:VEVENT
DTSTAMP:20260422T054031Z
UID:4464d4da-6be3-4a95-aeb0-e4d7907f46ed
DTSTART;VALUE=DATE:20260819
DTEND;VALUE=DATE:20260820
DESCRIPTION:
LOCATION:
SUMMARY:First Day of Student Attendance
END:VEVENT
BEGIN:VEVENT
DTSTAMP:20260422T054031Z
UID:6b07a97f-0104-4a7c-be2d-fc4da1e89339
DTSTART;VALUE=DATE:20260907
DTEND;VALUE=DATE:20260908
DESCRIPTION:
LOCATION:
SUMMARY:Labor Day - No School
END:VEVENT
BEGIN:VEVENT
DTSTAMP:20260422T054031Z
UID:852a4c90-3a76-4209-b91d-3c2cd7e4a48c
DTSTART;VALUE=DATE:20260924
DTEND;VALUE=DATE:20260925
DESCRIPTION:
LOCATION:
SUMMARY:School Improvement Day - Early Release
END:VEVENT
BEGIN:VEVENT
DTSTAMP:20260422T054031Z
UID:29bd5c64-c23a-4f21-b343-5a61e21bca94
DTSTART;VALUE=DATE:20261012
DTEND;VALUE=DATE:20261013
DESCRIPTION:
LOCATION:
SUMMARY:Columbus Day - No School
END:VEVENT
BEGIN:VEVENT
DTSTAMP:20260422T054031Z
UID:947dac6b-4bfd-4a18-86c9-d136603ae1fc
DTSTART;VALUE=DATE:20261030
DTEND;VALUE=DATE:20261031
DESCRIPTION:
LOCATION:
SUMMARY:School Improvement Day - Early Release
END:VEVENT
BEGIN:VEVENT
DTSTAMP:20260422T054031Z
UID:b044624c-d687-4ce7-8cfe-c7989683d746
DTSTART;VALUE=DATE:20261111
DTEND;VALUE=DATE:20261112
DESCRIPTION:
LOCATION:
SUMMARY:Veterans Day - No School
END:VEVENT
BEGIN:VEVENT
DTSTAMP:20260422T054031Z
UID:3544de64-310c-4198-91e0-4ce0ced8a197
DTSTART;VALUE=DATE:20261113
DTEND;VALUE=DATE:20261114
DESCRIPTION:
LOCATION:
SUMMARY:End of First Trimester
END:VEVENT
BEGIN:VEVENT
DTSTAMP:20260422T054031Z
UID:bbfe6de1-0ed4-4547-a3ef-3c6a9515b570
DTSTART;VALUE=DATE:20261123
DTEND;VALUE=DATE:20261124
DESCRIPTION:
LOCATION:
SUMMARY:PM Parent/Teacher Conferences
END:VEVENT
BEGIN:VEVENT
DTSTAMP:20260422T054031Z
UID:3b1ec8b0-7676-4c0e-85d4-5b8fe80c9234
DTSTART;VALUE=DATE:20261123
DTEND;VALUE=DATE:20261124
DESCRIPTION:
LOCATION:
SUMMARY:Teacher Institute - No Student Attendance
END:VEVENT
BEGIN:VEVENT
DTSTAMP:20260422T054031Z
UID:6601d4dd-ca63-418a-90ca-a8ecd4228611
DTSTART;VALUE=DATE:20261124
DTEND;VALUE=DATE:20261125
DESCRIPTION:
LOCATION:
SUMMARY:Parent/Teacher Conferences - No Student Attendance
END:VEVENT
BEGIN:VEVENT
DTSTAMP:20260422T054031Z
UID:06a9cbd2-6ddb-4524-8cb9-8e7720ac3276
DTSTART;VALUE=DATE:20261125
DTEND;VALUE=DATE:20261126
DESCRIPTION:
LOCATION:
SUMMARY:No School
END:VEVENT
BEGIN:VEVENT
DTSTAMP:20260422T054031Z
UID:0d80274d-1ad9-4527-89d3-724e813d22fc
DTSTART;VALUE=DATE:20261126
DTEND;VALUE=DATE:20261127
DESCRIPTION:
LOCATION:
SUMMARY:Thanksgiving Day - No School
END:VEVENT
BEGIN:VEVENT
DTSTAMP:20260422T054031Z
UID:a60ffb5f-efe3-4216-a746-fe2e09ce7b9b
DTSTART;VALUE=DATE:20261127
DTEND;VALUE=DATE:20261128
DESCRIPTION:
LOCATION:
SUMMARY:No School
END:VEVENT
BEGIN:VEVENT
DTSTAMP:20260422T054031Z
UID:220dc0c3-3d23-48e6-8371-2a0f3a2823e6
DTSTART;VALUE=DATE:20261221
DTEND;VALUE=DATE:20261222
DESCRIPTION:
LOCATION:
SUMMARY:Winter Break - No School
END:VEVENT
BEGIN:VEVENT
DTSTAMP:20260422T054031Z
UID:63dd770b-d4b3-43c0-b36a-64bde76ca524
DTSTART;VALUE=DATE:20261222
DTEND;VALUE=DATE:20261223
DESCRIPTION:
LOCATION:
SUMMARY:Winter Break - No School
END:VEVENT
BEGIN:VEVENT
DTSTAMP:20260422T054031Z
UID:c1ca84bb-22c4-4b1d-9f44-02d9cf3417d6
DTSTART;VALUE=DATE:20261223
DTEND;VALUE=DATE:20261224
DESCRIPTION:
LOCATION:
SUMMARY:Winter Break - No School
END:VEVENT
BEGIN:VEVENT
DTSTAMP:20260422T054031Z
UID:f18c4a24-efc4-4b36-82aa-2a11edc6caa2
DTSTART;VALUE=DATE:20261224
DTEND;VALUE=DATE:20261225
DESCRIPTION:
LOCATION:
SUMMARY:Winter Break - No School
END:VEVENT
BEGIN:VEVENT
DTSTAMP:20260422T054031Z
UID:19798885-24cc-4bb3-bc8f-d076853da54e
DTSTART;VALUE=DATE:20261225
DTEND;VALUE=DATE:20261226
DESCRIPTION:
LOCATION:
SUMMARY:Christmas Day - No School
END:VEVENT
BEGIN:VEVENT
DTSTAMP:20260422T054031Z
UID:37a211d1-d381-48e1-97e6-fe96592b13b9
DTSTART;VALUE=DATE:20261228
DTEND;VALUE=DATE:20261229
DESCRIPTION:
LOCATION:
SUMMARY:Winter Break - No School
END:VEVENT
BEGIN:VEVENT
DTSTAMP:20260422T054031Z
UID:5ac6ae9d-e189-4082-8d93-1f29bff941f0
DTSTART;VALUE=DATE:20261229
DTEND;VALUE=DATE:20261230
DESCRIPTION:
LOCATION:
SUMMARY:Winter Break - No School
END:VEVENT
BEGIN:VEVENT
DTSTAMP:20260422T054031Z
UID:96a30e8f-7b54-4e7c-b453-0cceac288207
DTSTART;VALUE=DATE:20261230
DTEND;VALUE=DATE:20261231
DESCRIPTION:
LOCATION:
SUMMARY:Winter Break - No School
END:VEVENT
BEGIN:VEVENT
DTSTAMP:20260422T054031Z
UID:4ac2ec95-b64a-4e0c-86ef-0db996a4af6a
DTSTART;VALUE=DATE:20261231
DTEND;VALUE=DATE:20270101
DESCRIPTION:
LOCATION:
SUMMARY:Winter Break - No School
END:VEVENT
BEGIN:VEVENT
DTSTAMP:20260422T054031Z
UID:1e335a3c-48c3-4bf1-82a3-16277153e19a
DTSTART;VALUE=DATE:20270101
DTEND;VALUE=DATE:20270102
DESCRIPTION:
LOCATION:
SUMMARY:New Year's Day - No School
END:VEVENT
BEGIN:VEVENT
DTSTAMP:20260422T054031Z
UID:f4901aef-720b-4edf-8d66-d9fe72d16f80
DTSTART;VALUE=DATE:20270104
DTEND;VALUE=DATE:20270105
DESCRIPTION:
LOCATION:
SUMMARY:Teacher Institute - No Student Attendance
END:VEVENT
BEGIN:VEVENT
DTSTAMP:20260422T054031Z
UID:52388fe9-5746-451b-a214-8e166ab28f10
DTSTART;VALUE=DATE:20270105
DTEND;VALUE=DATE:20270106
DESCRIPTION:
LOCATION:
SUMMARY:Classes Resume
END:VEVENT
BEGIN:VEVENT
DTSTAMP:20260422T054031Z
UID:ea9c1408-1292-4067-ace7-ee761e606fc9
DTSTART;VALUE=DATE:20270118
DTEND;VALUE=DATE:20270119
DESCRIPTION:
LOCATION:
SUMMARY:Martin Luther King Jr. Day - No School
END:VEVENT
BEGIN:VEVENT
DTSTAMP:20260422T054031Z
UID:ea74c86e-664c-4f2e-86dd-2c07a651e89f
DTSTART;VALUE=DATE:20270128
DTEND;VALUE=DATE:20270129
DESCRIPTION:
LOCATION:
SUMMARY:School Improvement Day - Early Release
END:VEVENT
BEGIN:VEVENT
DTSTAMP:20260422T054031Z
UID:df7a38cf-ab9f-4b4f-a285-43d00c03a119
DTSTART;VALUE=DATE:20270215
DTEND;VALUE=DATE:20270216
DESCRIPTION:
LOCATION:
SUMMARY:Presidents' Day - No School
END:VEVENT
BEGIN:VEVENT
DTSTAMP:20260422T054031Z
UID:0f180937-a37a-46b1-b03d-fcc843824bf0
DTSTART;VALUE=DATE:20270225
DTEND;VALUE=DATE:20270226
DESCRIPTION:
LOCATION:
SUMMARY:School Improvement Day - Early Release
END:VEVENT
BEGIN:VEVENT
DTSTAMP:20260422T054031Z
UID:f60a9c75-6105-429e-88d3-be90018297bc
DTSTART;VALUE=DATE:20270226
DTEND;VALUE=DATE:20270227
DESCRIPTION:
LOCATION:
SUMMARY:End of Second Trimester
END:VEVENT
BEGIN:VEVENT
DTSTAMP:20260422T054031Z
UID:4651d537-9182-40dc-86eb-f867587cdfa7
DTSTART;VALUE=DATE:20270301
DTEND;VALUE=DATE:20270302
DESCRIPTION:
LOCATION:
SUMMARY:Casimir Pulaski Day - No School
END:VEVENT
BEGIN:VEVENT
DTSTAMP:20260422T054031Z
UID:bc037195-a16a-441e-b739-970411ad72f4
DTSTART;VALUE=DATE:20270312
DTEND;VALUE=DATE:20270313
DESCRIPTION:
LOCATION:
SUMMARY:Parent/Teacher Conferences - No Student Attendance
END:VEVENT
BEGIN:VEVENT
DTSTAMP:20260422T054031Z
UID:9bee4c71-92dd-4668-bdbb-fbfe92776905
DTSTART;VALUE=DATE:20270326
DTEND;VALUE=DATE:20270327
DESCRIPTION:
LOCATION:
SUMMARY:Spring Break - No School
END:VEVENT
BEGIN:VEVENT
DTSTAMP:20260422T054031Z
UID:dda91cf9-7f10-4ca7-b105-35ec6ce65428
DTSTART;VALUE=DATE:20270329
DTEND;VALUE=DATE:20270330
DESCRIPTION:
LOCATION:
SUMMARY:Spring Break - No School
END:VEVENT
BEGIN:VEVENT
DTSTAMP:20260422T054031Z
UID:936d0443-5828-4286-858f-29bc70bbaa1e
DTSTART;VALUE=DATE:20270330
DTEND;VALUE=DATE:20270331
DESCRIPTION:
LOCATION:
SUMMARY:Spring Break - No School
END:VEVENT
BEGIN:VEVENT
DTSTAMP:20260422T054031Z
UID:4d8ad13d-033d-4979-bfe9-1ef90030e107
DTSTART;VALUE=DATE:20270331
DTEND;VALUE=DATE:20270401
DESCRIPTION:
LOCATION:
SUMMARY:Spring Break - No School
END:VEVENT
BEGIN:VEVENT
DTSTAMP:20260422T054031Z
UID:0542cb14-d742-4bb5-b3d6-1f8250ac6166
DTSTART;VALUE=DATE:20270401
DTEND;VALUE=DATE:20270402
DESCRIPTION:
LOCATION:
SUMMARY:Spring Break - No School
END:VEVENT
BEGIN:VEVENT
DTSTAMP:20260422T054031Z
UID:da91232b-2f14-4c7d-90c1-e4ec73dd5e80
DTSTART;VALUE=DATE:20270402
DTEND;VALUE=DATE:20270403
DESCRIPTION:
LOCATION:
SUMMARY:Spring Break - No School
END:VEVENT
BEGIN:VEVENT
DTSTAMP:20260422T054031Z
UID:f434bd74-ae2f-484b-8c42-15da4f1bdabd
DTSTART;VALUE=DATE:20270405
DTEND;VALUE=DATE:20270406
DESCRIPTION:
LOCATION:
SUMMARY:Classes Resume
END:VEVENT
BEGIN:VEVENT
DTSTAMP:20260422T054031Z
UID:6640d506-4f61-4b2d-bc7c-daf705670910
DTSTART;VALUE=DATE:20270422
DTEND;VALUE=DATE:20270423
DESCRIPTION:
LOCATION:
SUMMARY:School Improvement Day - Early Release
END:VEVENT
BEGIN:VEVENT
DTSTAMP:20260422T054031Z
UID:33621e68-b892-45b9-80e6-53cace495ecc
DTSTART;VALUE=DATE:20270528
DTEND;VALUE=DATE:20270529
DESCRIPTION:
LOCATION:
SUMMARY:End of Third Trimester
END:VEVENT
BEGIN:VEVENT
DTSTAMP:20260422T054031Z
UID:e90da319-283f-432c-91ff-04ea2e0cfbea
DTSTART;VALUE=DATE:20270528
DTEND;VALUE=DATE:20270529
DESCRIPTION:
LOCATION:
SUMMARY:School Improvement Day - Early Release
END:VEVENT
BEGIN:VEVENT
DTSTAMP:20260422T054031Z
UID:e82b6e5e-fca5-435b-afdc-4fbe672dbd34
DTSTART;VALUE=DATE:20270528
DTEND;VALUE=DATE:20270529
DESCRIPTION:
LOCATION:
SUMMARY:Tentative Last Day of School if no Emergency Days Used
END:VEVENT
BEGIN:VEVENT
DTSTAMP:20260422T054031Z
UID:897f1725-8610-4cca-9eb6-cdc77fc6ab4c
DTSTART;VALUE=DATE:20270531
DTEND;VALUE=DATE:20270601
DESCRIPTION:
LOCATION:
SUMMARY:Memorial Day - No School
END:VEVENT
BEGIN:VEVENT
DTSTAMP:20260422T054031Z
UID:4657bfbc-20c8-49fc-aa04-f54d0ed5c2b8
DTSTART;VALUE=DATE:20270601
DTEND;VALUE=DATE:20270602
DESCRIPTION:
LOCATION:
SUMMARY:Emergency Day (if needed)
END:VEVENT
BEGIN:VEVENT
DTSTAMP:20260422T054031Z
UID:a1539026-78a6-4744-94d5-9c2a154ab81b
DTSTART;VALUE=DATE:20270602
DTEND;VALUE=DATE:20270603
DESCRIPTION:
LOCATION:
SUMMARY:Emergency Day (if needed)
END:VEVENT
BEGIN:VEVENT
DTSTAMP:20260422T054031Z
UID:dff7c2a9-00c0-4a73-826b-e5fc09f7ddc1
DTSTART;VALUE=DATE:20270603
DTEND;VALUE=DATE:20270604
DESCRIPTION:
LOCATION:
SUMMARY:Emergency Day (if needed)
END:VEVENT
BEGIN:VEVENT
DTSTAMP:20260422T054031Z
UID:f17eab0c-14a4-4a68-960a-b1f9ee6dd201
DTSTART;VALUE=DATE:20270604
DTEND;VALUE=DATE:20270605
DESCRIPTION:
LOCATION:
SUMMARY:Emergency Day (if needed)
END:VEVENT
BEGIN:VEVENT
DTSTAMP:20260422T054031Z
UID:03f81a1f-2230-4b2f-9790-cd0c9ed619b5
DTSTART;VALUE=DATE:20270607
DTEND;VALUE=DATE:20270608
DESCRIPTION:
LOCATION:
SUMMARY:Emergency Day (if needed)
END:VEVENT
BEGIN:VEVENT
DTSTAMP:20260422T054031Z
UID:bb518af0-b5b7-4200-b2f7-a066b58d680b
DTSTART;VALUE=DATE:20270618
DTEND;VALUE=DATE:20270619
DESCRIPTION:
LOCATION:
SUMMARY:Juneteenth Holiday Observed
END:VEVENT
END:VCALENDAR
