BEGIN:VCALENDAR
VERSION:2.0
PRODID:icalendar-ruby
CALSCALE:GREGORIAN
BEGIN:VTIMEZONE
TZID:America/Chicago
BEGIN:DAYLIGHT
DTSTART:20260308T030000
TZOFFSETFROM:-0600
TZOFFSETTO:-0500
RRULE:FREQ=YEARLY;BYDAY=2SU;BYMONTH=3
TZNAME:CDT
END:DAYLIGHT
BEGIN:STANDARD
DTSTART:20261101T010000
TZOFFSETFROM:-0500
TZOFFSETTO:-0600
RRULE:FREQ=YEARLY;BYDAY=1SU;BYMONTH=11
TZNAME:CST
END:STANDARD
END:VTIMEZONE
BEGIN:VEVENT
DTSTAMP:20260424T173029Z
UID:1fc2fa21-6801-4346-95d9-1d1a3936ab7c
DTSTART:20260424T170000
DTEND:20260424T190000
DESCRIPTION:Come hang out with your friends at our Spring Dance Activity Ni
 ght!  There will be a DJ\, Open Gym & Games!  There will be food for pur
 chase as well.  Admission cost is $3.00 with ID\, $5.00 without ID.  Com
 e join the fun!
LOCATION:Phoenix Middle School\, 414 Beloit St\, Delavan\, WI 53115\, USA
SUMMARY:PX - Spring Dance
END:VEVENT
BEGIN:VEVENT
DTSTAMP:20260424T173029Z
UID:41466b51-448d-497b-ac0e-c0b6b84d5840
DTSTART:20260427T154500
DTEND:20260427T173000
DESCRIPTION:7th &amp\; 8th Grade Track Meet\nPhoenix Middle School vs Fox R
 iver Middle School (Waterford)
LOCATION:Fox River Middle School\, 921 W Main St\, Waterford\, WI 53185\, U
 SA
SUMMARY:PX - Track Meet
END:VEVENT
BEGIN:VEVENT
DTSTAMP:20260424T173029Z
UID:d559e8f5-b47c-4b25-9c09-808704be06f9
DTSTART:20260428T150000
DTEND:20260428T160000
DESCRIPTION:Event: Learning Lab\nRoom:  Cafeteria\nContact Person:  Amber
  Nemetz
LOCATION:Phoenix Middle School\, 414 Beloit St\, Delavan\, WI 53115\, USA
SUMMARY:PX - Learning Lab
END:VEVENT
BEGIN:VEVENT
DTSTAMP:20260424T173029Z
UID:b7b58f15-7352-4ec8-be57-95ddbf9b5cda
DTSTART:20260429T154500
DTEND:20260429T173000
DESCRIPTION:7th &amp\; 8th Grade Track Meet\nElkhorn Area Middle School AT 
 Phoenix Middle School
LOCATION:Phoenix Middle School\, 414 Beloit St\, Delavan\, WI 53115\, USA
SUMMARY:PX - Track Meet
END:VEVENT
BEGIN:VEVENT
DTSTAMP:20260424T173029Z
UID:86f4ae08-467b-4a30-b41f-e8b624bf8aa7
DTSTART:20260430T150000
DTEND:20260430T160000
DESCRIPTION:Event: Learning Lab\nRoom:  Cafeteria\nContact Person:  Amber
  Nemetz
LOCATION:Phoenix Middle School\, 414 Beloit St\, Delavan\, WI 53115\, USA
SUMMARY:PX - Learning Lab
END:VEVENT
BEGIN:VEVENT
DTSTAMP:20260424T173029Z
UID:7c8791cf-b656-4d19-8fc2-a9b34db93ab0
DTSTART:20260430T180000
DTEND:20260430T201500
DESCRIPTION:<u></u>Spring Band Concert: Phoenix Auditorium<br>6:00 pm - 5th
  grade &amp\; 7th grade<br>7:15 pm - 6th grade &amp\; 8th grade<u></u>
LOCATION:Phoenix Middle School\, 414 Beloit St\, Delavan\, WI 53115\, USA
SUMMARY:PX: Band Concert
END:VEVENT
BEGIN:VEVENT
DTSTAMP:20260424T173029Z
UID:c4f0237a-fdf2-4b4d-8ccf-4dde50859187
DTSTART:20260501T090000
DTEND:20260501T140000
DESCRIPTION:
LOCATION:Phoenix Middle School\, 414 Beloit St\, Delavan\, WI 53115\, USA
SUMMARY:PX - Mini Business World
END:VEVENT
BEGIN:VEVENT
DTSTAMP:20260424T173029Z
UID:206fcf33-d627-4304-b4d5-3a4e8714b732
DTSTART;VALUE=DATE:20260504
DTEND;VALUE=DATE:20260509
DESCRIPTION:
LOCATION:
SUMMARY:Teacher & Staff Appreciation Week 
END:VEVENT
BEGIN:VEVENT
DTSTAMP:20260424T173029Z
UID:a3c85ef7-e0a3-4a58-87ab-b8e511b01979
DTSTART:20260504T150000
DTEND:20260504T163000
DESCRIPTION:<u></u><u></u><u></u>5th &amp\; 6th Grade Intramural Volleyball
  Season begins.  Practices are after school until 4:30 PM each day unless 
 there is a scheduled meet.  Season runs May 4-15
LOCATION:Phoenix Middle School\, 414 Beloit St\, Delavan\, WI 53115\, USA
SUMMARY:PX- Intramural Volleyball Season Begins
END:VEVENT
BEGIN:VEVENT
DTSTAMP:20260424T173029Z
UID:4e9bf70f-2796-46c2-bf39-ff2067e0161e
DTSTART:20260505T150000
DTEND:20260505T160000
DESCRIPTION:Event: Learning Lab\nRoom:  Cafeteria\nContact Person:  Amber
  Nemetz
LOCATION:Phoenix Middle School\, 414 Beloit St\, Delavan\, WI 53115\, USA
SUMMARY:PX - Learning Lab
END:VEVENT
BEGIN:VEVENT
DTSTAMP:20260424T173029Z
UID:8e814de4-0cc8-427f-87f0-c1fab516e0b9
DTSTART:20260506T154500
DTEND:20260506T173000
DESCRIPTION:7th &amp\; 8th Grade Track Meet\nPhoenix Middle School AT Lake 
 Geneva Middle School
LOCATION:Lake Geneva Middle School\, 600 N Bloomfield Rd\, Lake Geneva\, WI
  53147\, USA
SUMMARY:PX - Track Meet
END:VEVENT
BEGIN:VEVENT
DTSTAMP:20260424T173029Z
UID:f0f96162-480e-4f37-854c-192483479a23
DTSTART:20260507T150000
DTEND:20260507T160000
DESCRIPTION:Art club Meeting (7th & 8th Graders)\nAdvisor:  Terri Timmerma
 n\nLocation:  Art room\n\nWe meet from 3-4 PM.  Parents are expected to 
 pick up their child by 4:15 PM.
LOCATION:Phoenix Middle School\, 414 Beloit St\, Delavan\, WI 53115\, USA
SUMMARY:PX - Art Club Meeting (Group 2)
END:VEVENT
BEGIN:VEVENT
DTSTAMP:20260424T173029Z
UID:a7c19bbe-aed1-404f-ab41-53e04c7ba6ca
DTSTART:20260507T150000
DTEND:20260507T160000
DESCRIPTION:Event: Learning Lab\nRoom:  Cafeteria\nContact Person:  Amber
  Nemetz
LOCATION:Phoenix Middle School\, 414 Beloit St\, Delavan\, WI 53115\, USA
SUMMARY:PX - Learning Lab
END:VEVENT
BEGIN:VEVENT
DTSTAMP:20260424T173029Z
UID:bc05914d-33a0-45dc-b141-82607f5e4f31
DTSTART:20260511T154500
DTEND:20260511T180000
DESCRIPTION:8th Grade Conference Track Meet\nMultiple Schools AT Elkhorn Ar
 ea Middle School
LOCATION:Elkhorn Area Middle School\, 627 E Court St\, Elkhorn\, WI 53121\,
  USA
SUMMARY:PX - 8th Grade Conference Track Meet
END:VEVENT
BEGIN:VEVENT
DTSTAMP:20260424T173029Z
UID:331b41ed-a216-4125-a1c3-d2690e4ec4d1
DTSTART:20260512T150000
DTEND:20260512T160000
DESCRIPTION:Event: Learning Lab\nRoom:  Cafeteria\nContact Person:  Amber
  Nemetz
LOCATION:Phoenix Middle School\, 414 Beloit St\, Delavan\, WI 53115\, USA
SUMMARY:PX - Learning Lab
END:VEVENT
BEGIN:VEVENT
DTSTAMP:20260424T173029Z
UID:89d3809e-1ea0-4f20-b5c3-161892b6d25a
DTSTART:20260513T154500
DTEND:20260513T180000
DESCRIPTION:7th Grade Conference Track Meet\nMultiple Schools AT Lake Genev
 a Middle School
LOCATION:Lake Geneva Middle School\, 600 N Bloomfield Rd\, Lake Geneva\, WI
  53147\, USA
SUMMARY:PX - 7th Grade Conference Track Meet
END:VEVENT
BEGIN:VEVENT
DTSTAMP:20260424T173029Z
UID:1afcbe26-84ad-4dd5-a476-ce87bacc5927
DTSTART:20260514T150000
DTEND:20260514T160000
DESCRIPTION:Event: Learning Lab\nRoom:  Cafeteria\nContact Person:  Amber
  Nemetz
LOCATION:Phoenix Middle School\, 414 Beloit St\, Delavan\, WI 53115\, USA
SUMMARY:PX - Learning Lab
END:VEVENT
BEGIN:VEVENT
DTSTAMP:20260424T173029Z
UID:21efe321-cd1c-4223-a182-a91463f3b1eb
DTSTART:20260514T180000
DTEND:20260514T201500
DESCRIPTION:Spring Orchestra Concert: Phoenix Gym\n6:00 pm - 4th grade &amp
 \; 7th grade\n7:15 pm - 5th grade\, 6th grade &amp\; 8th grade
LOCATION:Phoenix Middle School\, 414 Beloit St\, Delavan\, WI 53115\, USA
SUMMARY:PX: Orchestra Concert
END:VEVENT
BEGIN:VEVENT
DTSTAMP:20260424T173029Z
UID:35ba95ba-2d61-4296-b8da-bcd59abe123b
DTSTART:20260518T150000
DTEND:20260518T163000
DESCRIPTION:<u></u><u></u><u></u>5th &amp\; 6th Grade Intramural Basketball
  Season begins.  Practices are after school until 4:30 PM each day unless 
 there is a scheduled meet.  Season runs May 18-29
LOCATION:Phoenix Middle School\, 414 Beloit St\, Delavan\, WI 53115\, USA
SUMMARY:PX- Intramural Basketball Season Begins
END:VEVENT
BEGIN:VEVENT
DTSTAMP:20260424T173029Z
UID:7c2084c4-8f8a-4002-8033-75146593b5bd
DTSTART:20260519T111100
DTEND:20260519T123600
DESCRIPTION:Aram Public Library will set up a table near the lunchroom for 
 students to check out during lunch.  This will be like a &quot\;pop-up&qu
 ot\; Library so students can become more aware of what Aram Public Library
  has to offer.
LOCATION:Phoenix Middle School\, 414 Beloit St\, Delavan\, WI 53115\, USA
SUMMARY:PX - Aram Public Library Outreach
END:VEVENT
BEGIN:VEVENT
DTSTAMP:20260424T173029Z
UID:a133b885-fba1-430a-a8c5-718fae32e2f9
DTSTART:20260519T150000
DTEND:20260519T160000
DESCRIPTION:Event: Learning Lab\nRoom:  Cafeteria\nContact Person:  Amber
  Nemetz
LOCATION:Phoenix Middle School\, 414 Beloit St\, Delavan\, WI 53115\, USA
SUMMARY:PX - Learning Lab
END:VEVENT
BEGIN:VEVENT
DTSTAMP:20260424T173029Z
UID:89f7e526-27c8-4a57-b4b5-ba60956539a6
DTSTART:20260519T180000
DTEND:20260519T201500
DESCRIPTION:Spring Choir Concert: Phoenix Auditorium\; Grades 5-8 (No one i
 n the gym)\nGrades 5 &amp\; 6: 6:00 pm\nGrades 7 &amp\; 8: 7:15 pm
LOCATION:Phoenix Middle School\, 414 Beloit St\, Delavan\, WI 53115\, USA
SUMMARY:PX: Choir Concert
END:VEVENT
BEGIN:VEVENT
DTSTAMP:20260424T173029Z
UID:026e75d9-0097-419c-aa6c-704540b6ad64
DTSTART:20260521T150000
DTEND:20260521T160000
DESCRIPTION:Art club Meeting (5th & 6th Grade)\nAdvisor:  Terri Timmerman\
 nLocation:  Art room\n\nWe meet from 3-4 PM.  Parents are expected to pi
 ck up their child by 4:15 PM.
LOCATION:Phoenix Middle School\, 414 Beloit St\, Delavan\, WI 53115\, USA
SUMMARY:PX - Art Club Meeting (Group 1)
END:VEVENT
BEGIN:VEVENT
DTSTAMP:20260424T173029Z
UID:abf90fa3-0cef-4b1c-90f4-fb0b64c8cf40
DTSTART:20260521T150000
DTEND:20260521T160000
DESCRIPTION:Art club Meeting (7th & 8th Graders)\nAdvisor:  Terri Timmerma
 n\nLocation:  Art room\n\nWe meet from 3-4 PM.  Parents are expected to 
 pick up their child by 4:15 PM.
LOCATION:Phoenix Middle School\, 414 Beloit St\, Delavan\, WI 53115\, USA
SUMMARY:PX - Art Club Meeting (Group 2)
END:VEVENT
BEGIN:VEVENT
DTSTAMP:20260424T173029Z
UID:f5be2204-e4e6-45a9-a8ab-243f6fa0e1e2
DTSTART:20260521T150000
DTEND:20260521T160000
DESCRIPTION:Event: Learning Lab\nRoom:  Cafeteria\nContact Person:  Amber
  Nemetz
LOCATION:Phoenix Middle School\, 414 Beloit St\, Delavan\, WI 53115\, USA
SUMMARY:PX - Learning Lab
END:VEVENT
BEGIN:VEVENT
DTSTAMP:20260424T173029Z
UID:506d6545-df9c-4b10-b982-eaa9d3557cb8
DTSTART:20260522T083000
DTEND:20260522T123000
DESCRIPTION:Event: Wisconsin Chamber Orchestra Concert &quot\;Inside the Mi
 nd of the Composer&quot\;\nLocation:  Madison - Capitol Theater\nStudents
 :  5th/6th Grade Orchestra Students\nTeacher:  Jennifer Bayerl
LOCATION:Capitol Theater\, 201 State St\, Madison\, WI 53703\, USA
SUMMARY:PX - 5th/6th Grade Orchestra Field Trip
END:VEVENT
BEGIN:VEVENT
DTSTAMP:20260424T173029Z
UID:f7c520a4-36be-4879-9fa7-c20dc4fe37eb
DTSTART;VALUE=DATE:20260525
DTEND;VALUE=DATE:20260526
DESCRIPTION:
LOCATION:
SUMMARY:No School
END:VEVENT
BEGIN:VEVENT
DTSTAMP:20260424T173029Z
UID:7c0741dd-0141-4212-997b-9c745c71dc1c
DTSTART;VALUE=DATE:20260525
DTEND;VALUE=DATE:20260526
DESCRIPTION:No School for staff or students.  Memorial Day
LOCATION:Phoenix Middle School\, 414 Beloit St\, Delavan\, WI 53115\, USA
SUMMARY:NO SCHOOL:  Memorial Day
END:VEVENT
BEGIN:VEVENT
DTSTAMP:20260424T173029Z
UID:37797ec0-2295-478b-be69-589f21eb014e
DTSTART:20260525T083000
DTEND:20260525T113000
DESCRIPTION:7th &amp\; 8th Grade Band Students will march in the Delavan Me
 morial Day Parade and perform at the service at the Darien Cemetary.
LOCATION:Phoenix Middle School\, 414 Beloit St\, Delavan\, WI 53115\, USA
SUMMARY:PX - Memorial Day Parade
END:VEVENT
BEGIN:VEVENT
DTSTAMP:20260424T173029Z
UID:0f91cd9b-d6ab-4bd5-9ca8-7c7d99668daf
DTSTART:20260527T180000
DTEND:20260527T190000
DESCRIPTION:NJHS Ceremony\nLocation:  Auditorium\nAdvisor:  Kristin Suite
 r
LOCATION:Phoenix Middle School\, 414 Beloit St\, Delavan\, WI 53115\, USA
SUMMARY:PX - NJHS Ceremony
END:VEVENT
BEGIN:VEVENT
DTSTAMP:20260424T173029Z
UID:8df80c6a-7a9d-42d3-ad4d-a2f263a8874f
DTSTART:20260529T121000
DTEND:20260529T134500
DESCRIPTION:Phoenix Jazz Ensemble will have their clinic with guest artist 
 at DDHS.
LOCATION:Delavan-Darien High School\, 150 Cummings St\, Delavan\, WI 53115\
 , USA
SUMMARY:PX: Jazz in the Park Clinc
END:VEVENT
BEGIN:VEVENT
DTSTAMP:20260424T173029Z
UID:5d8c0cca-6c04-48f5-a0a1-f27609eaeaae
DTSTART:20260529T180000
DTEND:20260529T200000
DESCRIPTION:Farewell Dance in the PX Cafeteria for our 8th Graders.
LOCATION:Phoenix Middle School\, 414 Beloit St\, Delavan\, WI 53115\, USA
SUMMARY:PX - 8th Grade Farewell Dance
END:VEVENT
BEGIN:VEVENT
DTSTAMP:20260424T173029Z
UID:be8836b9-170b-449b-9343-3e22953d843c
DTSTART:20260530T150000
DTEND:20260530T180000
DESCRIPTION:Jazz in the Park concert.  Details TBD.
LOCATION:Phoenix Park Bandshell\, 111 E Wisconsin St\, Delavan\, WI 53115\,
  USA
SUMMARY:PX: Jazz in the Park
END:VEVENT
BEGIN:VEVENT
DTSTAMP:20260424T173029Z
UID:ff6d64b5-4615-40e8-9a3e-38946c874932
DTSTART:20260603T180000
DTEND:20260603T190000
DESCRIPTION:Recognition event for our 8th graders. \nLocation:  Phoenix Gy
 mnasium
LOCATION:Phoenix Middle School\, 414 Beloit St\, Delavan\, WI 53115\, USA
SUMMARY:PX: 8th Grade Recognition Night
END:VEVENT
BEGIN:VEVENT
DTSTAMP:20260424T173029Z
UID:b78aa541-e437-4488-b944-8a45aa799612
DTSTART;VALUE=DATE:20260605
DTEND;VALUE=DATE:20260606
DESCRIPTION:
LOCATION:
SUMMARY:Last Day of School
END:VEVENT
BEGIN:VEVENT
DTSTAMP:20260424T173029Z
UID:9ab28e22-490d-4682-8977-a5af67238ff8
DTSTART:20260605T073000
DTEND:20260605T144700
DESCRIPTION:Last Day of School.
LOCATION:Phoenix Middle School\, 414 Beloit St\, Delavan\, WI 53115\, USA
SUMMARY:PX: Last Day of School
END:VEVENT
BEGIN:VEVENT
DTSTAMP:20260424T173029Z
UID:18d6c9a7-13c5-4f61-a8ab-a51708e3af81
DTSTART;VALUE=DATE:20260608
DTEND;VALUE=DATE:20260609
DESCRIPTION:
LOCATION:
SUMMARY:Teacher In-Service Day
END:VEVENT
BEGIN:VEVENT
DTSTAMP:20260424T173029Z
UID:e728499d-f3b3-48ad-8cbf-8522e3e055ce
DTSTART:20260831T150000
DTEND:20260831T180000
DESCRIPTION:
LOCATION:Phoenix Middle School\, 414 Beloit St\, Delavan\, WI 53115\, USA
SUMMARY:PX: Back to School Open House & Picture Night
END:VEVENT
BEGIN:VEVENT
DTSTAMP:20260424T173029Z
UID:ebf5ba0b-d851-482e-9984-d2686e2b9a4d
DTSTART;VALUE=DATE:20260908
DTEND;VALUE=DATE:20260909
DESCRIPTION:
LOCATION:
SUMMARY:First Day of School
END:VEVENT
BEGIN:VEVENT
DTSTAMP:20260424T173029Z
UID:7249773a-2dc5-48b4-86da-66986f21cdea
DTSTART;VALUE=DATE:20261019
DTEND;VALUE=DATE:20261020
DESCRIPTION:
LOCATION:
SUMMARY:No School: Teacher In-Service Day
END:VEVENT
END:VCALENDAR
