BEGIN:VCALENDAR
VERSION:2.0
PRODID:icalendar-ruby
CALSCALE:GREGORIAN
BEGIN:VTIMEZONE
TZID:America/New_York
BEGIN:DAYLIGHT
DTSTART:20260308T030000
TZOFFSETFROM:-0500
TZOFFSETTO:-0400
RRULE:FREQ=YEARLY;BYDAY=2SU;BYMONTH=3
TZNAME:EDT
END:DAYLIGHT
BEGIN:STANDARD
DTSTART:20261101T010000
TZOFFSETFROM:-0400
TZOFFSETTO:-0500
RRULE:FREQ=YEARLY;BYDAY=1SU;BYMONTH=11
TZNAME:EST
END:STANDARD
END:VTIMEZONE
BEGIN:VEVENT
DTSTAMP:20260425T165803Z
UID:eb90b511-c38d-4dee-8554-8e367933ec8a
DTSTART;VALUE=DATE:20260425
DTEND;VALUE=DATE:20260426
DESCRIPTION:
LOCATION:
SUMMARY:Football Fun Day
END:VEVENT
BEGIN:VEVENT
DTSTAMP:20260425T165803Z
UID:4c8a342b-6942-4763-9f17-6c636161f124
DTSTART:20260427T163000
DTEND:20260427T183000
DESCRIPTION:
LOCATION:Transylvania Parks & Recreation\, 1078 Ecusta Rd\, Brevard\, NC 28
 712\, USA
SUMMARY:TCS Steam Expo - TC Recreation Department
END:VEVENT
BEGIN:VEVENT
DTSTAMP:20260425T165803Z
UID:4d5ed457-3210-4068-9cde-e2ebe9784e02
DTSTART:20260427T190000
DTEND:20260427T210000
DESCRIPTION:
LOCATION:Football Field
SUMMARY:Powder Puff Game
END:VEVENT
BEGIN:VEVENT
DTSTAMP:20260425T165803Z
UID:9d1954d3-10cf-4536-a61c-1abbcc9a5e47
DTSTART:20260428T160000
DTEND:20260428T200000
DESCRIPTION:
LOCATION:
SUMMARY:Alumni Hall of Fame
END:VEVENT
BEGIN:VEVENT
DTSTAMP:20260425T165803Z
UID:f7dc91ae-6c22-46b4-8e9b-27273bfdb462
DTSTART:20260428T160000
DTEND:20260428T170000
DESCRIPTION:
LOCATION:
SUMMARY:Varsity SB/BB vs Hayesville
END:VEVENT
BEGIN:VEVENT
DTSTAMP:20260425T165803Z
UID:3040a530-26ff-4a02-b89a-121680176da1
DTSTART:20260429T153000
DTEND:20260429T163000
DESCRIPTION:
LOCATION:
SUMMARY:Track SMC Championship @ Cherokee 
END:VEVENT
BEGIN:VEVENT
DTSTAMP:20260425T165803Z
UID:0575a810-e42e-4e6f-9393-d67bc58fd694
DTSTART:20260430T160000
DTEND:20260430T170000
DESCRIPTION:
LOCATION:
SUMMARY:JV SB/BB vs Hayesville
END:VEVENT
BEGIN:VEVENT
DTSTAMP:20260425T165803Z
UID:383006fd-2512-4b9a-9bc6-42424b1d3485
DTSTART:20260430T160000
DTEND:20260430T170000
DESCRIPTION:
LOCATION:
SUMMARY:Varsity SB/BB @ Hayesville
END:VEVENT
BEGIN:VEVENT
DTSTAMP:20260425T165803Z
UID:45616baa-1f9d-41a1-9c43-cde490095167
DTSTART;VALUE=DATE:20260501
DTEND;VALUE=DATE:20260502
DESCRIPTION:
LOCATION:
SUMMARY:Senior Parade/Signing/Photos
END:VEVENT
BEGIN:VEVENT
DTSTAMP:20260425T165803Z
UID:ad0a427c-d619-4542-bbfa-81760aea3583
DTSTART:20260501T080000
DTEND:20260501T120000
DESCRIPTION:
LOCATION:
SUMMARY:Senior Parade/Pictures and Signing Day
END:VEVENT
BEGIN:VEVENT
DTSTAMP:20260425T165803Z
UID:5683ebfb-07c6-4d5c-bf85-37b98f5c56ef
DTSTART:20260501T110000
DTEND:20260501T120000
DESCRIPTION:
LOCATION:Rosman High School\, 749 Pickens Hwy\, Rosman\, NC 28772\, USA
SUMMARY:Rosman High School Senior Signing Day
END:VEVENT
BEGIN:VEVENT
DTSTAMP:20260425T165803Z
UID:0bb0a814-6f64-4c74-9129-39fd60ca18e8
DTSTART;VALUE=DATE:20260502
DTEND;VALUE=DATE:20260503
DESCRIPTION:
LOCATION:
SUMMARY:RHS Prom
END:VEVENT
BEGIN:VEVENT
DTSTAMP:20260425T165803Z
UID:d4c095a6-d48e-4e5f-ad42-cbb4c4fd2d85
DTSTART:20260505T173000
DTEND:20260505T200000
DESCRIPTION:
LOCATION:
SUMMARY:Legacy Banquet @ Transylvania County Library - Rogow Room
END:VEVENT
BEGIN:VEVENT
DTSTAMP:20260425T165803Z
UID:1a8ec7a8-bb06-4ee5-88ba-78dc043ef3dc
DTSTART:20260507T080000
DTEND:20260507T120000
DESCRIPTION:
LOCATION:
SUMMARY:5th Grade Parent Tour
END:VEVENT
BEGIN:VEVENT
DTSTAMP:20260425T165803Z
UID:dd3b43e7-3b0b-4ca0-96f4-055fea6257ca
DTSTART;VALUE=DATE:20260508
DTEND;VALUE=DATE:20260509
DESCRIPTION:
LOCATION:
SUMMARY:Track Regionals @ Montreat
END:VEVENT
BEGIN:VEVENT
DTSTAMP:20260425T165803Z
UID:0075c337-48ae-4d2e-bb09-64ea52bd9ca6
DTSTART:20260508T080000
DTEND:20260508T150000
DESCRIPTION:
LOCATION:
SUMMARY:Senior Celebration in the Forest
END:VEVENT
BEGIN:VEVENT
DTSTAMP:20260425T165803Z
UID:3e390499-3efa-4be3-b8c3-a347f1393b25
DTSTART;VALUE=DATE:20260512
DTEND;VALUE=DATE:20260513
DESCRIPTION:
LOCATION:
SUMMARY:Track State
END:VEVENT
BEGIN:VEVENT
DTSTAMP:20260425T165803Z
UID:acc2e09e-1196-4188-9283-6e4caf1aeef0
DTSTART;VALUE=DATE:20260514
DTEND;VALUE=DATE:20260515
DESCRIPTION:
LOCATION:
SUMMARY:FREE PHYSICALS
END:VEVENT
BEGIN:VEVENT
DTSTAMP:20260425T165803Z
UID:135dd65a-dada-4ee9-9565-5b2c2e63ee39
DTSTART:20260518T180000
DTEND:20260518T210000
DESCRIPTION:The TCS BOE meetings for the 2025-2026 school year are set for 
 7/21/25\; 8/18/25\; 9/15/25\; 10/20/25\; 11/17/25\; 12/15/25\; Tuesday 1/2
 0/26\; 2/26/26\; 3/23/26 (one week later than normal)\; 4/20/26\; 5/18/26\
 ; and 6/15/26.
LOCATION:MEC-MEC Board Room
SUMMARY:TCBOE Meeting
END:VEVENT
BEGIN:VEVENT
DTSTAMP:20260425T165803Z
UID:6cfb881d-7272-4ea9-bcf6-f9c5cd6834a5
DTSTART:20260521T170000
DTEND:20260521T190000
DESCRIPTION:
LOCATION:
SUMMARY:TC Scholars Awards Banquet @ Brevard High School
END:VEVENT
BEGIN:VEVENT
DTSTAMP:20260425T165803Z
UID:6e85095c-2491-4da6-bcb3-ff5c880c14e7
DTSTART:20260522T080000
DTEND:20260522T150000
DESCRIPTION:
LOCATION:RMHS-RHS Auditorium
SUMMARY:Awards/Yearbook Presentation/Field Day
END:VEVENT
BEGIN:VEVENT
DTSTAMP:20260425T165803Z
UID:93036632-b7d5-4e28-a4fb-3ae22d356393
DTSTART:20260522T093000
DTEND:20260522T113000
DESCRIPTION:
LOCATION:Biltmore Church - Brevard Campus\, 417 Morris Rd\, Brevard\, NC 28
 712\, USA
SUMMARY:Davidson River School Senior Signing Day
END:VEVENT
BEGIN:VEVENT
DTSTAMP:20260425T165803Z
UID:04902166-a819-496d-aa9e-5e0e4c83d91e
DTSTART;VALUE=DATE:20260525
DTEND;VALUE=DATE:20260526
DESCRIPTION:
LOCATION:
SUMMARY:Schools Closed - Holiday
END:VEVENT
BEGIN:VEVENT
DTSTAMP:20260425T165803Z
UID:a0d934a3-c528-4398-8939-62b64f0c5700
DTSTART:20260526T180000
DTEND:20260526T190000
DESCRIPTION:
LOCATION:RMHS-RHS Auditorium
SUMMARY:Scholarship/Senior Awards Program
END:VEVENT
BEGIN:VEVENT
DTSTAMP:20260425T165803Z
UID:c0cfb4e5-be0c-4024-97ae-7dcd9facb9da
DTSTART:20260603T083000
DTEND:20260603T093000
DESCRIPTION:
LOCATION:
SUMMARY:Rosman Elementary School 5th Grade Shield Graduation
END:VEVENT
BEGIN:VEVENT
DTSTAMP:20260425T165803Z
UID:04c3f16a-320b-46ec-8353-eeba95ecec50
DTSTART:20260603T100000
DTEND:20260603T103000
DESCRIPTION:
LOCATION:
SUMMARY:T.C. Henderson 5th Grade Shield Graduation
END:VEVENT
BEGIN:VEVENT
DTSTAMP:20260425T165803Z
UID:f01e2f60-d725-4696-a983-917a6472d168
DTSTART:20260604T130000
DTEND:20260604T150000
DESCRIPTION:
LOCATION:
SUMMARY:Graduation Practice
END:VEVENT
BEGIN:VEVENT
DTSTAMP:20260425T165803Z
UID:0cd40651-58ab-4908-a188-a7fc640c67b4
DTSTART;VALUE=DATE:20260605
DTEND;VALUE=DATE:20260606
DESCRIPTION:
LOCATION:
SUMMARY:Noon Dismissal
END:VEVENT
BEGIN:VEVENT
DTSTAMP:20260425T165803Z
UID:b7cd3ce1-4c0c-443b-bc13-31a1e7b784a8
DTSTART;VALUE=DATE:20260608
DTEND;VALUE=DATE:20260609
DESCRIPTION:
LOCATION:
SUMMARY:Required Teacher Workday
END:VEVENT
BEGIN:VEVENT
DTSTAMP:20260425T165803Z
UID:ae1896e6-6406-4805-b631-72db552baf02
DTSTART;VALUE=DATE:20260609
DTEND;VALUE=DATE:20260610
DESCRIPTION:
LOCATION:
SUMMARY:Required Teacher Workday
END:VEVENT
BEGIN:VEVENT
DTSTAMP:20260425T165803Z
UID:5768a86a-8342-4d5e-8461-6f92fefa2459
DTSTART;VALUE=DATE:20260610
DTEND;VALUE=DATE:20260611
DESCRIPTION:
LOCATION:
SUMMARY:Optional Teacher Workday
END:VEVENT
BEGIN:VEVENT
DTSTAMP:20260425T165803Z
UID:e6df086a-a10f-4a04-b749-e35df8402c63
DTSTART;VALUE=DATE:20260611
DTEND;VALUE=DATE:20260612
DESCRIPTION:
LOCATION:
SUMMARY:Optional Teacher Workday
END:VEVENT
BEGIN:VEVENT
DTSTAMP:20260425T165803Z
UID:215db807-a2b3-4c0d-977c-494c33ee71b0
DTSTART;VALUE=DATE:20260611
DTEND;VALUE=DATE:20260614
DESCRIPTION:
LOCATION:
SUMMARY:Team Football Camp @ Mars Hill
END:VEVENT
BEGIN:VEVENT
DTSTAMP:20260425T165803Z
UID:f6f29623-8bb8-4ccb-b624-91ffbbbcf281
DTSTART;VALUE=DATE:20260612
DTEND;VALUE=DATE:20260613
DESCRIPTION:
LOCATION:
SUMMARY:Optional Teacher Workday
END:VEVENT
BEGIN:VEVENT
DTSTAMP:20260425T165803Z
UID:f40a700c-15f0-4f20-a10c-850a056aa25a
DTSTART:20260615T180000
DTEND:20260615T210000
DESCRIPTION:The TCS BOE meetings for the 2025-2026 school year are set for 
 7/21/25\; 8/18/25\; 9/15/25\; 10/20/25\; 11/17/25\; 12/15/25\; Tuesday 1/2
 0/26\; 2/26/26\; 3/23/26 (one week later than normal)\; 4/20/26\; 5/18/26\
 ; and 6/15/26.
LOCATION:MEC-MEC Board Room
SUMMARY:TCBOE Meeting
END:VEVENT
BEGIN:VEVENT
DTSTAMP:20260425T165803Z
UID:2d3594d6-d0ec-4c65-92c2-4ffec864522b
DTSTART;VALUE=DATE:20260616
DTEND;VALUE=DATE:20260617
DESCRIPTION:
LOCATION:
SUMMARY:Football 7 on 7 @ Enka
END:VEVENT
BEGIN:VEVENT
DTSTAMP:20260425T165803Z
UID:fe00b8a5-daf9-4676-9f30-e4fc5f2190ea
DTSTART;VALUE=DATE:20260618
DTEND;VALUE=DATE:20260619
DESCRIPTION:
LOCATION:
SUMMARY:Football 7on7 @ Chatanooga
END:VEVENT
BEGIN:VEVENT
DTSTAMP:20260425T165803Z
UID:e78546ce-1293-498e-93e2-722791866048
DTSTART;VALUE=DATE:20260619
DTEND;VALUE=DATE:20260620
DESCRIPTION:
LOCATION:
SUMMARY:Central Office/Admin. Closed (Summer Schedule)
END:VEVENT
BEGIN:VEVENT
DTSTAMP:20260425T165803Z
UID:e50e80ec-c07a-499f-b937-663801645c88
DTSTART;VALUE=DATE:20260626
DTEND;VALUE=DATE:20260627
DESCRIPTION:
LOCATION:
SUMMARY:Central Office/Admin. Closed (Summer Schedule)
END:VEVENT
BEGIN:VEVENT
DTSTAMP:20260425T165803Z
UID:808832fa-13a4-4984-ad88-fbe6ffb05838
DTSTART;VALUE=DATE:20260629
DTEND;VALUE=DATE:20260706
DESCRIPTION:
LOCATION:
SUMMARY:SPORTS DEAD PERIOD
END:VEVENT
BEGIN:VEVENT
DTSTAMP:20260425T165803Z
UID:648af960-841d-4450-9d2d-1324ada3f41f
DTSTART;VALUE=DATE:20260702
DTEND;VALUE=DATE:20260703
DESCRIPTION:
LOCATION:
SUMMARY:Central Office/Admin Closed (Independence Day Observed)
END:VEVENT
BEGIN:VEVENT
DTSTAMP:20260425T165803Z
UID:0554040d-cfe8-4d17-8f69-d3bf5600d3b0
DTSTART;VALUE=DATE:20260703
DTEND;VALUE=DATE:20260704
DESCRIPTION:
LOCATION:
SUMMARY:Central Office/Admin. Closed (Summer Schedule)
END:VEVENT
BEGIN:VEVENT
DTSTAMP:20260425T165803Z
UID:7627aa4e-7134-4ea8-ae40-483665ebddc2
DTSTART;VALUE=DATE:20260710
DTEND;VALUE=DATE:20260711
DESCRIPTION:
LOCATION:
SUMMARY:Central Office/Admin. Closed (Summer Schedule)
END:VEVENT
BEGIN:VEVENT
DTSTAMP:20260425T165803Z
UID:6612aacc-ad64-44c6-93d3-e9c63f775185
DTSTART;VALUE=DATE:20260717
DTEND;VALUE=DATE:20260718
DESCRIPTION:
LOCATION:
SUMMARY:Central Office/Admin. Closed (Summer Schedule)
END:VEVENT
BEGIN:VEVENT
DTSTAMP:20260425T165803Z
UID:caf2b430-f3b8-4940-ac1c-fe15ab41474f
DTSTART;VALUE=DATE:20260718
DTEND;VALUE=DATE:20260719
DESCRIPTION:
LOCATION:
SUMMARY:Ambush
END:VEVENT
BEGIN:VEVENT
DTSTAMP:20260425T165803Z
UID:64c1440f-6bd1-4361-9049-4dcb8b5b6273
DTSTART;VALUE=DATE:20260720
DTEND;VALUE=DATE:20260727
DESCRIPTION:
LOCATION:
SUMMARY:SPORTS DEAD PERIOD
END:VEVENT
BEGIN:VEVENT
DTSTAMP:20260425T165803Z
UID:23d488fd-dd0d-4bf9-a7b3-f548d0de7d25
DTSTART;VALUE=DATE:20260724
DTEND;VALUE=DATE:20260725
DESCRIPTION:
LOCATION:
SUMMARY:Central Office/Admin. Closed (Summer Schedule)
END:VEVENT
BEGIN:VEVENT
DTSTAMP:20260425T165803Z
UID:9c75c227-9ee2-4582-ab9e-4042b8dd7c45
DTSTART;VALUE=DATE:20260731
DTEND;VALUE=DATE:20260801
DESCRIPTION:
LOCATION:
SUMMARY:Central Office/Admin. Closed (Summer Schedule)
END:VEVENT
BEGIN:VEVENT
DTSTAMP:20260425T165803Z
UID:969de601-0122-452a-9b1e-2d0363168b75
DTSTART;VALUE=DATE:20260807
DTEND;VALUE=DATE:20260808
DESCRIPTION:
LOCATION:
SUMMARY:Central Office/Admin. Closed (Summer Schedule)
END:VEVENT
BEGIN:VEVENT
DTSTAMP:20260425T165803Z
UID:9b94faee-062f-4b90-a667-14476aa6c4e0
DTSTART;VALUE=DATE:20260814
DTEND;VALUE=DATE:20260815
DESCRIPTION:
LOCATION:
SUMMARY:Central Office/Admin. Closed (Summer Schedule)
END:VEVENT
END:VCALENDAR
