BEGIN:VCALENDAR
VERSION:2.0
PRODID:icalendar-ruby
CALSCALE:GREGORIAN
BEGIN:VTIMEZONE
TZID:America/New_York
BEGIN:DAYLIGHT
DTSTART:20260308T030000
TZOFFSETFROM:-0500
TZOFFSETTO:-0400
RRULE:FREQ=YEARLY;BYDAY=2SU;BYMONTH=3
TZNAME:EDT
END:DAYLIGHT
BEGIN:STANDARD
DTSTART:20261101T010000
TZOFFSETFROM:-0400
TZOFFSETTO:-0500
RRULE:FREQ=YEARLY;BYDAY=1SU;BYMONTH=11
TZNAME:EST
END:STANDARD
END:VTIMEZONE
BEGIN:VEVENT
DTSTAMP:20260419T195838Z
UID:a16fd9c3-013d-48de-aacf-8af0f786c658
DTSTART:20260420T180000
DTEND:20260420T210000
DESCRIPTION:The TCS BOE meetings for the 2025-2026 school year are set for 
 7/21/25\; 8/18/25\; 9/15/25\; 10/20/25\; 11/17/25\; 12/15/25\; Tuesday 1/2
 0/26\; 2/26/26\; 3/23/26 (one week later than normal)\; 4/20/26\; 5/18/26\
 ; and 6/15/26.
LOCATION:MEC-MEC Board Room
SUMMARY:TCBOE Meeting
END:VEVENT
BEGIN:VEVENT
DTSTAMP:20260419T195838Z
UID:6026021e-199e-4f22-8c72-e809bafc02b2
DTSTART:20260424T130000
DTEND:20260424T140000
DESCRIPTION:
LOCATION:Brevard High School\, 609 N Country Club Rd\, Brevard\, NC 28712\,
  USA
SUMMARY:Brevard High School Senior Signing Day
END:VEVENT
BEGIN:VEVENT
DTSTAMP:20260419T195838Z
UID:7bd5bb21-9829-4a55-8028-484eeb181f80
DTSTART:20260427T163000
DTEND:20260427T183000
DESCRIPTION:
LOCATION:Transylvania Parks & Recreation\, 1078 Ecusta Rd\, Brevard\, NC 28
 712\, USA
SUMMARY:TCS Steam Expo - TC Recreation Department
END:VEVENT
BEGIN:VEVENT
DTSTAMP:20260419T195838Z
UID:a7cfbd97-229d-411d-8c0c-7c91fb4e3262
DTSTART:20260430T170000
DTEND:20260430T183000
DESCRIPTION:
LOCATION:
SUMMARY:Title I Night-Transition Night
END:VEVENT
BEGIN:VEVENT
DTSTAMP:20260419T195838Z
UID:308163a2-7f6a-4c4b-b074-ff994bf51219
DTSTART:20260501T110000
DTEND:20260501T120000
DESCRIPTION:
LOCATION:Rosman High School\, 749 Pickens Hwy\, Rosman\, NC 28772\, USA
SUMMARY:Rosman High School Senior Signing Day
END:VEVENT
BEGIN:VEVENT
DTSTAMP:20260419T195838Z
UID:88670a70-402c-4428-a96e-05dbb262aa31
DTSTART;VALUE=DATE:20260504
DTEND;VALUE=DATE:20260509
DESCRIPTION:
LOCATION:
SUMMARY:Teacher Appreciation Week
END:VEVENT
BEGIN:VEVENT
DTSTAMP:20260419T195838Z
UID:4174067f-ef94-452e-ac87-0b4d149da4ec
DTSTART:20260505T173000
DTEND:20260505T200000
DESCRIPTION:
LOCATION:
SUMMARY:Legacy Banquet @ Transylvania County Library - Rogow Room
END:VEVENT
BEGIN:VEVENT
DTSTAMP:20260419T195838Z
UID:861e46a5-5d5b-434e-8436-a465f2b02ff5
DTSTART:20260508T173000
DTEND:20260508T193000
DESCRIPTION:
LOCATION:Transylvania Parks & Recreation\, 1078 Ecusta Rd\, Brevard\, NC 28
 712\, USA
SUMMARY:SHIELD Dance (5th grade)
END:VEVENT
BEGIN:VEVENT
DTSTAMP:20260419T195838Z
UID:55d23a14-88b3-4213-bea4-bebce3b7cac0
DTSTART:20260518T180000
DTEND:20260518T210000
DESCRIPTION:The TCS BOE meetings for the 2025-2026 school year are set for 
 7/21/25\; 8/18/25\; 9/15/25\; 10/20/25\; 11/17/25\; 12/15/25\; Tuesday 1/2
 0/26\; 2/26/26\; 3/23/26 (one week later than normal)\; 4/20/26\; 5/18/26\
 ; and 6/15/26.
LOCATION:MEC-MEC Board Room
SUMMARY:TCBOE Meeting
END:VEVENT
BEGIN:VEVENT
DTSTAMP:20260419T195838Z
UID:282d6324-cb5f-4ec5-a34f-f59161354a97
DTSTART:20260521T170000
DTEND:20260521T190000
DESCRIPTION:
LOCATION:
SUMMARY:TC Scholars Awards Banquet @ Brevard High School
END:VEVENT
BEGIN:VEVENT
DTSTAMP:20260419T195838Z
UID:376324d2-8ec8-4f4e-9ab9-49c2f2404c30
DTSTART;VALUE=DATE:20260522
DTEND;VALUE=DATE:20260523
DESCRIPTION:
LOCATION:
SUMMARY:EOG Reading 
END:VEVENT
BEGIN:VEVENT
DTSTAMP:20260419T195838Z
UID:84b62622-3238-4f62-a2b2-100b6f27226a
DTSTART:20260522T093000
DTEND:20260522T113000
DESCRIPTION:
LOCATION:Biltmore Church - Brevard Campus\, 417 Morris Rd\, Brevard\, NC 28
 712\, USA
SUMMARY:Davidson River School Senior Signing Day
END:VEVENT
BEGIN:VEVENT
DTSTAMP:20260419T195838Z
UID:af16af9d-5f9b-4e14-94f4-d084466fabdd
DTSTART;VALUE=DATE:20260525
DTEND;VALUE=DATE:20260526
DESCRIPTION:
LOCATION:
SUMMARY:Schools Closed - Holiday
END:VEVENT
BEGIN:VEVENT
DTSTAMP:20260419T195838Z
UID:bc3fa17d-2377-4615-9a2e-f790380c834e
DTSTART;VALUE=DATE:20260527
DTEND;VALUE=DATE:20260528
DESCRIPTION:
LOCATION:
SUMMARY:EOG Math
END:VEVENT
BEGIN:VEVENT
DTSTAMP:20260419T195838Z
UID:166ea739-ef68-4631-bc09-42f12a6f8a1a
DTSTART;VALUE=DATE:20260528
DTEND;VALUE=DATE:20260529
DESCRIPTION:
LOCATION:
SUMMARY:EOG Science 
END:VEVENT
BEGIN:VEVENT
DTSTAMP:20260419T195838Z
UID:d31298df-dd7e-473d-859a-a33afd524063
DTSTART;VALUE=DATE:20260604
DTEND;VALUE=DATE:20260605
DESCRIPTION:
LOCATION:
SUMMARY:Field Day
END:VEVENT
BEGIN:VEVENT
DTSTAMP:20260419T195838Z
UID:845fa15f-fbf6-4802-83b4-5150d001753e
DTSTART;VALUE=DATE:20260605
DTEND;VALUE=DATE:20260606
DESCRIPTION:
LOCATION:
SUMMARY:Noon Dismissal
END:VEVENT
BEGIN:VEVENT
DTSTAMP:20260419T195838Z
UID:f55fdf97-425f-46a6-9644-2ba7994cba3c
DTSTART;VALUE=DATE:20260608
DTEND;VALUE=DATE:20260609
DESCRIPTION:
LOCATION:
SUMMARY:Required Teacher Workday
END:VEVENT
BEGIN:VEVENT
DTSTAMP:20260419T195838Z
UID:a8dd2d51-f456-49dc-a95d-e1f85dd0e21a
DTSTART;VALUE=DATE:20260609
DTEND;VALUE=DATE:20260610
DESCRIPTION:
LOCATION:
SUMMARY:Required Teacher Workday
END:VEVENT
BEGIN:VEVENT
DTSTAMP:20260419T195838Z
UID:c4a008a2-2fc6-49be-abb2-4f93428ddf53
DTSTART;VALUE=DATE:20260610
DTEND;VALUE=DATE:20260611
DESCRIPTION:
LOCATION:
SUMMARY:Optional Teacher Workday
END:VEVENT
BEGIN:VEVENT
DTSTAMP:20260419T195838Z
UID:064e14c9-fa2f-46f5-a845-db21f7f64e2d
DTSTART;VALUE=DATE:20260611
DTEND;VALUE=DATE:20260612
DESCRIPTION:
LOCATION:
SUMMARY:Optional Teacher Workday
END:VEVENT
BEGIN:VEVENT
DTSTAMP:20260419T195838Z
UID:c80e62e9-4ad9-4fff-9b6e-846fb56838a7
DTSTART;VALUE=DATE:20260612
DTEND;VALUE=DATE:20260613
DESCRIPTION:
LOCATION:
SUMMARY:Optional Teacher Workday
END:VEVENT
BEGIN:VEVENT
DTSTAMP:20260419T195838Z
UID:816d526c-bd25-49ee-b8e3-0db6e8692327
DTSTART:20260615T180000
DTEND:20260615T210000
DESCRIPTION:The TCS BOE meetings for the 2025-2026 school year are set for 
 7/21/25\; 8/18/25\; 9/15/25\; 10/20/25\; 11/17/25\; 12/15/25\; Tuesday 1/2
 0/26\; 2/26/26\; 3/23/26 (one week later than normal)\; 4/20/26\; 5/18/26\
 ; and 6/15/26.
LOCATION:MEC-MEC Board Room
SUMMARY:TCBOE Meeting
END:VEVENT
END:VCALENDAR
