BEGIN:VCALENDAR
VERSION:2.0
PRODID:icalendar-ruby
CALSCALE:GREGORIAN
BEGIN:VTIMEZONE
TZID:America/New_York
BEGIN:DAYLIGHT
DTSTART:20260308T030000
TZOFFSETFROM:-0500
TZOFFSETTO:-0400
RRULE:FREQ=YEARLY;BYDAY=2SU;BYMONTH=3
TZNAME:EDT
END:DAYLIGHT
BEGIN:STANDARD
DTSTART:20261101T010000
TZOFFSETFROM:-0400
TZOFFSETTO:-0500
RRULE:FREQ=YEARLY;BYDAY=1SU;BYMONTH=11
TZNAME:EST
END:STANDARD
END:VTIMEZONE
BEGIN:VEVENT
DTSTAMP:20260421T102246Z
UID:fb0b260f-3203-4494-a702-abc5c4fed744
DTSTART;VALUE=DATE:20260428
DTEND;VALUE=DATE:20260429
DESCRIPTION:
LOCATION:
SUMMARY:1st Grade to Imagination Lab 9:00-10:45\nKindergarten to Imaginatio
 n Lab 11:45-1:15
END:VEVENT
BEGIN:VEVENT
DTSTAMP:20260421T102246Z
UID:729e0d45-e277-43c1-9d7e-ce0dc2c342b4
DTSTART;VALUE=DATE:20260501
DTEND;VALUE=DATE:20260502
DESCRIPTION:
LOCATION:
SUMMARY:Teacher In-Service (No School for Students)
END:VEVENT
BEGIN:VEVENT
DTSTAMP:20260421T102246Z
UID:331f52fd-d8d6-404c-a718-4f3957dd7ac4
DTSTART;VALUE=DATE:20260505
DTEND;VALUE=DATE:20260506
DESCRIPTION:
LOCATION:
SUMMARY:Teacher Appreciation Week (5/5-5/9)
END:VEVENT
BEGIN:VEVENT
DTSTAMP:20260421T102246Z
UID:36256b14-5be1-4a81-9f06-fd85afef19ef
DTSTART;VALUE=DATE:20260507
DTEND;VALUE=DATE:20260508
DESCRIPTION:
LOCATION:
SUMMARY:2nd Grade to Imagination Lab 9:00-10:45\n4th Grade to Imagination L
 ab 11:30-1:00
END:VEVENT
BEGIN:VEVENT
DTSTAMP:20260421T102246Z
UID:3098ec7c-5a87-44a6-8b2e-7c2449bd6fad
DTSTART;VALUE=DATE:20260507
DTEND;VALUE=DATE:20260508
DESCRIPTION:
LOCATION:
SUMMARY:Lock Down into Fire Evacuation Drill
END:VEVENT
BEGIN:VEVENT
DTSTAMP:20260421T102246Z
UID:dfdb0739-baf9-4120-acf4-5180f40eb220
DTSTART;VALUE=DATE:20260511
DTEND;VALUE=DATE:20260512
DESCRIPTION:
LOCATION:
SUMMARY:IREAD-3 Summer Testing Window (5/11-6/26)
END:VEVENT
BEGIN:VEVENT
DTSTAMP:20260421T102246Z
UID:fe441b6d-ba40-4de9-9353-d53eec04818a
DTSTART;VALUE=DATE:20260514
DTEND;VALUE=DATE:20260515
DESCRIPTION:
LOCATION:
SUMMARY:5th Grade to Imagination Lab 9:00-10:45\n3rd Grade to Imagination L
 ab 12:30-2:15
END:VEVENT
BEGIN:VEVENT
DTSTAMP:20260421T102246Z
UID:368fc666-d712-4de8-a4c7-3eb0b8f926d2
DTSTART:20260514T190000
DTEND:20260514T200000
DESCRIPTION:
LOCATION:
SUMMARY:School Board Meeting @ 7:00 PM
END:VEVENT
BEGIN:VEVENT
DTSTAMP:20260421T102246Z
UID:a49423f7-e493-4735-bf0d-c7349aed3026
DTSTART;VALUE=DATE:20260515
DTEND;VALUE=DATE:20260516
DESCRIPTION:
LOCATION:
SUMMARY:Kindy 500 & 5th Grade Celebration
END:VEVENT
BEGIN:VEVENT
DTSTAMP:20260421T102246Z
UID:a915df95-db0d-42fe-a2a8-d04242d0e8ea
DTSTART;VALUE=DATE:20260518
DTEND;VALUE=DATE:20260519
DESCRIPTION:
LOCATION:
SUMMARY:Field Day
END:VEVENT
BEGIN:VEVENT
DTSTAMP:20260421T102246Z
UID:4470391a-4785-4434-a57c-4ebf19c788f6
DTSTART;VALUE=DATE:20260519
DTEND;VALUE=DATE:20260520
DESCRIPTION:
LOCATION:
SUMMARY:Last Student Day
END:VEVENT
BEGIN:VEVENT
DTSTAMP:20260421T102246Z
UID:dae93e68-984c-4e90-8eab-d6839de827da
DTSTART:20260520T083000
DTEND:20260520T120000
DESCRIPTION:
LOCATION:
SUMMARY:½ Day Teacher In-Service
END:VEVENT
BEGIN:VEVENT
DTSTAMP:20260421T102246Z
UID:3b580df0-8895-4424-8c5d-b73cda270bfc
DTSTART:20260523T110000
DTEND:20260523T130000
DESCRIPTION:
LOCATION:
SUMMARY:Commencement @ 11:00 AM PHS
END:VEVENT
BEGIN:VEVENT
DTSTAMP:20260421T102246Z
UID:eab10506-a0d0-4cec-997e-6e4111e3aecf
DTSTART:20260611T190000
DTEND:20260611T200000
DESCRIPTION:
LOCATION:
SUMMARY:School Board Meeting @ 7:00 PM
END:VEVENT
END:VCALENDAR
