BEGIN:VCALENDAR
VERSION:2.0
PRODID:icalendar-ruby
CALSCALE:GREGORIAN
BEGIN:VTIMEZONE
TZID:America/Denver
BEGIN:DAYLIGHT
DTSTART:20260308T030000
TZOFFSETFROM:-0700
TZOFFSETTO:-0600
RRULE:FREQ=YEARLY;BYDAY=2SU;BYMONTH=3
TZNAME:MDT
END:DAYLIGHT
BEGIN:STANDARD
DTSTART:20261101T010000
TZOFFSETFROM:-0600
TZOFFSETTO:-0700
RRULE:FREQ=YEARLY;BYDAY=1SU;BYMONTH=11
TZNAME:MST
END:STANDARD
END:VTIMEZONE
BEGIN:VEVENT
DTSTAMP:20260425T163800Z
UID:1235e9e2-4684-43da-ae33-49d0a7612f81
DTSTART:20260425T200000
DTEND:20260425T230000
DESCRIPTION:
LOCATION:
SUMMARY:Prom in Fieldhouse
END:VEVENT
BEGIN:VEVENT
DTSTAMP:20260425T163800Z
UID:0d6a133f-c0bd-4f5b-8374-82ddb518f8b8
DTSTART:20260429T180000
DTEND:20260429T193000
DESCRIPTION:
LOCATION:LVHS Auditorium
SUMMARY:NHS Induction Ceremony
END:VEVENT
BEGIN:VEVENT
DTSTAMP:20260425T163800Z
UID:40c469dd-2118-4352-affc-f029e8a808bd
DTSTART:20260504T190000
DTEND:20260504T210000
DESCRIPTION:
LOCATION:
SUMMARY:LVHS Choir Concert in Auditorium
END:VEVENT
BEGIN:VEVENT
DTSTAMP:20260425T163800Z
UID:1bcd9414-e607-4557-8b72-0bcbfe3189b3
DTSTART:20260509T190000
DTEND:20260509T220000
DESCRIPTION:
LOCATION:
SUMMARY:The Dance Academy Recital in Auditorium
END:VEVENT
BEGIN:VEVENT
DTSTAMP:20260425T163800Z
UID:bf29c90e-ad89-4888-93d0-a33429319102
DTSTART:20260518T190000
DTEND:20260518T210000
DESCRIPTION:
LOCATION:
SUMMARY:LMS Choir Concert in Auditorium
END:VEVENT
BEGIN:VEVENT
DTSTAMP:20260425T163800Z
UID:320cd699-3654-469b-a171-70e232c45ebc
DTSTART;VALUE=DATE:20260522
DTEND;VALUE=DATE:20260523
DESCRIPTION:
LOCATION:
SUMMARY:No School
END:VEVENT
BEGIN:VEVENT
DTSTAMP:20260425T163800Z
UID:ae121deb-1000-4f15-9cc7-18b463d353fc
DTSTART;VALUE=DATE:20260525
DTEND;VALUE=DATE:20260526
DESCRIPTION:
LOCATION:
SUMMARY:No School
END:VEVENT
BEGIN:VEVENT
DTSTAMP:20260425T163800Z
UID:687f2310-f86d-454a-a878-38eefffb9173
DTSTART:20260528T070000
DTEND:20260528T090000
DESCRIPTION:
LOCATION:Fieldhouse
SUMMARY:LVHS Senior Awards Breakfast in Fieldhouse
END:VEVENT
BEGIN:VEVENT
DTSTAMP:20260425T163800Z
UID:cfa2adf1-7475-430e-b8e6-79fcc1de45be
DTSTART:20260528T110000
DTEND:20260528T130000
DESCRIPTION:
LOCATION:
SUMMARY:LVHS Senior BBQ at City Park
END:VEVENT
BEGIN:VEVENT
DTSTAMP:20260425T163800Z
UID:275dbe7c-5750-4948-9978-abd11cd04cff
DTSTART:20260531T130000
DTEND:20260531T150000
DESCRIPTION:
LOCATION:
SUMMARY:LVHS Graduation in Fieldhouse
END:VEVENT
BEGIN:VEVENT
DTSTAMP:20260425T163800Z
UID:154434cc-d905-47da-88c0-73896e513b0d
DTSTART;VALUE=DATE:20260604
DTEND;VALUE=DATE:20260605
DESCRIPTION:
LOCATION:
SUMMARY:Last Day of School
END:VEVENT
END:VCALENDAR
