BEGIN:VCALENDAR
VERSION:2.0
PRODID:icalendar-ruby
CALSCALE:GREGORIAN
BEGIN:VTIMEZONE
TZID:America/New_York
BEGIN:DAYLIGHT
DTSTART:20260308T030000
TZOFFSETFROM:-0500
TZOFFSETTO:-0400
RRULE:FREQ=YEARLY;BYDAY=2SU;BYMONTH=3
TZNAME:EDT
END:DAYLIGHT
BEGIN:STANDARD
DTSTART:20261101T010000
TZOFFSETFROM:-0400
TZOFFSETTO:-0500
RRULE:FREQ=YEARLY;BYDAY=1SU;BYMONTH=11
TZNAME:EST
END:STANDARD
END:VTIMEZONE
BEGIN:VEVENT
DTSTAMP:20260419T144148Z
UID:62d091a5-3c59-4deb-a75f-86c25db42f48
DTSTART;VALUE=DATE:20260420
DTEND;VALUE=DATE:20260502
DESCRIPTION:
LOCATION:East Fallowfield
SUMMARY:PSSA Testing Window
END:VEVENT
BEGIN:VEVENT
DTSTAMP:20260419T144148Z
UID:6247d846-525a-496e-8094-70a2a635e95a
DTSTART:20260506T180000
DTEND:20260506T190000
DESCRIPTION:
LOCATION:East Fallowfield
SUMMARY:EF PTO Meeting
END:VEVENT
BEGIN:VEVENT
DTSTAMP:20260419T144148Z
UID:3bfe6818-25eb-45d6-8fc3-8999f13bfdfc
DTSTART;VALUE=DATE:20260512
DTEND;VALUE=DATE:20260513
DESCRIPTION:
LOCATION:East Fallowfield
SUMMARY:EF Tie Dye Day
END:VEVENT
BEGIN:VEVENT
DTSTAMP:20260419T144148Z
UID:cd204ade-df37-49e1-946b-c17112b2d0bd
DTSTART:20260513T173000
DTEND:20260513T190000
DESCRIPTION:
LOCATION:East Fallowfield
SUMMARY:EF Arts Night
END:VEVENT
BEGIN:VEVENT
DTSTAMP:20260419T144148Z
UID:749cccb1-e8a2-40bf-b929-088cc7133974
DTSTART;VALUE=DATE:20260514
DTEND;VALUE=DATE:20260515
DESCRIPTION:
LOCATION:East Fallowfield
SUMMARY:Tie Dye Day (raindate)
END:VEVENT
BEGIN:VEVENT
DTSTAMP:20260419T144148Z
UID:8d4b3317-ca25-47fe-992e-c0aa67bfaf3f
DTSTART:20260518T183000
DTEND:20260518T200000
DESCRIPTION:
LOCATION:TBD
SUMMARY:EF Spring Concert
END:VEVENT
BEGIN:VEVENT
DTSTAMP:20260419T144148Z
UID:e150f2eb-92b9-4bc7-b0bf-f5889c401e7e
DTSTART;VALUE=DATE:20260519
DTEND;VALUE=DATE:20260520
DESCRIPTION:
LOCATION:
SUMMARY:NO SCHOOL- Election Day
END:VEVENT
BEGIN:VEVENT
DTSTAMP:20260419T144148Z
UID:a8d0b857-ccc8-4065-a566-2d2903e27702
DTSTART;VALUE=DATE:20260522
DTEND;VALUE=DATE:20260523
DESCRIPTION:
LOCATION:East Fallowfield
SUMMARY:EF Field Day
END:VEVENT
BEGIN:VEVENT
DTSTAMP:20260419T144148Z
UID:9bf7b778-e8ea-4ff6-bba9-d00f0b21d14c
DTSTART;VALUE=DATE:20260525
DTEND;VALUE=DATE:20260526
DESCRIPTION:
LOCATION:
SUMMARY:NO SCHOOL- Memorial Day
END:VEVENT
BEGIN:VEVENT
DTSTAMP:20260419T144148Z
UID:e48bee5f-ce6c-4dee-99e7-3d51f0290c67
DTSTART;VALUE=DATE:20260529
DTEND;VALUE=DATE:20260530
DESCRIPTION:
LOCATION:East Fallowfield
SUMMARY:EF Field Day (raindate)
END:VEVENT
BEGIN:VEVENT
DTSTAMP:20260419T144148Z
UID:f47f36a4-a1f3-4ff2-9251-5a29668d54dd
DTSTART:20260602T140000
DTEND:20260602T153000
DESCRIPTION:
LOCATION:East Fallowfield
SUMMARY:EF Kindergarten Celebration
END:VEVENT
BEGIN:VEVENT
DTSTAMP:20260419T144148Z
UID:013d45f6-2867-459d-b598-ad5284a50711
DTSTART:20260603T100000
DTEND:20260603T113000
DESCRIPTION:
LOCATION:East Fallowfield
SUMMARY:EF 5th Grade Promotion
END:VEVENT
BEGIN:VEVENT
DTSTAMP:20260419T144148Z
UID:98a9a0c8-29b1-470f-88f3-0a5747ae5b38
DTSTART:20260604T123000
DTEND:20260604T123000
DESCRIPTION:
LOCATION:
SUMMARY:Last Day of School - 12:30 Dismissal
END:VEVENT
END:VCALENDAR
