BEGIN:VCALENDAR
VERSION:2.0
PRODID:icalendar-ruby
CALSCALE:GREGORIAN
BEGIN:VTIMEZONE
TZID:America/New_York
BEGIN:DAYLIGHT
DTSTART:20260308T030000
TZOFFSETFROM:-0500
TZOFFSETTO:-0400
RRULE:FREQ=YEARLY;BYDAY=2SU;BYMONTH=3
TZNAME:EDT
END:DAYLIGHT
BEGIN:STANDARD
DTSTART:20261101T010000
TZOFFSETFROM:-0400
TZOFFSETTO:-0500
RRULE:FREQ=YEARLY;BYDAY=1SU;BYMONTH=11
TZNAME:EST
END:STANDARD
END:VTIMEZONE
BEGIN:VEVENT
DTSTAMP:20260423T103518Z
UID:d606958b-1e42-4c02-8216-8bc9fe92a1ab
DTSTART:20260506T180000
DTEND:20260506T200000
DESCRIPTION:
LOCATION:
SUMMARY:5th Grade Transition Night 
END:VEVENT
BEGIN:VEVENT
DTSTAMP:20260423T103518Z
UID:8782118d-683f-4823-aae4-e938bd1853ef
DTSTART:20260519T173000
DTEND:20260519T183000
DESCRIPTION:
LOCATION:
SUMMARY:Scott PTO Meeting 
END:VEVENT
BEGIN:VEVENT
DTSTAMP:20260423T103518Z
UID:8dba111d-3c0e-4a77-8542-59fe3a0c159a
DTSTART:20260520T180000
DTEND:20260520T200000
DESCRIPTION:
LOCATION:
SUMMARY:Scott 6th Grade Spring Concert
END:VEVENT
BEGIN:VEVENT
DTSTAMP:20260423T103518Z
UID:927ca2a3-0784-4b25-8493-9d350fe395b0
DTSTART:20260521T180000
DTEND:20260521T200000
DESCRIPTION:
LOCATION:
SUMMARY:Scott 7th & 8th Grade Spring Concert 
END:VEVENT
BEGIN:VEVENT
DTSTAMP:20260423T103518Z
UID:24445e3e-01e3-4719-ac7a-5c873b210bd3
DTSTART;VALUE=DATE:20260602
DTEND;VALUE=DATE:20260603
DESCRIPTION:
LOCATION:
SUMMARY:Scott Field Day 
END:VEVENT
BEGIN:VEVENT
DTSTAMP:20260423T103518Z
UID:e0413086-73b2-48f0-a971-8d9d379b2da2
DTSTART;VALUE=DATE:20260603
DTEND;VALUE=DATE:20260604
DESCRIPTION:
LOCATION:
SUMMARY:Scott Field Day - Rain Date 
END:VEVENT
BEGIN:VEVENT
DTSTAMP:20260423T103518Z
UID:caf59103-9223-455c-b796-df09006e8577
DTSTART;VALUE=DATE:20260604
DTEND;VALUE=DATE:20260605
DESCRIPTION:
LOCATION:
SUMMARY:8th Grade Graduation 
END:VEVENT
END:VCALENDAR
