BEGIN:VCALENDAR
VERSION:2.0
PRODID:icalendar-ruby
CALSCALE:GREGORIAN
BEGIN:VTIMEZONE
TZID:America/New_York
BEGIN:DAYLIGHT
DTSTART:20260308T030000
TZOFFSETFROM:-0500
TZOFFSETTO:-0400
RRULE:FREQ=YEARLY;BYDAY=2SU;BYMONTH=3
TZNAME:EDT
END:DAYLIGHT
BEGIN:STANDARD
DTSTART:20261101T010000
TZOFFSETFROM:-0400
TZOFFSETTO:-0500
RRULE:FREQ=YEARLY;BYDAY=1SU;BYMONTH=11
TZNAME:EST
END:STANDARD
END:VTIMEZONE
BEGIN:VEVENT
DTSTAMP:20260420T205229Z
UID:ae443f53-e7db-43b8-bbfc-3a8e6ea6b50d
DTSTART:20260429T180000
DTEND:20260429T190000
DESCRIPTION:
LOCATION:1425 Lincoln Hwy E\, Coatesville\, PA 19320\, USA
SUMMARY:8th Grade Transition Night
END:VEVENT
BEGIN:VEVENT
DTSTAMP:20260420T205229Z
UID:a4e250c8-dfee-4eec-b815-191b9dfbb3de
DTSTART:20260520T183000
DTEND:20260520T193000
DESCRIPTION:
LOCATION:1425 Lincoln Hwy E\, Coatesville\, PA 19320\, USA
SUMMARY:Red Raider Recognition
END:VEVENT
END:VCALENDAR
