BEGIN:VCALENDAR
VERSION:2.0
PRODID:icalendar-ruby
CALSCALE:GREGORIAN
BEGIN:VTIMEZONE
TZID:America/Chicago
BEGIN:DAYLIGHT
DTSTART:20260308T030000
TZOFFSETFROM:-0600
TZOFFSETTO:-0500
RRULE:FREQ=YEARLY;BYDAY=2SU;BYMONTH=3
TZNAME:CDT
END:DAYLIGHT
BEGIN:STANDARD
DTSTART:20261101T010000
TZOFFSETFROM:-0500
TZOFFSETTO:-0600
RRULE:FREQ=YEARLY;BYDAY=1SU;BYMONTH=11
TZNAME:CST
END:STANDARD
END:VTIMEZONE
BEGIN:VEVENT
DTSTAMP:20260423T094648Z
UID:efdea28d-c758-4053-9618-79d0a0467d1c
DTSTART;VALUE=DATE:20260423
DTEND;VALUE=DATE:20260424
DESCRIPTION:
LOCATION:
SUMMARY:Afterschool Professionals' Day
END:VEVENT
BEGIN:VEVENT
DTSTAMP:20260423T094648Z
UID:bb541daf-3667-477f-9c25-aec9f630f5e4
DTSTART;VALUE=DATE:20260423
DTEND;VALUE=DATE:20260424
DESCRIPTION:
LOCATION:
SUMMARY:Administrative Professionals Day
END:VEVENT
BEGIN:VEVENT
DTSTAMP:20260423T094648Z
UID:3a57d0c9-90ee-47dc-a773-ba241b259dec
DTSTART;VALUE=DATE:20260423
DTEND;VALUE=DATE:20260424
DESCRIPTION:
LOCATION:
SUMMARY:PIECHS Awards Day
END:VEVENT
BEGIN:VEVENT
DTSTAMP:20260423T094648Z
UID:b77102a7-53f9-441e-8d28-00b0d87b61e9
DTSTART;VALUE=DATE:20260425
DTEND;VALUE=DATE:20260426
DESCRIPTION:
LOCATION:
SUMMARY:PIECHS PROM
END:VEVENT
BEGIN:VEVENT
DTSTAMP:20260423T094648Z
UID:f17e6eec-d77b-4166-b787-b9ebbcfaff61
DTSTART:20260427T170000
DTEND:20260427T180000
DESCRIPTION:
LOCATION:Port Isabel High School\, 18001 TX-100\, Port Isabel\, TX 78578\, 
 USA
SUMMARY:ACE Spring Photos
END:VEVENT
BEGIN:VEVENT
DTSTAMP:20260423T094648Z
UID:a5838ee9-ba45-4ef2-9164-592eb6ad2bc3
DTSTART;VALUE=DATE:20260428
DTEND;VALUE=DATE:20260429
DESCRIPTION:
LOCATION:
SUMMARY:Bus Driver Appreciation Day
END:VEVENT
BEGIN:VEVENT
DTSTAMP:20260423T094648Z
UID:daedf44d-6355-4880-acfa-964499905006
DTSTART:20260430T160000
DTEND:20260430T170000
DESCRIPTION:
LOCATION:
SUMMARY:JH Chamber Music Festival
END:VEVENT
BEGIN:VEVENT
DTSTAMP:20260423T094648Z
UID:256e5abf-cf94-4bfe-9903-1a9ccdc9cdbf
DTSTART:20260430T180000
DTEND:20260430T190000
DESCRIPTION:
LOCATION:Port Isabel High School\, 18001 TX-100\, Port Isabel\, TX 78578\, 
 USA
SUMMARY:PIECHS Scholarship Night
END:VEVENT
BEGIN:VEVENT
DTSTAMP:20260423T094648Z
UID:adec6d3b-2d6a-4993-b687-758166d145e5
DTSTART;VALUE=DATE:20260501
DTEND;VALUE=DATE:20260502
DESCRIPTION:
LOCATION:
SUMMARY:School Lunch Hero Day
END:VEVENT
BEGIN:VEVENT
DTSTAMP:20260423T094648Z
UID:8f5ec2c8-44a2-4a61-a169-61c88df17ee5
DTSTART;VALUE=DATE:20260501
DTEND;VALUE=DATE:20260502
DESCRIPTION:
LOCATION:
SUMMARY:Decision Day
END:VEVENT
BEGIN:VEVENT
DTSTAMP:20260423T094648Z
UID:9ec15367-197f-4fab-b1d1-8e8bff4a6356
DTSTART;VALUE=DATE:20260501
DTEND;VALUE=DATE:20260502
DESCRIPTION:
LOCATION:
SUMMARY:School Principals' Day
END:VEVENT
BEGIN:VEVENT
DTSTAMP:20260423T094648Z
UID:c11548a0-af83-4d2c-9bed-0e511ceb49a9
DTSTART;VALUE=DATE:20260504
DTEND;VALUE=DATE:20260509
DESCRIPTION:
LOCATION:
SUMMARY:Teacher Appreciation Week
END:VEVENT
BEGIN:VEVENT
DTSTAMP:20260423T094648Z
UID:43e80239-c23d-495e-8d54-8cd1cd785953
DTSTART:20260504T180000
DTEND:20260504T190000
DESCRIPTION:
LOCATION:Port Isabel Event & Cultural Center\, 309 Railroad St\, Port Isabe
 l\, TX 78578\, USA
SUMMARY:PIECHS A/AB Banquet
END:VEVENT
BEGIN:VEVENT
DTSTAMP:20260423T094648Z
UID:4f6b9959-5c31-4460-a2b4-4f39112c6964
DTSTART:20260505T180000
DTEND:20260505T190000
DESCRIPTION:
LOCATION:Port Isabel High School\, 18001 TX-100\, Port Isabel\, TX 78578\, 
 USA
SUMMARY:JH A/AB Banquet
END:VEVENT
BEGIN:VEVENT
DTSTAMP:20260423T094648Z
UID:9a8f9643-04f7-4cd6-ae81-c08361bc1db8
DTSTART;VALUE=DATE:20260506
DTEND;VALUE=DATE:20260507
DESCRIPTION:
LOCATION:
SUMMARY:School Nurse Day
END:VEVENT
BEGIN:VEVENT
DTSTAMP:20260423T094648Z
UID:18fa8547-13ec-44dd-8414-c35536b8fe3e
DTSTART:20260506T180000
DTEND:20260506T190000
DESCRIPTION:
LOCATION:Port Isabel High School\, 18001 TX-100\, Port Isabel\, TX 78578\, 
 USA
SUMMARY:PIJH Induction 
END:VEVENT
BEGIN:VEVENT
DTSTAMP:20260423T094648Z
UID:ba66a746-d3be-4498-a34f-b0b9d570230f
DTSTART:20260507T071500
DTEND:20260507T081500
DESCRIPTION:
LOCATION:Derry Elementary Playground\, 1702 2nd St\, Port Isabel\, TX 78578
 \, USA
SUMMARY:Derry Muffins for Mom
END:VEVENT
BEGIN:VEVENT
DTSTAMP:20260423T094648Z
UID:faad3ed5-c9af-4499-bd77-650e684be2b5
DTSTART:20260507T180000
DTEND:20260507T190000
DESCRIPTION:
LOCATION:Port Isabel High School\, 18001 TX-100\, Port Isabel\, TX 78578\, 
 USA
SUMMARY:PIECHS NHS Induction
END:VEVENT
BEGIN:VEVENT
DTSTAMP:20260423T094648Z
UID:20d0e34f-cba7-42a8-9ea7-987169a7b858
DTSTART;VALUE=DATE:20260508
DTEND;VALUE=DATE:20260509
DESCRIPTION:
LOCATION:
SUMMARY:World Lupus Day-Wear Purple
END:VEVENT
BEGIN:VEVENT
DTSTAMP:20260423T094648Z
UID:7110abea-6403-40aa-a02a-951de5e4fda0
DTSTART:20260508T071500
DTEND:20260508T081500
DESCRIPTION:
LOCATION:Garriga Elementary School\, 200 W Adams St\, Port Isabel\, TX 7857
 8\, USA
SUMMARY:Garriga Muffins for Mom
END:VEVENT
BEGIN:VEVENT
DTSTAMP:20260423T094648Z
UID:c68090ff-3962-42e5-b49f-93c13ff2118d
DTSTART:20260511T180000
DTEND:20260511T190000
DESCRIPTION:
LOCATION:Port Isabel High School\, 18001 TX-100\, Port Isabel\, TX 78578\, 
 USA
SUMMARY:PIECHS Silverbelles Showcase
END:VEVENT
BEGIN:VEVENT
DTSTAMP:20260423T094648Z
UID:5ac0a10d-7116-46da-b8b0-689161ce734e
DTSTART:20260512T180000
DTEND:20260512T190000
DESCRIPTION:
LOCATION:Port Isabel High School\, 18001 TX-100\, Port Isabel\, TX 78578\, 
 USA
SUMMARY:PIECHS Athletic Awards
END:VEVENT
BEGIN:VEVENT
DTSTAMP:20260423T094648Z
UID:40a007ee-c924-4433-8663-624d33264a32
DTSTART:20260514T180000
DTEND:20260514T190000
DESCRIPTION:
LOCATION:Port Isabel High School\, 18001 TX-100\, Port Isabel\, TX 78578\, 
 USA
SUMMARY:Superintendent's Fishing Tournament Scholarship
END:VEVENT
BEGIN:VEVENT
DTSTAMP:20260423T094648Z
UID:c347e575-d9c5-42d5-a41b-e6a99dfc88f8
DTSTART;VALUE=DATE:20260515
DTEND;VALUE=DATE:20260516
DESCRIPTION:
LOCATION:
SUMMARY:ACE Ends
END:VEVENT
BEGIN:VEVENT
DTSTAMP:20260423T094648Z
UID:4585ffed-1ea2-4a17-91e8-0851dbc5b67a
DTSTART:20260515T180000
DTEND:20260515T190000
DESCRIPTION:
LOCATION:
SUMMARY:8th Grade Promotion Ceremony
END:VEVENT
BEGIN:VEVENT
DTSTAMP:20260423T094648Z
UID:9f935e35-d001-4b01-a668-2c47daccce47
DTSTART;VALUE=DATE:20260516
DTEND;VALUE=DATE:20260517
DESCRIPTION:
LOCATION:
SUMMARY:TSC Graduation
END:VEVENT
BEGIN:VEVENT
DTSTAMP:20260423T094648Z
UID:61032892-4025-45d8-b160-b12de4091aa2
DTSTART;VALUE=DATE:20260518
DTEND;VALUE=DATE:20260519
DESCRIPTION:
LOCATION:
SUMMARY:School Speech Pathologist Day
END:VEVENT
BEGIN:VEVENT
DTSTAMP:20260423T094648Z
UID:94059911-14d5-4739-ac05-f09e31ef1e64
DTSTART:20260518T090000
DTEND:20260518T100000
DESCRIPTION:
LOCATION:Derry Elementary School\, 1702 2nd St\, Port Isabel\, TX 78578\, U
 SA
SUMMARY:Kinder Graduation
END:VEVENT
BEGIN:VEVENT
DTSTAMP:20260423T094648Z
UID:dc0e61f1-38c9-4dcf-9ebf-9da4b78d328e
DTSTART:20260519T173000
DTEND:20260519T183000
DESCRIPTION:
LOCATION:Point Isabel Independent School District\, 101 Port Rd\, Port Isab
 el\, TX 78578\, USA
SUMMARY:School Board Meeting
END:VEVENT
BEGIN:VEVENT
DTSTAMP:20260423T094648Z
UID:7a6cab6a-783b-44a6-9b74-b87c7d4feaac
DTSTART:20260520T190000
DTEND:20260520T200000
DESCRIPTION:
LOCATION:Port Isabel Tarpons Stadium\, 47-9800-0030-4010\, 00\, Port Isabel
 \, TX 78578\, USA
SUMMARY:PIECHS Powderpuff Game
END:VEVENT
BEGIN:VEVENT
DTSTAMP:20260423T094648Z
UID:0df30024-510c-4bce-aea7-3793de619aa7
DTSTART;VALUE=DATE:20260522
DTEND;VALUE=DATE:20260523
DESCRIPTION:
LOCATION:
SUMMARY:Last Day of School - Early Release
END:VEVENT
BEGIN:VEVENT
DTSTAMP:20260423T094648Z
UID:db552a63-98d1-4134-8e3f-d27006cd0b91
DTSTART:20260522T190000
DTEND:20260522T200000
DESCRIPTION:
LOCATION:Port Isabel Tarpons Stadium\, 47-9800-0030-4010\, 00\, Port Isabel
 \, TX 78578\, USA
SUMMARY:PIECHS Graduation
END:VEVENT
BEGIN:VEVENT
DTSTAMP:20260423T094648Z
UID:7ce8239f-6bed-415e-9c90-5ea795621220
DTSTART;VALUE=DATE:20260525
DTEND;VALUE=DATE:20260526
DESCRIPTION:
LOCATION:
SUMMARY:PIISD Offices Closed
END:VEVENT
BEGIN:VEVENT
DTSTAMP:20260423T094648Z
UID:8ff6993f-112e-48da-954d-0d8d2ea13dcc
DTSTART;VALUE=DATE:20260526
DTEND;VALUE=DATE:20260527
DESCRIPTION:
LOCATION:
SUMMARY:Professional Development
END:VEVENT
BEGIN:VEVENT
DTSTAMP:20260423T094648Z
UID:bbd14856-70fa-4bc9-a203-a27894726998
DTSTART;VALUE=DATE:20260527
DTEND;VALUE=DATE:20260528
DESCRIPTION:
LOCATION:
SUMMARY:Professional Development
END:VEVENT
BEGIN:VEVENT
DTSTAMP:20260423T094648Z
UID:7148498d-b9df-4273-a71b-ae04c976377e
DTSTART;VALUE=DATE:20260528
DTEND;VALUE=DATE:20260529
DESCRIPTION:
LOCATION:
SUMMARY:Teacher Work Day
END:VEVENT
BEGIN:VEVENT
DTSTAMP:20260423T094648Z
UID:27d2e5bc-5c78-4064-8edc-a2224f1a5de4
DTSTART;VALUE=DATE:20260529
DTEND;VALUE=DATE:20260530
DESCRIPTION:
LOCATION:
SUMMARY:Teacher Work Day
END:VEVENT
BEGIN:VEVENT
DTSTAMP:20260423T094648Z
UID:01f91e3b-c71f-4021-a9de-00456ce32715
DTSTART:20260529T073000
DTEND:20260529T093000
DESCRIPTION:
LOCATION:
SUMMARY:End of Year Breakfast
END:VEVENT
END:VCALENDAR
