BEGIN:VCALENDAR
VERSION:2.0
PRODID:icalendar-ruby
CALSCALE:GREGORIAN
BEGIN:VTIMEZONE
TZID:America/New_York
BEGIN:DAYLIGHT
DTSTART:20260308T030000
TZOFFSETFROM:-0500
TZOFFSETTO:-0400
RRULE:FREQ=YEARLY;BYDAY=2SU;BYMONTH=3
TZNAME:EDT
END:DAYLIGHT
BEGIN:STANDARD
DTSTART:20261101T010000
TZOFFSETFROM:-0400
TZOFFSETTO:-0500
RRULE:FREQ=YEARLY;BYDAY=1SU;BYMONTH=11
TZNAME:EST
END:STANDARD
END:VTIMEZONE
BEGIN:VEVENT
DTSTAMP:20260422T112509Z
UID:ad5a0f73-3209-4db9-97bd-422f487238f8
DTSTART;VALUE=DATE:20260504
DTEND;VALUE=DATE:20260505
DESCRIPTION:
LOCATION:
SUMMARY:ECC Staff Appreciation Week
END:VEVENT
BEGIN:VEVENT
DTSTAMP:20260422T112509Z
UID:70fac402-10ac-4eea-b941-67cacdc19fd2
DTSTART;VALUE=DATE:20260505
DTEND;VALUE=DATE:20260506
DESCRIPTION:
LOCATION:
SUMMARY:ECC Staff Appreciation Week
END:VEVENT
BEGIN:VEVENT
DTSTAMP:20260422T112509Z
UID:3b2fd9fa-3f9c-45ed-842d-d2813e8a9954
DTSTART;VALUE=DATE:20260505
DTEND;VALUE=DATE:20260506
DESCRIPTION:
LOCATION:
SUMMARY:Teacher Inservice - No Students
END:VEVENT
BEGIN:VEVENT
DTSTAMP:20260422T112509Z
UID:173aa21c-00be-45cd-805b-3a3abfd13897
DTSTART;VALUE=DATE:20260506
DTEND;VALUE=DATE:20260507
DESCRIPTION:
LOCATION:
SUMMARY:ECC Staff Appreciation Week
END:VEVENT
BEGIN:VEVENT
DTSTAMP:20260422T112509Z
UID:4c0b8467-f46e-4ab5-aa25-bd68e5fca702
DTSTART;VALUE=DATE:20260507
DTEND;VALUE=DATE:20260508
DESCRIPTION:
LOCATION:
SUMMARY:ECC Staff Appreciation Week
END:VEVENT
BEGIN:VEVENT
DTSTAMP:20260422T112509Z
UID:87f1f22c-508d-496e-86a2-b57721008f20
DTSTART;VALUE=DATE:20260508
DTEND;VALUE=DATE:20260509
DESCRIPTION:
LOCATION:
SUMMARY:ECC Staff Appreciation Week
END:VEVENT
BEGIN:VEVENT
DTSTAMP:20260422T112509Z
UID:aad43b6f-8911-4ab4-b132-3c31f5b2107e
DTSTART;VALUE=DATE:20260513
DTEND;VALUE=DATE:20260514
DESCRIPTION:
LOCATION:
SUMMARY:Kindergarten Celebrations (Time TBD - During School Hours)
END:VEVENT
BEGIN:VEVENT
DTSTAMP:20260422T112509Z
UID:30aa6879-ae28-4b6d-9c4a-1aefe020642e
DTSTART;VALUE=DATE:20260516
DTEND;VALUE=DATE:20260517
DESCRIPTION:
LOCATION:
SUMMARY:ECC Carnival
END:VEVENT
BEGIN:VEVENT
DTSTAMP:20260422T112509Z
UID:e4e9909f-1882-4335-b31e-b219b8395af9
DTSTART;VALUE=DATE:20260521
DTEND;VALUE=DATE:20260522
DESCRIPTION:
LOCATION:
SUMMARY:Last Day of School for Students
END:VEVENT
BEGIN:VEVENT
DTSTAMP:20260422T112509Z
UID:4f91ce88-e926-431d-b5af-6fa14678ae3c
DTSTART;VALUE=DATE:20260522
DTEND;VALUE=DATE:20260523
DESCRIPTION:
LOCATION:
SUMMARY:Teacher Work Day
END:VEVENT
END:VCALENDAR
