BEGIN:VCALENDAR
VERSION:2.0
PRODID:icalendar-ruby
CALSCALE:GREGORIAN
BEGIN:VTIMEZONE
TZID:America/Los_Angeles
BEGIN:DAYLIGHT
DTSTART:20260308T030000
TZOFFSETFROM:-0800
TZOFFSETTO:-0700
RRULE:FREQ=YEARLY;BYDAY=2SU;BYMONTH=3
TZNAME:PDT
END:DAYLIGHT
BEGIN:STANDARD
DTSTART:20261101T010000
TZOFFSETFROM:-0700
TZOFFSETTO:-0800
RRULE:FREQ=YEARLY;BYDAY=1SU;BYMONTH=11
TZNAME:PST
END:STANDARD
END:VTIMEZONE
BEGIN:VEVENT
DTSTAMP:20260423T160429Z
UID:5d6fa49d-9faa-4a5e-b5f0-e92aaff25336
DTSTART:20260427T180000
DTEND:20260427T203000
DESCRIPTION:
LOCATION:Lewisville Campus\, Room C-26\, 406 NW Fifth Ave.\, Battle Ground\
 , WA and Live Video Feed
SUMMARY:School Board Meeting
END:VEVENT
BEGIN:VEVENT
DTSTAMP:20260423T160429Z
UID:0d442e7b-a67a-4811-9d82-5dd9edea2cb2
DTSTART;VALUE=DATE:20260429
DTEND;VALUE=DATE:20260430
DESCRIPTION:Schools will begin an hour late to allow time for teachers to w
 ork together to implement best practices of high-quality instruction. Stud
 ents will be dismissed at the regular time.\n\nThis late start does not ap
 ply to CAM Academy\, River HomeLink or Battle Ground Virtual Academy.
LOCATION:
SUMMARY:Late-start Wednesday at most schools
END:VEVENT
BEGIN:VEVENT
DTSTAMP:20260423T160429Z
UID:87dc915a-8b70-4b80-b60a-35bc969c8754
DTSTART;VALUE=DATE:20260506
DTEND;VALUE=DATE:20260507
DESCRIPTION:Schools will begin an hour late to allow time for teachers to w
 ork together to implement best practices of high-quality instruction. Stud
 ents will be dismissed at the regular time.\n\nThis late start does not ap
 ply to CAM Academy\, River HomeLink or Battle Ground Virtual Academy.
LOCATION:
SUMMARY:Late-start Wednesday at most schools
END:VEVENT
BEGIN:VEVENT
DTSTAMP:20260423T160429Z
UID:a788d6f7-4faf-4973-ba62-09f79a8a2c87
DTSTART:20260511T180000
DTEND:20260511T203000
DESCRIPTION:
LOCATION:Lewisville Campus\, Room C-26\, 406 NW Fifth Ave.\, Battle Ground\
 , WA and Live Video Feed
SUMMARY:School Board Meeting
END:VEVENT
BEGIN:VEVENT
DTSTAMP:20260423T160429Z
UID:9e51b09a-c8ef-4a8f-affa-11edf057b2ca
DTSTART;VALUE=DATE:20260513
DTEND;VALUE=DATE:20260514
DESCRIPTION:Schools will begin an hour late to allow time for teachers to w
 ork together to implement best practices of high-quality instruction. Stud
 ents will be dismissed at the regular time.\n\nThis late start does not ap
 ply to CAM Academy\, River HomeLink or Battle Ground Virtual Academy.
LOCATION:
SUMMARY:Late-start Wednesday at most schools
END:VEVENT
BEGIN:VEVENT
DTSTAMP:20260423T160429Z
UID:3d54064e-da77-4e04-98a9-bdfb09f43e79
DTSTART;VALUE=DATE:20260520
DTEND;VALUE=DATE:20260521
DESCRIPTION:Schools will begin an hour late to allow time for teachers to w
 ork together to implement best practices of high-quality instruction. Stud
 ents will be dismissed at the regular time.\n\nThis late start does not ap
 ply to CAM Academy\, River HomeLink or Battle Ground Virtual Academy.
LOCATION:
SUMMARY:Late-start Wednesday at most schools
END:VEVENT
BEGIN:VEVENT
DTSTAMP:20260423T160429Z
UID:4337ad5b-3e11-49fa-a583-d21e98b1b0dc
DTSTART;VALUE=DATE:20260525
DTEND;VALUE=DATE:20260526
DESCRIPTION:
LOCATION:
SUMMARY:Memorial Day\; no school
END:VEVENT
BEGIN:VEVENT
DTSTAMP:20260423T160429Z
UID:40f5202f-be2a-44b0-8e7d-c8944a99ad72
DTSTART:20260526T180000
DTEND:20260526T203000
DESCRIPTION:
LOCATION:Lewisville Campus\, Room C-26\, 406 NW Fifth Ave.\, Battle Ground\
 , WA and Live Video Feed
SUMMARY:School Board Meeting
END:VEVENT
BEGIN:VEVENT
DTSTAMP:20260423T160429Z
UID:b884ebcc-3eef-48b2-8d55-9358c9e4ba81
DTSTART;VALUE=DATE:20260527
DTEND;VALUE=DATE:20260528
DESCRIPTION:Schools will begin an hour late to allow time for teachers to w
 ork together to implement best practices of high-quality instruction. Stud
 ents will be dismissed at the regular time.\n\nThis late start does not ap
 ply to CAM Academy\, River HomeLink or Battle Ground Virtual Academy.
LOCATION:
SUMMARY:Late-start Wednesday at most schools
END:VEVENT
BEGIN:VEVENT
DTSTAMP:20260423T160429Z
UID:2acd485f-9800-4c51-a704-bcc503697ee4
DTSTART;VALUE=DATE:20260528
DTEND;VALUE=DATE:20260530
DESCRIPTION:Most primary students will go home three hours early on Thursda
 y and Friday\, May 28 and 29\, due to parent-teacher conferences. This doe
 s not apply to River HomeLink\, CAM Academy or Battle Ground Virtual Acade
 my.
LOCATION:
SUMMARY:Early release for grades K-4
END:VEVENT
BEGIN:VEVENT
DTSTAMP:20260423T160429Z
UID:54e4c936-206a-462a-9a44-18ae5811e772
DTSTART:20260603T190000
DTEND:20260603T210000
DESCRIPTION:On Monday\, June 1\, we will make a decision on the location of
  the ceremony based on the forecast and share the information. In the eve
 nt of inclement weather\, River HomeLink’s graduation will be held in Ba
 ttle Ground High School’s main gym. <a href="https://www.battlegroundps
 .org/page/graduation-ceremonies"><u>Please visit the district website</u><
 /a> for additional information on restricted items\, parking and photos wi
 th graduates.
LOCATION:Weather permitting: District Stadium\, 300 W Main St\, Battle Grou
 nd\, WA 98604\, USA
SUMMARY:River HomeLink graduation graduation for class of 2026
END:VEVENT
BEGIN:VEVENT
DTSTAMP:20260423T160429Z
UID:9393854e-e9ee-4f2c-a760-2dbfa9e2f736
DTSTART:20260604T190000
DTEND:20260604T220000
DESCRIPTION:On Monday\, June 1\, we will make a decision on the location of
  the ceremony based on the forecast and share the information. In the eve
 nt of inclement weather\, Battle Ground's graduation will be held in Battl
 e Ground High School’s main gym. <a href="https://www.battlegroundps.or
 g/page/graduation-ceremonies" target="_blank"><u><u>Please visit the distr
 ict website</u></u></a> for additional information on ticketing\, restric
 ted items\, parking and photos with graduates.
LOCATION:Weather permitting: District Stadium\, 300 W Main St\, Battle Grou
 nd\, WA 98604\, USA
SUMMARY:Battle Ground High School graduation graduation for class of 2026
END:VEVENT
BEGIN:VEVENT
DTSTAMP:20260423T160429Z
UID:0096d70e-9bbb-42f2-9b26-35850622163a
DTSTART:20260605T190000
DTEND:20260605T220000
DESCRIPTION:On Monday\, June 1\, we will make a decision on the location of
  the ceremony based on the forecast and share the information. In the eve
 nt of inclement weather\, Prairie's graduation will be held in Battle Grou
 nd High School’s main gym. <a href="https://www.battlegroundps.org/page
 /graduation-ceremonies" target="_blank"><u><u><u>Please visit the district
  website</u></u></u></a> for additional information on ticketing\, restri
 cted items\, parking and photos with graduates.
LOCATION:Weather permitting: District Stadium\, 300 W Main St\, Battle Grou
 nd\, WA 98604\, USA
SUMMARY:Prairie High School graduation graduation for class of 2026
END:VEVENT
BEGIN:VEVENT
DTSTAMP:20260423T160429Z
UID:12d80e20-6331-4538-8f77-a853d36252b7
DTSTART:20260608T160000
DTEND:20260608T173000
DESCRIPTION:
LOCATION:Lewisville Campus\, Room C-26\, 406 NW Fifth Ave.\, Battle Ground\
 , WA and Live Video Feed
SUMMARY:School Board Meeting
END:VEVENT
BEGIN:VEVENT
DTSTAMP:20260423T160429Z
UID:c0a71be1-8662-410b-920a-ace6db1e3077
DTSTART:20260608T190000
DTEND:20260608T210000
DESCRIPTION:<a href="https://www.battlegroundps.org/page/graduation-ceremon
 ies" target="_blank"><u><u><u><u>Please visit the district website</u></u>
 </u></u></a> for information on restricted items and photos with graduate
 s.
LOCATION:Prairie High School\, 11311 NE 119th St\, Vancouver\, WA 98662\, U
 SA
SUMMARY:CAM Academy graduation for class of 2026
END:VEVENT
BEGIN:VEVENT
DTSTAMP:20260423T160429Z
UID:3dcc19c9-d392-40c2-9616-bfe11c209bce
DTSTART;VALUE=DATE:20260609
DTEND;VALUE=DATE:20260611
DESCRIPTION:*Subject to change based on any weather-related closures during
  the school year. \n\nThere are three-hour early releases June 9-10. June
  10 is the last day of school. \n\nRiver HomeLink\, Summit View High Scho
 ol and Battle Ground Virtual Academy have separate schedules.
LOCATION:
SUMMARY:Early release\; last two days of school*
END:VEVENT
BEGIN:VEVENT
DTSTAMP:20260423T160429Z
UID:2a28d46d-a2fe-42ae-91b3-7b432c0465cb
DTSTART:20260609T190000
DTEND:20260609T210000
DESCRIPTION:<a href="https://www.battlegroundps.org/page/graduation-ceremon
 ies" target="_blank"><u><u><u><u><u>Please visit the district website</u><
 /u></u></u></u></a> for information on ticketing\, restricted items and p
 hotos with graduates.
LOCATION:Prairie High School\, 11311 NE 119th St\, Vancouver\, WA 98662\, U
 SA
SUMMARY:Summit View High School graduation for class of 2026
END:VEVENT
BEGIN:VEVENT
DTSTAMP:20260423T160429Z
UID:620cfd9f-8bcf-4aa5-92c4-5ca79ec59753
DTSTART:20260610T190000
DTEND:20260610T210000
DESCRIPTION:<a href="https://www.battlegroundps.org/page/graduation-ceremon
 ies" target="_blank"><u><u><u><u><u><u>Please visit the district website</
 u></u></u></u></u></u></a> for information on ticketing\, restricted item
 s and photos with graduates.
LOCATION:Prairie High School\, 11311 NE 119th St\, Vancouver\, WA 98662\, U
 SA
SUMMARY:Battle Ground Virtual Academy graduation for the class of 2028
END:VEVENT
BEGIN:VEVENT
DTSTAMP:20260423T160429Z
UID:ce17a220-838b-4a56-aa0a-33b83ce950c7
DTSTART;VALUE=DATE:20260611
DTEND;VALUE=DATE:20260613
DESCRIPTION:*May be used to make up days that schools are closed due to wea
 ther.
LOCATION:
SUMMARY:Snow makeup days if needed*
END:VEVENT
BEGIN:VEVENT
DTSTAMP:20260423T160429Z
UID:3c4865a7-5c5d-4d3c-a509-fd954e5a3ddb
DTSTART:20260622T180000
DTEND:20260622T203000
DESCRIPTION:
LOCATION:Lewisville Campus\, Room C-26\, 406 NW Fifth Ave.\, Battle Ground\
 , WA and Live Video Feed
SUMMARY:School Board Meeting
END:VEVENT
BEGIN:VEVENT
DTSTAMP:20260423T160429Z
UID:5dd49a55-21c9-4794-8c45-188c8833969d
DTSTART:20260727T180000
DTEND:20260727T203000
DESCRIPTION:
LOCATION:Lewisville Campus\, Room C-26\, 406 NW Fifth Ave.\, Battle Ground\
 , WA and Live Video Feed
SUMMARY:School Board Meeting
END:VEVENT
BEGIN:VEVENT
DTSTAMP:20260423T160429Z
UID:d41c6b11-2968-4ce7-85c3-91d48ceea000
DTSTART:20260810T180000
DTEND:20260810T203000
DESCRIPTION:
LOCATION:Lewisville Campus\, Room C-26\, 406 NW Fifth Ave.\, Battle Ground\
 , WA and Live Video Feed
SUMMARY:School Board Meeting
END:VEVENT
BEGIN:VEVENT
DTSTAMP:20260423T160429Z
UID:5e05cd24-f04d-4cce-b8e2-6d70e12bece1
DTSTART:20260824T180000
DTEND:20260824T203000
DESCRIPTION:
LOCATION:Lewisville Campus\, Room C-26\, 406 NW Fifth Ave.\, Battle Ground\
 , WA and Live Video Feed
SUMMARY:School Board Meeting
END:VEVENT
BEGIN:VEVENT
DTSTAMP:20260423T160429Z
UID:d305a4e4-b8c8-4a5b-a135-f18accf9a9e5
DTSTART:20260925T180000
DTEND:20260925T200000
DESCRIPTION:
LOCATION:Pleasant Valley Middle School\, 14320 NE 50th Ave\, Vancouver\, WA
  98686\, USA
SUMMARY:Pleasant Valley Schools 50th anniversary celebration
END:VEVENT
END:VCALENDAR
