BEGIN:VCALENDAR
VERSION:2.0
PRODID:icalendar-ruby
CALSCALE:GREGORIAN
BEGIN:VTIMEZONE
TZID:America/New_York
BEGIN:DAYLIGHT
DTSTART:20260308T030000
TZOFFSETFROM:-0500
TZOFFSETTO:-0400
RRULE:FREQ=YEARLY;BYDAY=2SU;BYMONTH=3
TZNAME:EDT
END:DAYLIGHT
BEGIN:STANDARD
DTSTART:20261101T010000
TZOFFSETFROM:-0400
TZOFFSETTO:-0500
RRULE:FREQ=YEARLY;BYDAY=1SU;BYMONTH=11
TZNAME:EST
END:STANDARD
END:VTIMEZONE
BEGIN:VEVENT
DTSTAMP:20260421T144944Z
UID:3ab55546-5f7a-4848-b620-0562c1fbdf01
DTSTART;VALUE=DATE:20260421
DTEND;VALUE=DATE:20260422
DESCRIPTION:
LOCATION:
SUMMARY:Progress Reports Go Home
END:VEVENT
BEGIN:VEVENT
DTSTAMP:20260421T144944Z
UID:c51d95e4-69ed-4710-aa09-92fbf10c5af0
DTSTART:20260421T173000
DTEND:20260421T183000
DESCRIPTION:<html><head><meta http-equiv="Content-Type" content="text/html\
 ; charset=utf-8"></head><body>Working Session begins at 5:30 PM Voting Ses
 sion begins at 6:00 PM.</body></html>
LOCATION:
SUMMARY:Board Working Session & Voting Session
END:VEVENT
BEGIN:VEVENT
DTSTAMP:20260421T144944Z
UID:6f7b380a-83ee-4f15-aa0c-d7e6897e6842
DTSTART;VALUE=DATE:20260518
DTEND;VALUE=DATE:20260519
DESCRIPTION:
LOCATION:
SUMMARY:Last Day for Students – Elementary / End of Fourth Nine Weeks (42
  days 2nd semester = 85)
END:VEVENT
BEGIN:VEVENT
DTSTAMP:20260421T144944Z
UID:f3411866-06e1-4c04-9de0-87065101dcb8
DTSTART;VALUE=DATE:20260519
DTEND;VALUE=DATE:20260520
DESCRIPTION:
LOCATION:
SUMMARY:Election Day – No School Closing Day – Elementary / Staff Work 
 Day – JR-SR
END:VEVENT
BEGIN:VEVENT
DTSTAMP:20260421T144944Z
UID:bc844037-b5dd-4ecf-939b-2aee29ba1718
DTSTART:20260519T173000
DTEND:20260519T183000
DESCRIPTION:<html><head><meta http-equiv="Content-Type" content="text/html\
 ; charset=utf-8"></head><body>Working Session begins at 5:30 PM Voting Ses
 sion begins at 6:00 PM.</body></html>
LOCATION:
SUMMARY:Board Working Session & Voting Session
END:VEVENT
BEGIN:VEVENT
DTSTAMP:20260421T144944Z
UID:2e488d81-b111-4972-96d8-065924bb3ddf
DTSTART;VALUE=DATE:20260520
DTEND;VALUE=DATE:20260521
DESCRIPTION:
LOCATION:
SUMMARY:Staff Work Day – Elementary
END:VEVENT
BEGIN:VEVENT
DTSTAMP:20260421T144944Z
UID:9cc97363-ef76-4616-ab54-04fd10f582f4
DTSTART;VALUE=DATE:20260521
DTEND;VALUE=DATE:20260522
DESCRIPTION:
LOCATION:
SUMMARY:Staff Work Day – Elementary / Report Cards Go Home
END:VEVENT
BEGIN:VEVENT
DTSTAMP:20260421T144944Z
UID:6e6cb374-9510-4de2-bca7-60671b57bc03
DTSTART;VALUE=DATE:20260522
DTEND;VALUE=DATE:20260523
DESCRIPTION:
LOCATION:
SUMMARY:Last Day for Students – JR-SR / End of Fourth Nine Weeks (45 days
  2nd semester = 88)
END:VEVENT
BEGIN:VEVENT
DTSTAMP:20260421T144944Z
UID:4b89a60d-ad2d-4c61-8fdf-b91cbecc851a
DTSTART;VALUE=DATE:20260522
DTEND;VALUE=DATE:20260523
DESCRIPTION:<html><head><meta http-equiv="Content-Type" content="text/html\
 ; charset=utf-8"></head><body>If 1 day of school is missed (Elementary).</
 body></html>
LOCATION:
SUMMARY:Potential Make-Up Day – BES/MES
END:VEVENT
BEGIN:VEVENT
DTSTAMP:20260421T144944Z
UID:7d82fca5-8a1d-4e3e-acc1-8f577f854d5d
DTSTART;VALUE=DATE:20260525
DTEND;VALUE=DATE:20260526
DESCRIPTION:
LOCATION:
SUMMARY:Memorial Day
END:VEVENT
BEGIN:VEVENT
DTSTAMP:20260421T144944Z
UID:0ee1428a-b31d-4c26-b64d-bca6128773a9
DTSTART;VALUE=DATE:20260526
DTEND;VALUE=DATE:20260527
DESCRIPTION:
LOCATION:
SUMMARY:Closing Day – JR-SR / Report Cards Go Home
END:VEVENT
BEGIN:VEVENT
DTSTAMP:20260421T144944Z
UID:64194e45-9bbe-4962-a19a-e65601572b42
DTSTART;VALUE=DATE:20260526
DTEND;VALUE=DATE:20260527
DESCRIPTION:<html><head><meta http-equiv="Content-Type" content="text/html\
 ; charset=utf-8"></head><body>If 2 days of school are missed (Elementary).
 </body></html>
LOCATION:
SUMMARY:Potential Make-Up Day – BES/MES
END:VEVENT
BEGIN:VEVENT
DTSTAMP:20260421T144944Z
UID:6b4ceedf-93bd-48da-aae4-5a9ad23477f2
DTSTART;VALUE=DATE:20260527
DTEND;VALUE=DATE:20260528
DESCRIPTION:<html><head><meta http-equiv="Content-Type" content="text/html\
 ; charset=utf-8"></head><body>If 3 days of school are missed (Elementary).
 </body></html>
LOCATION:
SUMMARY:Potential Make-Up Day – BES/MES
END:VEVENT
BEGIN:VEVENT
DTSTAMP:20260421T144944Z
UID:13bbee15-f913-463c-9b65-120cfbf3735e
DTSTART;VALUE=DATE:20260527
DTEND;VALUE=DATE:20260528
DESCRIPTION:<html><head><meta http-equiv="Content-Type" content="text/html\
 ; charset=utf-8"></head><body>If 1 day of school is missed (JR/SR).</body>
 </html>
LOCATION:
SUMMARY:Potential Make-Up Day – JR-SR High
END:VEVENT
BEGIN:VEVENT
DTSTAMP:20260421T144944Z
UID:c6620406-197e-424a-ae84-30bdb605e400
DTSTART;VALUE=DATE:20260528
DTEND;VALUE=DATE:20260529
DESCRIPTION:<html><head><meta http-equiv="Content-Type" content="text/html\
 ; charset=utf-8"></head><body>If 2 days of school are missed (JR/SR).</bod
 y></html>
LOCATION:
SUMMARY:Potential Make-Up Day – JR-SR High
END:VEVENT
BEGIN:VEVENT
DTSTAMP:20260421T144944Z
UID:de3222df-716e-41d0-96db-f9ce85e36da1
DTSTART;VALUE=DATE:20260529
DTEND;VALUE=DATE:20260530
DESCRIPTION:<html><head><meta http-equiv="Content-Type" content="text/html\
 ; charset=utf-8"></head><body>If 3 days of school are missed (JR/SR).</bod
 y></html>
LOCATION:
SUMMARY:Potential Make-Up Day – JR-SR High
END:VEVENT
BEGIN:VEVENT
DTSTAMP:20260421T144944Z
UID:4140934a-175c-4ad8-a61f-c6cec2ed2cb5
DTSTART:20260616T173000
DTEND:20260616T183000
DESCRIPTION:<html><head><meta http-equiv="Content-Type" content="text/html\
 ; charset=utf-8"></head><body>Working Session begins at 5:30 PM Voting Ses
 sion begins at 6:00 PM.</body></html>
LOCATION:
SUMMARY:Board Working Session & Voting Session
END:VEVENT
BEGIN:VEVENT
DTSTAMP:20260421T144944Z
UID:b2f102e5-350d-4f0e-8d4c-06bd50b9c802
DTSTART:20260721T173000
DTEND:20260721T183000
DESCRIPTION:<html><head><meta http-equiv="Content-Type" content="text/html\
 ; charset=utf-8"></head><body>Working Session begins at 5:30 PM Voting Ses
 sion begins at 6:00 PM.</body></html>
LOCATION:
SUMMARY:Board Working Session & Voting Session
END:VEVENT
BEGIN:VEVENT
DTSTAMP:20260421T144944Z
UID:ab42b32e-1c20-475b-8c48-8d107e7c2375
DTSTART:20260811T173000
DTEND:20260811T183000
DESCRIPTION:<html><head><meta http-equiv="Content-Type" content="text/html\
 ; charset=utf-8"></head><body>Working Session begins at 5:30 PM Voting Ses
 sion begins at 6:00 PM.</body></html>
LOCATION:
SUMMARY:Board Working Session & Voting Session
END:VEVENT
BEGIN:VEVENT
DTSTAMP:20260421T144944Z
UID:3e9499ec-a871-4ddc-89f4-f8531e1ae831
DTSTART:20260825T173000
DTEND:20260825T183000
DESCRIPTION:<html><head><meta http-equiv="Content-Type" content="text/html\
 ; charset=utf-8"></head><body>Working Session begins at 5:30 PM Voting Ses
 sion begins at 6:00 PM.</body></html>
LOCATION:
SUMMARY:Board Tax Hearing
END:VEVENT
BEGIN:VEVENT
DTSTAMP:20260421T144944Z
UID:a645967a-ceb4-49b0-9218-c4e75261539e
DTSTART:20260825T173000
DTEND:20260825T183000
DESCRIPTION:<html><head><meta http-equiv="Content-Type" content="text/html\
 ; charset=utf-8"></head><body>Working Session begins at 5:30 PM Voting Ses
 sion begins at 6:00 PM.</body></html>
LOCATION:
SUMMARY:Board Tax Hearing
END:VEVENT
BEGIN:VEVENT
DTSTAMP:20260421T144944Z
UID:2697533b-8b78-44cf-8ef3-24078d022b05
DTSTART:20260915T173000
DTEND:20260915T183000
DESCRIPTION:<html><head><meta http-equiv="Content-Type" content="text/html\
 ; charset=utf-8"></head><body>Working Session begins at 5:30 PM Voting Ses
 sion begins at 6:00 PM.</body></html>
LOCATION:
SUMMARY:Board Working Session & Voting Session
END:VEVENT
BEGIN:VEVENT
DTSTAMP:20260421T144944Z
UID:84047282-d9ea-4412-911e-11c854e014f1
DTSTART:20261020T173000
DTEND:20261020T183000
DESCRIPTION:<html><head><meta http-equiv="Content-Type" content="text/html\
 ; charset=utf-8"></head><body>Working Session begins at 5:30 PM Voting Ses
 sion begins at 6:00 PM.</body></html>
LOCATION:
SUMMARY:Board Working Session & Voting Session
END:VEVENT
BEGIN:VEVENT
DTSTAMP:20260421T144944Z
UID:59e14fd4-82ee-4e8a-b39f-3a47ec60445f
DTSTART:20261117T173000
DTEND:20261117T183000
DESCRIPTION:<html><head><meta http-equiv="Content-Type" content="text/html\
 ; charset=utf-8"></head><body>Working Session begins at 5:30 PM Voting Ses
 sion begins at 6:00 PM.</body></html>
LOCATION:
SUMMARY:Board Working Session & Voting Session
END:VEVENT
END:VCALENDAR
