BEGIN:VCALENDAR
VERSION:2.0
PRODID:icalendar-ruby
CALSCALE:GREGORIAN
BEGIN:VTIMEZONE
TZID:America/New_York
BEGIN:DAYLIGHT
DTSTART:20260308T030000
TZOFFSETFROM:-0500
TZOFFSETTO:-0400
RRULE:FREQ=YEARLY;BYDAY=2SU;BYMONTH=3
TZNAME:EDT
END:DAYLIGHT
BEGIN:STANDARD
DTSTART:20261101T010000
TZOFFSETFROM:-0400
TZOFFSETTO:-0500
RRULE:FREQ=YEARLY;BYDAY=1SU;BYMONTH=11
TZNAME:EST
END:STANDARD
END:VTIMEZONE
BEGIN:VEVENT
DTSTAMP:20260423T085037Z
UID:6d1d5bdf-d24d-44e0-976a-8ff75eab22ac
DTSTART:20260518T180000
DTEND:20260518T190000
DESCRIPTION:
LOCATION:
SUMMARY:Special School Board meeting
END:VEVENT
BEGIN:VEVENT
DTSTAMP:20260423T085037Z
UID:bc4c1b4b-fcda-4baf-96aa-7cea34b68420
DTSTART:20260518T190000
DTEND:20260518T203000
DESCRIPTION:
LOCATION:
SUMMARY:School Board meeting
END:VEVENT
BEGIN:VEVENT
DTSTAMP:20260423T085037Z
UID:cacc9d50-bb28-45cd-adb6-9f94d6ef58f9
DTSTART;VALUE=DATE:20260525
DTEND;VALUE=DATE:20260526
DESCRIPTION:
LOCATION:
SUMMARY:No School - Memorial Day
END:VEVENT
BEGIN:VEVENT
DTSTAMP:20260423T085037Z
UID:2ea1f574-9bf6-4008-a406-0f489aaf3cf3
DTSTART:20260529T180000
DTEND:20260529T193000
DESCRIPTION:
LOCATION:
SUMMARY:High School Graduation
END:VEVENT
BEGIN:VEVENT
DTSTAMP:20260423T085037Z
UID:33e6ad28-4f00-4ffb-a660-a222414a89e9
DTSTART;VALUE=DATE:20260603
DTEND;VALUE=DATE:20260604
DESCRIPTION:
LOCATION:
SUMMARY:Half Day for Students
END:VEVENT
BEGIN:VEVENT
DTSTAMP:20260423T085037Z
UID:2c6ed9a9-6b48-447b-a95e-f54e71bb91e6
DTSTART;VALUE=DATE:20260603
DTEND;VALUE=DATE:20260604
DESCRIPTION:
LOCATION:
SUMMARY:High School Exams
END:VEVENT
BEGIN:VEVENT
DTSTAMP:20260423T085037Z
UID:6845604c-6dbf-46d5-abfd-1315778a0797
DTSTART;VALUE=DATE:20260604
DTEND;VALUE=DATE:20260605
DESCRIPTION:
LOCATION:
SUMMARY:Half Day for Students
END:VEVENT
BEGIN:VEVENT
DTSTAMP:20260423T085037Z
UID:0b06b610-a0a8-49ea-9e14-cf34fa971b2f
DTSTART;VALUE=DATE:20260604
DTEND;VALUE=DATE:20260605
DESCRIPTION:
LOCATION:
SUMMARY:High School Exams
END:VEVENT
BEGIN:VEVENT
DTSTAMP:20260423T085037Z
UID:ec4c9f65-9dbf-4b28-ac54-a6745d00f37e
DTSTART;VALUE=DATE:20260604
DTEND;VALUE=DATE:20260605
DESCRIPTION:
LOCATION:
SUMMARY:Last Day of School!!
END:VEVENT
BEGIN:VEVENT
DTSTAMP:20260423T085037Z
UID:4d2cb622-d577-4fbe-af3a-e9d0239a2e93
DTSTART:20260615T190000
DTEND:20260615T203000
DESCRIPTION:
LOCATION:
SUMMARY:School Board meeting
END:VEVENT
BEGIN:VEVENT
DTSTAMP:20260423T085037Z
UID:d07da1c0-fc8c-4823-847d-cbbbea606c16
DTSTART:20260720T190000
DTEND:20260720T203000
DESCRIPTION:
LOCATION:
SUMMARY:School Board meeting
END:VEVENT
BEGIN:VEVENT
DTSTAMP:20260423T085037Z
UID:1e955b13-dd61-4148-a020-5d4d9616c08e
DTSTART:20260817T180000
DTEND:20260817T190000
DESCRIPTION:
LOCATION:
SUMMARY:Special School Board meeting
END:VEVENT
BEGIN:VEVENT
DTSTAMP:20260423T085037Z
UID:dcceab16-3b06-4d36-9d4b-d00c6253a153
DTSTART:20260817T190000
DTEND:20260817T203000
DESCRIPTION:
LOCATION:
SUMMARY:School Board meeting
END:VEVENT
BEGIN:VEVENT
DTSTAMP:20260423T085037Z
UID:0015be16-5c5d-427a-b23d-b6655464921d
DTSTART;VALUE=DATE:20260818
DTEND;VALUE=DATE:20260819
DESCRIPTION:
LOCATION:
SUMMARY:Teacher Professional Development
END:VEVENT
BEGIN:VEVENT
DTSTAMP:20260423T085037Z
UID:8c467cd6-ace9-4051-b9a0-1c5880cc9135
DTSTART;VALUE=DATE:20260820
DTEND;VALUE=DATE:20260821
DESCRIPTION:
LOCATION:
SUMMARY:All staff reports
END:VEVENT
BEGIN:VEVENT
DTSTAMP:20260423T085037Z
UID:149dfb49-46ef-430a-b700-6068c30ba482
DTSTART;VALUE=DATE:20260824
DTEND;VALUE=DATE:20260825
DESCRIPTION:
LOCATION:
SUMMARY:1st day of school - FULL day
END:VEVENT
BEGIN:VEVENT
DTSTAMP:20260423T085037Z
UID:fdc3f0d8-43e4-4271-8951-bd63eb58d893
DTSTART;VALUE=DATE:20260904
DTEND;VALUE=DATE:20260905
DESCRIPTION:
LOCATION:
SUMMARY:No School - Labor Day recess
END:VEVENT
BEGIN:VEVENT
DTSTAMP:20260423T085037Z
UID:65ccab92-1ac7-4b57-bab1-c993607e15b4
DTSTART;VALUE=DATE:20260907
DTEND;VALUE=DATE:20260908
DESCRIPTION:
LOCATION:
SUMMARY:No School - Labor Day recess
END:VEVENT
BEGIN:VEVENT
DTSTAMP:20260423T085037Z
UID:31e56453-870d-4ba1-b0de-2c6e3be88506
DTSTART:20260921T190000
DTEND:20260921T203000
DESCRIPTION:
LOCATION:
SUMMARY:School Board meeting
END:VEVENT
BEGIN:VEVENT
DTSTAMP:20260423T085037Z
UID:e848348c-f435-4ec3-81c7-7157bd7bc1a4
DTSTART:20261006T160000
DTEND:20261006T190000
DESCRIPTION:
LOCATION:
SUMMARY:Parent / Teacher Conferences (HS\, MS\, & LAAC)
END:VEVENT
BEGIN:VEVENT
DTSTAMP:20260423T085037Z
UID:2a34cc14-94d0-4dc9-95d6-f6a97c021ac3
DTSTART:20261006T163000
DTEND:20261006T200000
DESCRIPTION:
LOCATION:
SUMMARY:Parent / Teacher Conferences (Elem.)
END:VEVENT
BEGIN:VEVENT
DTSTAMP:20260423T085037Z
UID:69542b18-098c-4a5d-b55e-ec247c4f7461
DTSTART:20261007T160000
DTEND:20261007T190000
DESCRIPTION:
LOCATION:
SUMMARY:Parent / Teacher Conferences (HS & MS)
END:VEVENT
BEGIN:VEVENT
DTSTAMP:20260423T085037Z
UID:727866b0-dbb8-4f0f-86da-61a4a7e5288f
DTSTART:20261007T163000
DTEND:20261007T200000
DESCRIPTION:
LOCATION:
SUMMARY:Parent / Teacher Conferences (Elem.)
END:VEVENT
BEGIN:VEVENT
DTSTAMP:20260423T085037Z
UID:642bea0e-d8cf-43af-963e-0287a0e55918
DTSTART;VALUE=DATE:20261009
DTEND;VALUE=DATE:20261010
DESCRIPTION:
LOCATION:
SUMMARY:Fall Break - No School
END:VEVENT
BEGIN:VEVENT
DTSTAMP:20260423T085037Z
UID:78a74edd-0b9e-48e2-8ad1-46a9fd8c1689
DTSTART;VALUE=DATE:20261012
DTEND;VALUE=DATE:20261013
DESCRIPTION:
LOCATION:
SUMMARY:No School for Students (Teacher P.D.)
END:VEVENT
BEGIN:VEVENT
DTSTAMP:20260423T085037Z
UID:e3bcd703-89d1-4622-a457-f59baf369c77
DTSTART:20261019T190000
DTEND:20261019T203000
DESCRIPTION:
LOCATION:
SUMMARY:School Board meeting
END:VEVENT
BEGIN:VEVENT
DTSTAMP:20260423T085037Z
UID:028194b1-9b5b-4207-a340-05d3e7025758
DTSTART;VALUE=DATE:20261112
DTEND;VALUE=DATE:20261113
DESCRIPTION:
LOCATION:
SUMMARY:HS Exams - Full day of school
END:VEVENT
BEGIN:VEVENT
DTSTAMP:20260423T085037Z
UID:88a4bca1-9941-4a26-8acf-93d448b79b20
DTSTART;VALUE=DATE:20261113
DTEND;VALUE=DATE:20261114
DESCRIPTION:
LOCATION:
SUMMARY:HS Exams - Half day for students
END:VEVENT
BEGIN:VEVENT
DTSTAMP:20260423T085037Z
UID:081696d3-3bbe-4514-a598-9ad5a9bb52d4
DTSTART;VALUE=DATE:20261116
DTEND;VALUE=DATE:20261117
DESCRIPTION:
LOCATION:
SUMMARY:Start of 2nd trimester
END:VEVENT
BEGIN:VEVENT
DTSTAMP:20260423T085037Z
UID:10902574-43b3-4973-9f9e-ef4022b83099
DTSTART:20261116T180000
DTEND:20261116T190000
DESCRIPTION:
LOCATION:
SUMMARY:Special School Board meeting
END:VEVENT
BEGIN:VEVENT
DTSTAMP:20260423T085037Z
UID:26c3ff3e-08a3-4865-bea6-1850246cb690
DTSTART:20261116T190000
DTEND:20261116T203000
DESCRIPTION:
LOCATION:
SUMMARY:School Board meeting
END:VEVENT
BEGIN:VEVENT
DTSTAMP:20260423T085037Z
UID:b0dbf1de-9254-4f1a-b0ed-036296df7e83
DTSTART;VALUE=DATE:20261125
DTEND;VALUE=DATE:20261128
DESCRIPTION:
LOCATION:
SUMMARY:Thanksgiving Recess - No School
END:VEVENT
BEGIN:VEVENT
DTSTAMP:20260423T085037Z
UID:782a144c-06a9-4f9c-b434-a344b4051927
DTSTART:20261201T150000
DTEND:20261201T180000
DESCRIPTION:
LOCATION:
SUMMARY:Parent / Teacher Conferences (LAAC)
END:VEVENT
BEGIN:VEVENT
DTSTAMP:20260423T085037Z
UID:e32319f5-97a6-48c2-a2cf-13fd28c76bdc
DTSTART;VALUE=DATE:20261221
DTEND;VALUE=DATE:20270102
DESCRIPTION:
LOCATION:
SUMMARY:Christmas Break - No School
END:VEVENT
BEGIN:VEVENT
DTSTAMP:20260423T085037Z
UID:abe7b633-3b94-4fa4-8d2a-545b8886c250
DTSTART:20261221T190000
DTEND:20261221T203000
DESCRIPTION:
LOCATION:
SUMMARY:School Board meeting
END:VEVENT
BEGIN:VEVENT
DTSTAMP:20260423T085037Z
UID:b8959719-4de2-44a0-9dd5-08508be3f83b
DTSTART;VALUE=DATE:20270104
DTEND;VALUE=DATE:20270105
DESCRIPTION:
LOCATION:
SUMMARY:Classes resume
END:VEVENT
BEGIN:VEVENT
DTSTAMP:20260423T085037Z
UID:564f4b06-339d-4b31-a9da-7b13f1d54d04
DTSTART:20270111T184500
DTEND:20270111T190000
DESCRIPTION:
LOCATION:
SUMMARY:Organizational School Board meeting
END:VEVENT
BEGIN:VEVENT
DTSTAMP:20260423T085037Z
UID:7b30748c-f1ec-4b6f-a875-814045ea15aa
DTSTART:20270111T190000
DTEND:20270111T203000
DESCRIPTION:
LOCATION:
SUMMARY:School Board meeting
END:VEVENT
BEGIN:VEVENT
DTSTAMP:20260423T085037Z
UID:69fa40fe-c81c-4630-afcb-cae01b1b5965
DTSTART:20270114T160000
DTEND:20270114T190000
DESCRIPTION:
LOCATION:
SUMMARY:Parent / Teacher Conferences (HS & MS)
END:VEVENT
BEGIN:VEVENT
DTSTAMP:20260423T085037Z
UID:c33de113-08dd-49c5-a8fa-6d8091fb822d
DTSTART;VALUE=DATE:20270115
DTEND;VALUE=DATE:20270116
DESCRIPTION:
LOCATION:
SUMMARY:Half Day for Students
END:VEVENT
BEGIN:VEVENT
DTSTAMP:20260423T085037Z
UID:83ce2de8-efe4-4452-8f4f-14d45b494c6e
DTSTART:20270115T130000
DTEND:20270115T150000
DESCRIPTION:
LOCATION:
SUMMARY:Elem. at-risk conferences
END:VEVENT
BEGIN:VEVENT
DTSTAMP:20260423T085037Z
UID:34ae3005-391a-4928-859a-d367546723e4
DTSTART:20270115T130000
DTEND:20270115T150000
DESCRIPTION:
LOCATION:
SUMMARY:Parent / Teacher Conferences (HS\, MS\, & LAAC)
END:VEVENT
BEGIN:VEVENT
DTSTAMP:20260423T085037Z
UID:2c65d367-f0a9-4fa1-bc9f-7c90b34ca8fc
DTSTART;VALUE=DATE:20270118
DTEND;VALUE=DATE:20270119
DESCRIPTION:
LOCATION:
SUMMARY:No School for Students (Teacher P.D.)
END:VEVENT
BEGIN:VEVENT
DTSTAMP:20260423T085037Z
UID:469672e2-3ad5-4ff3-a18f-a85d9be3f8f4
DTSTART;VALUE=DATE:20270212
DTEND;VALUE=DATE:20270213
DESCRIPTION:
LOCATION:
SUMMARY:No School for Students (Teacher P.D.)
END:VEVENT
BEGIN:VEVENT
DTSTAMP:20260423T085037Z
UID:aa4a6a8e-d874-41e2-a5ef-4a2a06d6f4f7
DTSTART;VALUE=DATE:20270215
DTEND;VALUE=DATE:20270216
DESCRIPTION:
LOCATION:
SUMMARY:Mid-Winter Break - No School
END:VEVENT
BEGIN:VEVENT
DTSTAMP:20260423T085037Z
UID:b9ad4c48-9af8-48f5-86f1-9e8febdfd60b
DTSTART;VALUE=DATE:20270303
DTEND;VALUE=DATE:20270304
DESCRIPTION:
LOCATION:
SUMMARY:HS Exams - Full day of school
END:VEVENT
BEGIN:VEVENT
DTSTAMP:20260423T085037Z
UID:0a15eae6-b1c0-4fb9-9987-ec9f979cac67
DTSTART;VALUE=DATE:20270304
DTEND;VALUE=DATE:20270305
DESCRIPTION:
LOCATION:
SUMMARY:Half Day for Students
END:VEVENT
BEGIN:VEVENT
DTSTAMP:20260423T085037Z
UID:8c30ea02-1a2f-4c55-bf5f-aab93f3dd2b8
DTSTART;VALUE=DATE:20270304
DTEND;VALUE=DATE:20270305
DESCRIPTION:
LOCATION:
SUMMARY:HS Exams
END:VEVENT
BEGIN:VEVENT
DTSTAMP:20260423T085037Z
UID:f1f00315-0b5e-4c39-a969-e0a105c8bdf4
DTSTART;VALUE=DATE:20270305
DTEND;VALUE=DATE:20270306
DESCRIPTION:
LOCATION:
SUMMARY:No School for Students (Teacher P.D.)
END:VEVENT
BEGIN:VEVENT
DTSTAMP:20260423T085037Z
UID:1a10b906-1dcd-4b0a-ba0d-48af504eb8ab
DTSTART;VALUE=DATE:20270308
DTEND;VALUE=DATE:20270309
DESCRIPTION:
LOCATION:
SUMMARY:Start of 3rd trimester
END:VEVENT
BEGIN:VEVENT
DTSTAMP:20260423T085037Z
UID:0aec88e0-7c33-4a4e-8679-2894165706a7
DTSTART:20270316T150000
DTEND:20270316T180000
DESCRIPTION:
LOCATION:
SUMMARY:Parent / Teacher Conferences (LAAC)
END:VEVENT
BEGIN:VEVENT
DTSTAMP:20260423T085037Z
UID:7eeefff9-c224-4255-b113-926d1479178d
DTSTART:20270316T163000
DTEND:20270316T200000
DESCRIPTION:
LOCATION:
SUMMARY:Parent / Teacher Conferences (Elem.)
END:VEVENT
BEGIN:VEVENT
DTSTAMP:20260423T085037Z
UID:010495db-bf0d-45b6-9d8f-0956f0d27bb0
DTSTART:20270318T163000
DTEND:20270318T200000
DESCRIPTION:
LOCATION:
SUMMARY:Parent / Teacher Conferences (Elem.)
END:VEVENT
BEGIN:VEVENT
DTSTAMP:20260423T085037Z
UID:91de0b2a-8676-45dd-b31d-554bcc861149
DTSTART;VALUE=DATE:20270326
DTEND;VALUE=DATE:20270403
DESCRIPTION:
LOCATION:
SUMMARY:Spring Break - No School
END:VEVENT
BEGIN:VEVENT
DTSTAMP:20260423T085037Z
UID:41c432f5-569d-46be-b546-63b4e1c30887
DTSTART;VALUE=DATE:20270406
DTEND;VALUE=DATE:20270407
DESCRIPTION:
LOCATION:
SUMMARY:State assessments begin (tentative)
END:VEVENT
BEGIN:VEVENT
DTSTAMP:20260423T085037Z
UID:1c552b5a-61ac-4a1a-8fee-85221ebfc65c
DTSTART:20270415T160000
DTEND:20270415T190000
DESCRIPTION:
LOCATION:
SUMMARY:Parent / Teacher Conferences (HS\, MS\, & LAAC)
END:VEVENT
BEGIN:VEVENT
DTSTAMP:20260423T085037Z
UID:85d4f2ca-36b5-48d5-afad-11245f2731f4
DTSTART;VALUE=DATE:20270416
DTEND;VALUE=DATE:20270417
DESCRIPTION:
LOCATION:
SUMMARY:Half Day for Students
END:VEVENT
BEGIN:VEVENT
DTSTAMP:20260423T085037Z
UID:86e822e6-6f8a-4137-b33e-8e0830e88a12
DTSTART:20270416T130000
DTEND:20270416T150000
DESCRIPTION:
LOCATION:
SUMMARY:Parent / Teacher Conferences (HS\, MS\, & LAAC)
END:VEVENT
BEGIN:VEVENT
DTSTAMP:20260423T085037Z
UID:c0f3565f-a513-4537-9206-4b1d165afe30
DTSTART:20270528T180000
DTEND:20270528T193000
DESCRIPTION:
LOCATION:
SUMMARY:HS Graduation
END:VEVENT
BEGIN:VEVENT
DTSTAMP:20260423T085037Z
UID:d18321b5-6d7c-4084-bfde-667e7b58eaa5
DTSTART;VALUE=DATE:20270531
DTEND;VALUE=DATE:20270601
DESCRIPTION:
LOCATION:
SUMMARY:Memorial Day - No School
END:VEVENT
BEGIN:VEVENT
DTSTAMP:20260423T085037Z
UID:aab25c86-6fe4-49ee-aee8-bc44b86da0c8
DTSTART;VALUE=DATE:20270602
DTEND;VALUE=DATE:20270604
DESCRIPTION:
LOCATION:
SUMMARY:Half Day for Students
END:VEVENT
BEGIN:VEVENT
DTSTAMP:20260423T085037Z
UID:f3bb04bb-9a14-4d5f-a856-3577da868e12
DTSTART;VALUE=DATE:20270602
DTEND;VALUE=DATE:20270604
DESCRIPTION:
LOCATION:
SUMMARY:HS Exams
END:VEVENT
BEGIN:VEVENT
DTSTAMP:20260423T085037Z
UID:1218a84c-908c-476a-af98-f5b314ab7e4e
DTSTART;VALUE=DATE:20270603
DTEND;VALUE=DATE:20270604
DESCRIPTION:
LOCATION:
SUMMARY:Last Day of School
END:VEVENT
END:VCALENDAR
