BEGIN:VCALENDAR
VERSION:2.0
PRODID:icalendar-ruby
CALSCALE:GREGORIAN
BEGIN:VTIMEZONE
TZID:America/New_York
BEGIN:DAYLIGHT
DTSTART:20260308T030000
TZOFFSETFROM:-0500
TZOFFSETTO:-0400
RRULE:FREQ=YEARLY;BYDAY=2SU;BYMONTH=3
TZNAME:EDT
END:DAYLIGHT
BEGIN:STANDARD
DTSTART:20261101T010000
TZOFFSETFROM:-0400
TZOFFSETTO:-0500
RRULE:FREQ=YEARLY;BYDAY=1SU;BYMONTH=11
TZNAME:EST
END:STANDARD
END:VTIMEZONE
BEGIN:VEVENT
DTSTAMP:20260425T165819Z
UID:866d6209-d41d-491f-9877-2a68d2934da6
DTSTART;VALUE=DATE:20260504
DTEND;VALUE=DATE:20260509
DESCRIPTION:
LOCATION:
SUMMARY:Gr\, 3-5 NYS Assessments / NYSELAT
END:VEVENT
BEGIN:VEVENT
DTSTAMP:20260425T165819Z
UID:85f6b31d-828c-4422-a26d-e55ac2c3c025
DTSTART;VALUE=DATE:20260511
DTEND;VALUE=DATE:20260516
DESCRIPTION:
LOCATION:
SUMMARY:Gr\, 3-5 NYS Assessments / NYSELAT
END:VEVENT
BEGIN:VEVENT
DTSTAMP:20260425T165819Z
UID:b7757b7d-fa08-40e5-8ce0-5284fb0ede4f
DTSTART;VALUE=DATE:20260518
DTEND;VALUE=DATE:20260523
DESCRIPTION:
LOCATION:
SUMMARY:Gr\, 3-5 NYS Assessments / NYSELAT
END:VEVENT
END:VCALENDAR
