BEGIN:VCALENDAR
VERSION:2.0
PRODID:icalendar-ruby
CALSCALE:GREGORIAN
BEGIN:VTIMEZONE
TZID:America/New_York
BEGIN:DAYLIGHT
DTSTART:20260308T030000
TZOFFSETFROM:-0500
TZOFFSETTO:-0400
RRULE:FREQ=YEARLY;BYDAY=2SU;BYMONTH=3
TZNAME:EDT
END:DAYLIGHT
BEGIN:STANDARD
DTSTART:20261101T010000
TZOFFSETFROM:-0400
TZOFFSETTO:-0500
RRULE:FREQ=YEARLY;BYDAY=1SU;BYMONTH=11
TZNAME:EST
END:STANDARD
END:VTIMEZONE
BEGIN:VEVENT
DTSTAMP:20260423T160208Z
UID:f40262ea-328f-40f6-bd1b-65a655f19c46
DTSTART:20260423T173000
DTEND:20260423T183000
DESCRIPTION:<br><br><br><br>Meeting code<br><br><a href="https://www.google
 .com/url?q=https://meet.google.com/zax-iypa-zdn?hs%3D122%26authuser%3D0&am
 p\;sa=D&amp\;source=calendar&amp\;ust=1776100322584824&amp\;usg=AOvVaw2aW9
 5rH87Vc506eSyKjO-r" target="_blank"><u>meet.google.com/zax-iypa-zdn</u></a
 ><br><br><br><br>Phone Numbers<br><br><br><br><span dir="ltr">(‪US‬)</
 span><a><u>‪+1 929-324-9189‬</u></a><br>PIN: ‪898 896 924#‬
LOCATION:Lakeview High School & Remote
SUMMARY:Strategic Planning Committee Meeting
END:VEVENT
BEGIN:VEVENT
DTSTAMP:20260423T160208Z
UID:e82cdd42-8ed6-4405-8558-cea55a742737
DTSTART:20260504T190000
DTEND:20260504T200000
DESCRIPTION:
LOCATION:Lakeview High School 
SUMMARY:R20 Budget Vote
END:VEVENT
BEGIN:VEVENT
DTSTAMP:20260423T160208Z
UID:40f7495c-1ba2-4ee5-a410-702f424b4661
DTSTART;VALUE=DATE:20260506
DTEND;VALUE=DATE:20260507
DESCRIPTION:
LOCATION:
SUMMARY:Memorial Day-No School
END:VEVENT
BEGIN:VEVENT
DTSTAMP:20260423T160208Z
UID:69363cf1-e002-49e9-84fd-cf7db1e26b8e
DTSTART:20260506T090000
DTEND:20260506T124000
DESCRIPTION:
LOCATION:
SUMMARY:Early Dismissal for Professional Development
END:VEVENT
BEGIN:VEVENT
DTSTAMP:20260423T160208Z
UID:5c9ee07f-55c4-48d4-9b0b-3e4dfcdbb3bf
DTSTART:20260506T090000
DTEND:20260506T124000
DESCRIPTION:
LOCATION:
SUMMARY:Early Dismissal for Students
END:VEVENT
BEGIN:VEVENT
DTSTAMP:20260423T160208Z
UID:502f7b01-6a96-4ee4-ba65-ad05afe19f0f
DTSTART:20260506T090000
DTEND:20260506T124000
DESCRIPTION:<p>Prek AM-9:00am-10:30am</p><p>Prek PM-11:10am-12:40pm</p>
LOCATION:
SUMMARY:Early Dismissal for Students-Teacher Work Day
END:VEVENT
BEGIN:VEVENT
DTSTAMP:20260423T160208Z
UID:88c36b6a-d205-4592-a9e2-d195e5d5d361
DTSTART:20260506T090000
DTEND:20260506T124000
DESCRIPTION:
LOCATION:
SUMMARY:Early Dismissal for Students/Teacher Work Day
END:VEVENT
BEGIN:VEVENT
DTSTAMP:20260423T160208Z
UID:58dd4229-2d4c-40b4-96ab-b784a77d982e
DTSTART;VALUE=DATE:20260516
DTEND;VALUE=DATE:20260517
DESCRIPTION:
LOCATION:
SUMMARY:James M. Fitzgerald IV Family Fun Day(Time TBD)
END:VEVENT
BEGIN:VEVENT
DTSTAMP:20260423T160208Z
UID:0a5631f8-7afe-45eb-818f-376267caf0b7
DTSTART:20260521T190000
DTEND:20260521T200000
DESCRIPTION:<p><br><br><br><br>Meeting ID<br><a target="_blank" rel="noopen
 er noreferrer nofollow" href="https://www.google.com/url?q=https://meet.go
 ogle.com/yru-zrux-xzy?hs%3D122%26authuser%3D0&amp\;sa=D&amp\;source=calend
 ar&amp\;ust=1762630297217415&amp\;usg=AOvVaw3c4t_cLe_ziXQ52K0D0ANN">meet.g
 oogle.com/yru-zrux-xzy</a><br><br>Phone Numbers<br>(‪US‬)‪+1 331-240
 -1496‬<br>PIN:&nbsp\;‪896 287 289#‬</p>
LOCATION:Lakeview High School & Remote
SUMMARY:R20 BOE Meeting
END:VEVENT
BEGIN:VEVENT
DTSTAMP:20260423T160208Z
UID:de52f677-14ee-451b-aef7-2d2aa59bdda4
DTSTART:20260522T091500
DTEND:20260522T094500
DESCRIPTION:
LOCATION:
SUMMARY:Memorial Day Celebration 
END:VEVENT
BEGIN:VEVENT
DTSTAMP:20260423T160208Z
UID:5815eddd-2cd0-4f5d-bdbb-c76bf7f9519f
DTSTART;VALUE=DATE:20260525
DTEND;VALUE=DATE:20260526
DESCRIPTION:
LOCATION:
SUMMARY:Memorial Day - No School
END:VEVENT
BEGIN:VEVENT
DTSTAMP:20260423T160208Z
UID:8e3f1c30-e155-4c7a-895e-32ee21d713ef
DTSTART;VALUE=DATE:20260525
DTEND;VALUE=DATE:20260526
DESCRIPTION:
LOCATION:
SUMMARY:No School-Memorial Day
END:VEVENT
BEGIN:VEVENT
DTSTAMP:20260423T160208Z
UID:dc912559-cb6d-4428-b9d3-bf901b7ab9a8
DTSTART;VALUE=DATE:20260604
DTEND;VALUE=DATE:20260605
DESCRIPTION:
LOCATION:
SUMMARY:GCS Block Party(Time TBD)
END:VEVENT
BEGIN:VEVENT
DTSTAMP:20260423T160208Z
UID:0683b72b-c424-439b-896b-8bb3fe75b9a3
DTSTART:20260611T190000
DTEND:20260611T200000
DESCRIPTION:<p><br><br><br><br>Meeting ID<br><a target="_blank" rel="noopen
 er noreferrer nofollow" href="https://www.google.com/url?q=https://meet.go
 ogle.com/vib-mkwv-atd?hs%3D122%26authuser%3D0&amp\;sa=D&amp\;source=calend
 ar&amp\;ust=1762630421864506&amp\;usg=AOvVaw0y3Lvpzke_qDVmp5d7f3SF">meet.g
 oogle.com/vib-mkwv-atd</a><br><br>Phone Numbers<br>(‪US‬)‪+1 414-909
 -3855‬<br>PIN:&nbsp\;‪133 185 096#‬</p>
LOCATION:Lakeview High School & Remote
SUMMARY:R20 BOE Meeting
END:VEVENT
BEGIN:VEVENT
DTSTAMP:20260423T160208Z
UID:ce1c0dd8-ac19-41cc-b12e-52a1ec19a11c
DTSTART;VALUE=DATE:20260615
DTEND;VALUE=DATE:20260616
DESCRIPTION:
LOCATION:
SUMMARY:Tentative Last Day of School
END:VEVENT
BEGIN:VEVENT
DTSTAMP:20260423T160208Z
UID:ad1c5835-bbe9-4d5a-930c-dfba0a85d496
DTSTART;VALUE=DATE:20260615
DTEND;VALUE=DATE:20260616
DESCRIPTION:
LOCATION:
SUMMARY:Tentative Last Day of School
END:VEVENT
BEGIN:VEVENT
DTSTAMP:20260423T160208Z
UID:0b8dfdc1-eed8-4acd-b005-3c289c5ae0b2
DTSTART;VALUE=DATE:20260617
DTEND;VALUE=DATE:20260618
DESCRIPTION:
LOCATION:
SUMMARY:Early Dismissal
END:VEVENT
BEGIN:VEVENT
DTSTAMP:20260423T160208Z
UID:337c8617-63f9-47fb-bcec-acb80ea94871
DTSTART;VALUE=DATE:20260618
DTEND;VALUE=DATE:20260619
DESCRIPTION:
LOCATION:
SUMMARY:Early Dismissal
END:VEVENT
BEGIN:VEVENT
DTSTAMP:20260423T160208Z
UID:f0c0105f-3b0d-495a-8ee5-001f97794053
DTSTART;VALUE=DATE:20260619
DTEND;VALUE=DATE:20260620
DESCRIPTION:
LOCATION:
SUMMARY:Last Day of School - Early Dismissal
END:VEVENT
BEGIN:VEVENT
DTSTAMP:20260423T160208Z
UID:063e6217-7def-4dac-9c95-d59d237e0f38
DTSTART:20260625T190000
DTEND:20260625T200000
DESCRIPTION:<p><br><br><br><br>Meeting ID<br><a target="_blank" rel="noopen
 er noreferrer nofollow" href="https://www.google.com/url?q=https://meet.go
 ogle.com/mjn-vvod-ppb?hs%3D122%26authuser%3D0&amp\;sa=D&amp\;source=calend
 ar&amp\;ust=1762630540650577&amp\;usg=AOvVaw0S1TghkU3E_fKaBiu2Si7O">meet.g
 oogle.com/mjn-vvod-ppb</a><br><br>Phone Numbers<br>(‪US‬)‪+1 424-262
 -8536‬<br>PIN:&nbsp\;‪804 272 293#‬</p>
LOCATION:Lakeview High School & Remote
SUMMARY:R20 BOE Meeting
END:VEVENT
BEGIN:VEVENT
DTSTAMP:20260423T160208Z
UID:75e6f0d9-8984-4265-95c3-a57061a6767b
DTSTART:20260709T190000
DTEND:20260709T200000
DESCRIPTION:<p><br><br><br><br>Meeting ID<br><a target="_blank" rel="noopen
 er noreferrer nofollow" href="https://www.google.com/url?q=https://meet.go
 ogle.com/xmi-pnea-ddi?hs%3D122%26authuser%3D0&amp\;sa=D&amp\;source=calend
 ar&amp\;ust=1762630714203381&amp\;usg=AOvVaw1ghqOEInqPHPXzJgBTHGlj">meet.g
 oogle.com/xmi-pnea-ddi</a><br><br>Phone Numbers<br>(‪US‬)‪+1 401-903
 -3729‬<br>PIN:&nbsp\;‪141 274 660#‬</p>
LOCATION:Lakeview High School & Remote
SUMMARY:R20 BOE Meeting
END:VEVENT
BEGIN:VEVENT
DTSTAMP:20260423T160208Z
UID:36d33974-5ad6-4c80-ba0f-4afa3c392bb3
DTSTART:20260723T190000
DTEND:20260723T200000
DESCRIPTION:<p><br><br><br><br>Meeting ID<br><a target="_blank" rel="noopen
 er noreferrer nofollow" href="https://www.google.com/url?q=https://meet.go
 ogle.com/qhz-wvzt-dsh?hs%3D122%26authuser%3D0&amp\;sa=D&amp\;source=calend
 ar&amp\;ust=1762630813862564&amp\;usg=AOvVaw3XaofJ1JLsynt8eYu3GQz-">meet.g
 oogle.com/qhz-wvzt-dsh</a><br><br>Phone Numbers<br>(‪US‬)‪+1 515-421
 -8214‬<br>PIN:&nbsp\;‪415 698 612#‬</p>
LOCATION:Lakeview High School & Remote
SUMMARY:R20 BOE Meeting
END:VEVENT
BEGIN:VEVENT
DTSTAMP:20260423T160208Z
UID:8298eae9-17f4-48c0-a2f3-270566f77f6a
DTSTART:20260806T190000
DTEND:20260806T200000
DESCRIPTION:<p><br><br><br><br>Meeting ID<br><a target="_blank" rel="noopen
 er noreferrer nofollow" href="https://www.google.com/url?q=https://meet.go
 ogle.com/uki-vzup-rou?hs%3D122%26authuser%3D0&amp\;sa=D&amp\;source=calend
 ar&amp\;ust=1762630954997038&amp\;usg=AOvVaw35hzTZIsqhWJMTzHoNeNIh">meet.g
 oogle.com/uki-vzup-rou</a><br><br>Phone Numbers<br>(‪US‬)‪+1 575-394
 -8563‬<br>PIN:&nbsp\;‪929 715 871#‬</p>
LOCATION:Lakeview High School & Remote
SUMMARY:R20 BOE Meeting
END:VEVENT
BEGIN:VEVENT
DTSTAMP:20260423T160208Z
UID:b8529296-0ede-4819-9e1d-128084a81b02
DTSTART:20260820T190000
DTEND:20260820T200000
DESCRIPTION:<p><br><br><br><br>Meeting ID<br><a target="_blank" rel="noopen
 er noreferrer nofollow" href="https://www.google.com/url?q=https://meet.go
 ogle.com/ncw-kczw-mdu?hs%3D122%26authuser%3D0&amp\;sa=D&amp\;source=calend
 ar&amp\;ust=1762631233794716&amp\;usg=AOvVaw1kJsXyjHSrSkCQfLi64k9K">meet.g
 oogle.com/ncw-kczw-mdu</a><br><br>Phone Numbers<br>(‪US‬)‪+1 315-795
 -1421‬<br>PIN:&nbsp\;‪822 386 076#‬</p>
LOCATION:Lakeview High School & Remote
SUMMARY:R20 BOE Meeting
END:VEVENT
BEGIN:VEVENT
DTSTAMP:20260423T160208Z
UID:3d0a1f41-b771-48e0-9f4c-47bbabf34492
DTSTART:20260910T190000
DTEND:20260910T200000
DESCRIPTION:<p><br><br><br><br>Meeting ID<br><a target="_blank" rel="noopen
 er noreferrer nofollow" href="https://www.google.com/url?q=https://meet.go
 ogle.com/wzc-woan-apt?hs%3D122%26authuser%3D0&amp\;sa=D&amp\;source=calend
 ar&amp\;ust=1762631355544612&amp\;usg=AOvVaw3JuVOjK7jb5KU6n0bE9wq1">meet.g
 oogle.com/wzc-woan-apt</a><br><br>Phone Numbers<br>(‪US‬)‪+1 252-528
 -7950‬<br>PIN:&nbsp\;‪716 260 886#‬</p>
LOCATION:Lakeview High School & Remote
SUMMARY:R20 BOE Meeting
END:VEVENT
BEGIN:VEVENT
DTSTAMP:20260423T160208Z
UID:f38a5e60-6ad6-4f6c-9e79-b861504bdd33
DTSTART:20260924T190000
DTEND:20260924T200000
DESCRIPTION:<p><br><br><br><br>Meeting ID<br><a target="_blank" rel="noopen
 er noreferrer nofollow" href="https://www.google.com/url?q=https://meet.go
 ogle.com/mdx-rxsd-yuu?hs%3D122%26authuser%3D0&amp\;sa=D&amp\;source=calend
 ar&amp\;ust=1762631479895972&amp\;usg=AOvVaw2v75_LHw7ydzxa00vWmlh5">meet.g
 oogle.com/mdx-rxsd-yuu</a><br><br>Phone Numbers<br>(‪US‬)‪+1 352-612
 -0641‬<br>PIN:&nbsp\;‪458 971 539#‬</p>
LOCATION:Lakeview High School & Remote
SUMMARY:R20 BOE Meeting
END:VEVENT
BEGIN:VEVENT
DTSTAMP:20260423T160208Z
UID:e0f5a169-37dd-432e-8c20-9fc38da9b2b3
DTSTART:20261015T190000
DTEND:20261015T200000
DESCRIPTION:<p><br><br><br><br>Meeting ID<br><a target="_blank" rel="noopen
 er noreferrer nofollow" href="https://www.google.com/url?q=https://meet.go
 ogle.com/tgw-afyz-sbc?hs%3D122%26authuser%3D0&amp\;sa=D&amp\;source=calend
 ar&amp\;ust=1762631564628473&amp\;usg=AOvVaw2nuKcpp1ddtXcII93IOf-p">meet.g
 oogle.com/tgw-afyz-sbc</a><br><br>Phone Numbers<br>(‪US‬)‪+1 331-248
 -5399‬<br>PIN:&nbsp\;‪606 227 695#‬</p>
LOCATION:Lakeview High School & Remote
SUMMARY:R20 BOE Meeting
END:VEVENT
BEGIN:VEVENT
DTSTAMP:20260423T160208Z
UID:b94c1d04-e549-497d-8a1b-be6fa06046a4
DTSTART:20261119T190000
DTEND:20261119T200000
DESCRIPTION:<p><br><br><br><br>Meeting ID<br><a target="_blank" rel="noopen
 er noreferrer nofollow" href="https://www.google.com/url?q=https://meet.go
 ogle.com/kju-zznt-cmj?hs%3D122%26authuser%3D0&amp\;sa=D&amp\;source=calend
 ar&amp\;ust=1762631684573036&amp\;usg=AOvVaw0GiB1vPyXKqMo7eKDTOMbE">meet.g
 oogle.com/kju-zznt-cmj</a><br><br>Phone Numbers<br>(‪US‬)‪+1 609-429
 -5789‬<br>PIN:&nbsp\;‪179 895 952#‬</p>
LOCATION:Lakeview High School & Remote
SUMMARY:R20 BOE Meeting
END:VEVENT
BEGIN:VEVENT
DTSTAMP:20260423T160208Z
UID:31ac5ea9-f24e-49f6-a491-0cda2aaf355b
DTSTART:20261210T190000
DTEND:20261210T200000
DESCRIPTION:<p><br><br><br><br>Meeting ID<br><a target="_blank" rel="noopen
 er noreferrer nofollow" href="https://www.google.com/url?q=https://meet.go
 ogle.com/sos-spdy-tkj?hs%3D122%26authuser%3D0&amp\;sa=D&amp\;source=calend
 ar&amp\;ust=1762631776080777&amp\;usg=AOvVaw3pGQUGHtAW2lW_HEt3BXze">meet.g
 oogle.com/sos-spdy-tkj</a><br><br>Phone Numbers<br>(‪US‬)‪+1 646-883
 -9944‬<br>PIN:&nbsp\;‪907 990 005#‬</p>
LOCATION:Lakeview High School & Remote
SUMMARY:R20 BOE Meeting
END:VEVENT
END:VCALENDAR
