BEGIN:VCALENDAR
VERSION:2.0
PRODID:icalendar-ruby
CALSCALE:GREGORIAN
BEGIN:VTIMEZONE
TZID:America/New_York
BEGIN:DAYLIGHT
DTSTART:20260308T030000
TZOFFSETFROM:-0500
TZOFFSETTO:-0400
RRULE:FREQ=YEARLY;BYDAY=2SU;BYMONTH=3
TZNAME:EDT
END:DAYLIGHT
BEGIN:STANDARD
DTSTART:20261101T010000
TZOFFSETFROM:-0400
TZOFFSETTO:-0500
RRULE:FREQ=YEARLY;BYDAY=1SU;BYMONTH=11
TZNAME:EST
END:STANDARD
END:VTIMEZONE
BEGIN:VEVENT
DTSTAMP:20260423T162116Z
UID:40362a31-a75b-417d-b4b3-e633d547e3b5
DTSTART;VALUE=DATE:20260522
DTEND;VALUE=DATE:20260523
DESCRIPTION:
LOCATION:
SUMMARY:Last Day for Students
END:VEVENT
BEGIN:VEVENT
DTSTAMP:20260423T162116Z
UID:4f6f80b0-299c-4a5b-ad9d-70846578fb38
DTSTART:20260524T140000
DTEND:20260524T160000
DESCRIPTION:
LOCATION:
SUMMARY:Combined Baccalaureate/Commencement
END:VEVENT
BEGIN:VEVENT
DTSTAMP:20260423T162116Z
UID:59fdf525-57d6-4414-8b59-42f093ef8711
DTSTART;VALUE=DATE:20260529
DTEND;VALUE=DATE:20260530
DESCRIPTION:
LOCATION:
SUMMARY:Grade Cards Mailed
END:VEVENT
BEGIN:VEVENT
DTSTAMP:20260423T162116Z
UID:7fdcf872-a25f-4939-84ab-68bb1c4c17aa
DTSTART:20260810T180000
DTEND:20260810T200000
DESCRIPTION:
LOCATION:
SUMMARY:Middle School New Student Orientation 1:00 p.m.
END:VEVENT
BEGIN:VEVENT
DTSTAMP:20260423T162116Z
UID:539d4847-958d-4b9c-b45f-e232cf18c08c
DTSTART;VALUE=DATE:20260819
DTEND;VALUE=DATE:20260820
DESCRIPTION:
LOCATION:
SUMMARY:First Day of School
END:VEVENT
END:VCALENDAR
