BEGIN:VCALENDAR
VERSION:2.0
PRODID:icalendar-ruby
CALSCALE:GREGORIAN
BEGIN:VTIMEZONE
TZID:America/New_York
BEGIN:DAYLIGHT
DTSTART:20260308T030000
TZOFFSETFROM:-0500
TZOFFSETTO:-0400
RRULE:FREQ=YEARLY;BYDAY=2SU;BYMONTH=3
TZNAME:EDT
END:DAYLIGHT
BEGIN:STANDARD
DTSTART:20261101T010000
TZOFFSETFROM:-0400
TZOFFSETTO:-0500
RRULE:FREQ=YEARLY;BYDAY=1SU;BYMONTH=11
TZNAME:EST
END:STANDARD
END:VTIMEZONE
BEGIN:VEVENT
DTSTAMP:20260420T121005Z
UID:d829a7ee-de9a-4592-aa31-add98ae0e066
DTSTART;VALUE=DATE:20260422
DTEND;VALUE=DATE:20260423
DESCRIPTION:
LOCATION:
SUMMARY:Administrative Assistants Day
END:VEVENT
BEGIN:VEVENT
DTSTAMP:20260420T121005Z
UID:fdc3cdca-1ae1-4a6b-b6ca-58bddfe58795
DTSTART;VALUE=DATE:20260423
DTEND;VALUE=DATE:20260424
DESCRIPTION:
LOCATION:
SUMMARY:Wear Blue for Autism Awareness
END:VEVENT
BEGIN:VEVENT
DTSTAMP:20260420T121005Z
UID:e9debfb7-44c9-44ff-ba90-34cbebacf0ff
DTSTART;VALUE=DATE:20260424
DTEND;VALUE=DATE:20260425
DESCRIPTION:
LOCATION:
SUMMARY:Mad Science Assembly
END:VEVENT
BEGIN:VEVENT
DTSTAMP:20260420T121005Z
UID:26355ac3-686c-44d1-94ff-34216f779d1f
DTSTART;VALUE=DATE:20260424
DTEND;VALUE=DATE:20260425
DESCRIPTION:
LOCATION:
SUMMARY:Spirit Day: Super Hero Day
END:VEVENT
BEGIN:VEVENT
DTSTAMP:20260420T121005Z
UID:6eaf17ba-2680-4586-909b-0cdcb7c08df4
DTSTART:20260427T190000
DTEND:20260427T220000
DESCRIPTION:
LOCATION:Clinton Twp Middle Sch\, 34 Grayrock Rd\, Clinton\, NJ 08809\, USA
SUMMARY:Board of Education Meeting
END:VEVENT
BEGIN:VEVENT
DTSTAMP:20260420T121005Z
UID:f9990379-afd6-45de-bbcc-f6bf521b27bf
DTSTART;VALUE=DATE:20260428
DTEND;VALUE=DATE:20260429
DESCRIPTION:
LOCATION:
SUMMARY:Bus Driver Appreciation Day
END:VEVENT
BEGIN:VEVENT
DTSTAMP:20260420T121005Z
UID:5e5b6cb7-a043-4957-b598-6d3adca84a93
DTSTART;VALUE=DATE:20260430
DTEND;VALUE=DATE:20260501
DESCRIPTION:
LOCATION:
SUMMARY:Wear Blue for Autism Awareness
END:VEVENT
BEGIN:VEVENT
DTSTAMP:20260420T121005Z
UID:71201ae6-9f11-4823-a7ea-027efdb26bca
DTSTART;VALUE=DATE:20260501
DTEND;VALUE=DATE:20260502
DESCRIPTION:
LOCATION:
SUMMARY:Spirit Day: Wear Cool Colors
END:VEVENT
BEGIN:VEVENT
DTSTAMP:20260420T121005Z
UID:2da21752-4912-42d5-a515-682b1c73397a
DTSTART:20260504T080000
DTEND:20260504T090000
DESCRIPTION:
LOCATION:
SUMMARY:Staff Appreciation Week
END:VEVENT
BEGIN:VEVENT
DTSTAMP:20260420T121005Z
UID:b9d741d2-efc6-4209-b2c5-7da0bbd1fe69
DTSTART:20260505T080000
DTEND:20260505T090000
DESCRIPTION:
LOCATION:
SUMMARY:Staff Appreciation Week
END:VEVENT
BEGIN:VEVENT
DTSTAMP:20260420T121005Z
UID:2320c54a-e62d-408e-ad91-559c9a3a7248
DTSTART:20260506T080000
DTEND:20260506T090000
DESCRIPTION:
LOCATION:
SUMMARY:Staff Appreciation Week
END:VEVENT
BEGIN:VEVENT
DTSTAMP:20260420T121005Z
UID:64473334-9df8-449e-aae7-b4f7a8ba16d5
DTSTART:20260507T080000
DTEND:20260507T090000
DESCRIPTION:
LOCATION:
SUMMARY:Staff Appreciation Week
END:VEVENT
BEGIN:VEVENT
DTSTAMP:20260420T121005Z
UID:05628620-7214-4dc2-934f-a9cd11d036be
DTSTART;VALUE=DATE:20260508
DTEND;VALUE=DATE:20260509
DESCRIPTION:
LOCATION:
SUMMARY:Spirit Day: Crazy Hair Day
END:VEVENT
BEGIN:VEVENT
DTSTAMP:20260420T121005Z
UID:b08bfa54-6e81-4d49-b5fd-3e4fac4f1f0e
DTSTART:20260508T080000
DTEND:20260508T090000
DESCRIPTION:
LOCATION:
SUMMARY:Staff Appreciation Week
END:VEVENT
BEGIN:VEVENT
DTSTAMP:20260420T121005Z
UID:f3bc6835-1127-4de3-9142-1b01267301a6
DTSTART:20260518T190000
DTEND:20260518T220000
DESCRIPTION:
LOCATION:Clinton Twp Middle Sch\, 34 Grayrock Rd\, Clinton\, NJ 08809\, USA
SUMMARY:Board of Education Meeting
END:VEVENT
BEGIN:VEVENT
DTSTAMP:20260420T121005Z
UID:e5253c4f-3790-4aae-b811-4fe826917b01
DTSTART;VALUE=DATE:20260520
DTEND;VALUE=DATE:20260521
DESCRIPTION:
LOCATION:
SUMMARY:SRPS Special Person Day
END:VEVENT
BEGIN:VEVENT
DTSTAMP:20260420T121005Z
UID:6ed8fd5d-32ad-446e-ba25-10f7ddefc639
DTSTART;VALUE=DATE:20260521
DTEND;VALUE=DATE:20260522
DESCRIPTION:
LOCATION:
SUMMARY:Special Education Parent Advisory Group Meeting
END:VEVENT
BEGIN:VEVENT
DTSTAMP:20260420T121005Z
UID:436cbf1e-edde-4758-8ef4-baef843a719b
DTSTART;VALUE=DATE:20260522
DTEND;VALUE=DATE:20260523
DESCRIPTION:
LOCATION:
SUMMARY:Spirit Day: Wear something with an animal on it
END:VEVENT
BEGIN:VEVENT
DTSTAMP:20260420T121005Z
UID:de6032ff-58c8-4e8e-bc71-97e6ea1858ce
DTSTART;VALUE=DATE:20260525
DTEND;VALUE=DATE:20260526
DESCRIPTION:
LOCATION:
SUMMARY:School Closed - Memorial Day
END:VEVENT
BEGIN:VEVENT
DTSTAMP:20260420T121005Z
UID:478a01e5-4026-4320-b329-c87db2ba88bd
DTSTART;VALUE=DATE:20260527
DTEND;VALUE=DATE:20260528
DESCRIPTION:
LOCATION:
SUMMARY:PTA Field Day
END:VEVENT
BEGIN:VEVENT
DTSTAMP:20260420T121005Z
UID:e6e7715a-266f-4821-b023-1d0ed3d4571a
DTSTART;VALUE=DATE:20260528
DTEND;VALUE=DATE:20260529
DESCRIPTION:
LOCATION:
SUMMARY:PTA Field Day rain date
END:VEVENT
BEGIN:VEVENT
DTSTAMP:20260420T121005Z
UID:5b42be35-e59a-40d2-9f97-cd4b868f7026
DTSTART;VALUE=DATE:20260529
DTEND;VALUE=DATE:20260530
DESCRIPTION:
LOCATION:
SUMMARY:Spirit Day: Beach Day- WEar your favorite sunglasses or beach theme
 d clothing (no bathing suits please)
END:VEVENT
BEGIN:VEVENT
DTSTAMP:20260420T121005Z
UID:50fdb506-5533-4142-9ab7-b4b25392c014
DTSTART;VALUE=DATE:20260602
DTEND;VALUE=DATE:20260603
DESCRIPTION:
LOCATION:
SUMMARY:School Closed - Professional Development Day
END:VEVENT
BEGIN:VEVENT
DTSTAMP:20260420T121005Z
UID:5e3a0112-23d7-4b82-b7ea-36656680a115
DTSTART;VALUE=DATE:20260605
DTEND;VALUE=DATE:20260606
DESCRIPTION:
LOCATION:
SUMMARY:Spirit Day: Wear Warm Colors and bring your favorite book
END:VEVENT
BEGIN:VEVENT
DTSTAMP:20260420T121005Z
UID:b1c180d9-c766-499b-93ab-862f7bd0dff4
DTSTART;VALUE=DATE:20260616
DTEND;VALUE=DATE:20260617
DESCRIPTION:
LOCATION:
SUMMARY:End of Year PreSchool Celebration
END:VEVENT
BEGIN:VEVENT
DTSTAMP:20260420T121005Z
UID:b178e7e1-8eb2-48ad-8c27-ed94d12dba1b
DTSTART;VALUE=DATE:20260616
DTEND;VALUE=DATE:20260618
DESCRIPTION:
LOCATION:
SUMMARY:Early Dismissal
END:VEVENT
BEGIN:VEVENT
DTSTAMP:20260420T121005Z
UID:a065bd49-32c5-484a-8ac8-2c82674e1d8b
DTSTART;VALUE=DATE:20260618
DTEND;VALUE=DATE:20260619
DESCRIPTION:
LOCATION:
SUMMARY:Last Day of School
END:VEVENT
BEGIN:VEVENT
DTSTAMP:20260420T121005Z
UID:e0804b0f-79d8-4a4e-8565-5798c76c08e1
DTSTART:20260618T180000
DTEND:20260618T193000
DESCRIPTION:
LOCATION:Clinton Twp Middle Sch\, 34 Grayrock Rd\, Clinton\, NJ 08809\, USA
SUMMARY:8th Grade Promotion Ceremony
END:VEVENT
BEGIN:VEVENT
DTSTAMP:20260420T121005Z
UID:1355f893-d75e-4113-a17a-a87834ea9b9d
DTSTART:20260622T190000
DTEND:20260622T220000
DESCRIPTION:
LOCATION:Clinton Twp Middle Sch\, 34 Grayrock Rd\, Clinton\, NJ 08809\, USA
SUMMARY:Board of Education Meeting
END:VEVENT
BEGIN:VEVENT
DTSTAMP:20260420T121005Z
UID:92fc8e68-e4fc-4884-9ef4-7f5b0e540638
DTSTART:20260729T190000
DTEND:20260729T220000
DESCRIPTION:
LOCATION:Clinton Twp Middle Sch\, 34 Grayrock Rd\, Clinton\, NJ 08809\, USA
SUMMARY:Board of Education (Retreat) Meeting
END:VEVENT
BEGIN:VEVENT
DTSTAMP:20260420T121005Z
UID:f0851339-7f02-40dd-808e-1108e275ee53
DTSTART:20260817T190000
DTEND:20260817T220000
DESCRIPTION:
LOCATION:Clinton Twp Middle Sch\, 34 Grayrock Rd\, Clinton\, NJ 08809\, USA
SUMMARY:Board of Education Meeting
END:VEVENT
BEGIN:VEVENT
DTSTAMP:20260420T121005Z
UID:594e2076-4d8e-42df-9502-2b959aef9c02
DTSTART:20260914T190000
DTEND:20260914T220000
DESCRIPTION:
LOCATION:Clinton Twp Middle Sch\, 34 Grayrock Rd\, Clinton\, NJ 08809\, USA
SUMMARY:Board of Education Meeting
END:VEVENT
BEGIN:VEVENT
DTSTAMP:20260420T121005Z
UID:6227d7ca-0ead-44e0-8f06-2f8f7b22a011
DTSTART:20261012T190000
DTEND:20261012T220000
DESCRIPTION:
LOCATION:Clinton Twp Middle Sch\, 34 Grayrock Rd\, Clinton\, NJ 08809\, USA
SUMMARY:Board of Education Meeting
END:VEVENT
BEGIN:VEVENT
DTSTAMP:20260420T121005Z
UID:1531856a-8c6c-45da-a51d-c42ab4f1a03e
DTSTART:20261116T190000
DTEND:20261116T220000
DESCRIPTION:
LOCATION:Clinton Twp Middle Sch\, 34 Grayrock Rd\, Clinton\, NJ 08809\, USA
SUMMARY:Board of Education Meeting
END:VEVENT
BEGIN:VEVENT
DTSTAMP:20260420T121005Z
UID:b70c3f0e-1a9d-4215-8fd4-bb7bcdfe766a
DTSTART:20261214T190000
DTEND:20261214T220000
DESCRIPTION:
LOCATION:Clinton Twp Middle Sch\, 34 Grayrock Rd\, Clinton\, NJ 08809\, USA
SUMMARY:Board of Education Meeting
END:VEVENT
BEGIN:VEVENT
DTSTAMP:20260420T121005Z
UID:7ae11455-6218-4790-a95f-8bcbc2111b12
DTSTART:20270104T190000
DTEND:20270104T210000
DESCRIPTION:<p>Clinton Township Middle School Auditorium</p>
LOCATION:34 Grayrock Rd\, Clinton\, NJ 08809\, USA
SUMMARY:Board of Education Reorganization Meeting
END:VEVENT
END:VCALENDAR
