BEGIN:VCALENDAR
VERSION:2.0
PRODID:icalendar-ruby
CALSCALE:GREGORIAN
BEGIN:VTIMEZONE
TZID:America/Chicago
BEGIN:DAYLIGHT
DTSTART:20260308T030000
TZOFFSETFROM:-0600
TZOFFSETTO:-0500
RRULE:FREQ=YEARLY;BYDAY=2SU;BYMONTH=3
TZNAME:CDT
END:DAYLIGHT
BEGIN:STANDARD
DTSTART:20261101T010000
TZOFFSETFROM:-0500
TZOFFSETTO:-0600
RRULE:FREQ=YEARLY;BYDAY=1SU;BYMONTH=11
TZNAME:CST
END:STANDARD
END:VTIMEZONE
BEGIN:VEVENT
DTSTAMP:20260423T132511Z
UID:1ded78d0-5264-434d-ab12-f10a1c2850a7
DTSTART;VALUE=DATE:20260424
DTEND;VALUE=DATE:20260425
DESCRIPTION:
LOCATION:
SUMMARY:SECHS Early Release
END:VEVENT
BEGIN:VEVENT
DTSTAMP:20260423T132511Z
UID:31484a3f-45bf-4267-a2f5-af98f5aa16b1
DTSTART;VALUE=DATE:20260501
DTEND;VALUE=DATE:20260502
DESCRIPTION:
LOCATION:
SUMMARY:SECHS Early Release
END:VEVENT
BEGIN:VEVENT
DTSTAMP:20260423T132511Z
UID:6a90b765-717c-46a0-8392-4b2549d7e9c5
DTSTART:20260505T163000
DTEND:20260505T180000
DESCRIPTION:
LOCATION:Band Hall
SUMMARY:Performing Band After School Rehearsal
END:VEVENT
BEGIN:VEVENT
DTSTAMP:20260423T132511Z
UID:9b0f4b95-caf8-4748-9874-6846e6bac0c0
DTSTART;VALUE=DATE:20260507
DTEND;VALUE=DATE:20260508
DESCRIPTION:
LOCATION:
SUMMARY:MS and HS Late Arrival
END:VEVENT
BEGIN:VEVENT
DTSTAMP:20260423T132511Z
UID:1249052b-1a59-4ea4-bbd4-26eee078407e
DTSTART:20260507T163000
DTEND:20260507T180000
DESCRIPTION:
LOCATION:Band Hall
SUMMARY:Beginner Band After School Rehearsal
END:VEVENT
BEGIN:VEVENT
DTSTAMP:20260423T132511Z
UID:d1e99d84-68a4-4eb3-bd6d-1952ca92e481
DTSTART:20260507T190000
DTEND:20260507T210000
DESCRIPTION:
LOCATION:Black Box Theatre
SUMMARY:In The Hood Theatre Production
END:VEVENT
BEGIN:VEVENT
DTSTAMP:20260423T132511Z
UID:de430ef4-b70b-4da9-97b0-28bdd3e97deb
DTSTART;VALUE=DATE:20260508
DTEND;VALUE=DATE:20260509
DESCRIPTION:
LOCATION:
SUMMARY:SECHS Early Release
END:VEVENT
BEGIN:VEVENT
DTSTAMP:20260423T132511Z
UID:89628477-6429-42eb-880a-da6e6d10d23e
DTSTART:20260508T190000
DTEND:20260508T210000
DESCRIPTION:
LOCATION:Black Box Theatre
SUMMARY:In The Hood Theatre Production
END:VEVENT
BEGIN:VEVENT
DTSTAMP:20260423T132511Z
UID:cb579648-4ec5-4f10-9da3-a34c49fc6ec0
DTSTART:20260509T150000
DTEND:20260509T170000
DESCRIPTION:
LOCATION:Black Box Theatre
SUMMARY:In The Hood Theatre Production Matinee
END:VEVENT
BEGIN:VEVENT
DTSTAMP:20260423T132511Z
UID:559cc51f-b12a-4c57-8166-8f4a7a350104
DTSTART:20260512T180000
DTEND:20260512T190000
DESCRIPTION:
LOCATION:Competition Gym
SUMMARY:Orchestra Spring Concert
END:VEVENT
BEGIN:VEVENT
DTSTAMP:20260423T132511Z
UID:525440ca-b191-4fcf-9976-198f9f17aac1
DTSTART:20260514T183000
DTEND:20260514T190000
DESCRIPTION:
LOCATION:Competition Gym
SUMMARY:Spring Beginner Band Concert
END:VEVENT
BEGIN:VEVENT
DTSTAMP:20260423T132511Z
UID:0a7d63e3-1a6c-4304-b7e7-8dd1d1d5c399
DTSTART:20260514T194500
DTEND:20260514T201500
DESCRIPTION:
LOCATION:Competition Gym
SUMMARY:Spring Performance Band Concert
END:VEVENT
BEGIN:VEVENT
DTSTAMP:20260423T132511Z
UID:e431fb58-c99d-48f2-9bf6-21dadda321da
DTSTART;VALUE=DATE:20260515
DTEND;VALUE=DATE:20260516
DESCRIPTION:
LOCATION:
SUMMARY:SECHS Early Release
END:VEVENT
BEGIN:VEVENT
DTSTAMP:20260423T132511Z
UID:5afb91ea-6097-4928-9b15-a6a30704e3cc
DTSTART:20260515T183000
DTEND:20260515T203000
DESCRIPTION:
LOCATION:Competition Gym
SUMMARY:Dance Spring Showcase
END:VEVENT
BEGIN:VEVENT
DTSTAMP:20260423T132511Z
UID:c1ba50e3-d2fe-41fd-9395-0364c43a0780
DTSTART;VALUE=DATE:20260520
DTEND;VALUE=DATE:20260521
DESCRIPTION:
LOCATION:Cafeteria\;Competition Gym
SUMMARY:Choir Pop Show
END:VEVENT
BEGIN:VEVENT
DTSTAMP:20260423T132511Z
UID:73b69d7c-2355-41b8-aa15-1f6850cb826f
DTSTART;VALUE=DATE:20260522
DTEND;VALUE=DATE:20260523
DESCRIPTION:
LOCATION:
SUMMARY:SECHS Early Release
END:VEVENT
BEGIN:VEVENT
DTSTAMP:20260423T132511Z
UID:fbbbd267-0d98-4adc-933e-3826d84ab79d
DTSTART;VALUE=DATE:20260525
DTEND;VALUE=DATE:20260526
DESCRIPTION:
LOCATION:
SUMMARY:Memorial Day Holiday
END:VEVENT
BEGIN:VEVENT
DTSTAMP:20260423T132511Z
UID:d00c24c4-0a34-4a2a-b8ad-2929f48bb6e0
DTSTART;VALUE=DATE:20260528
DTEND;VALUE=DATE:20260529
DESCRIPTION:
LOCATION:
SUMMARY:Early Release for MS and HS
END:VEVENT
BEGIN:VEVENT
DTSTAMP:20260423T132511Z
UID:1ac80bfc-9571-439b-8434-7318e7127c8d
DTSTART;VALUE=DATE:20260529
DTEND;VALUE=DATE:20260530
DESCRIPTION:
LOCATION:
SUMMARY:Last day of School-Early Release for All Students
END:VEVENT
BEGIN:VEVENT
DTSTAMP:20260423T132511Z
UID:8f828cbf-e251-4266-8ec7-b807be04bb97
DTSTART;VALUE=DATE:20260529
DTEND;VALUE=DATE:20260530
DESCRIPTION:
LOCATION:
SUMMARY:SECHS Early Release
END:VEVENT
BEGIN:VEVENT
DTSTAMP:20260423T132511Z
UID:d67cea70-bdcf-421c-83da-9a0070e8f525
DTSTART;VALUE=DATE:20260601
DTEND;VALUE=DATE:20260603
DESCRIPTION:
LOCATION:
SUMMARY:Staff Workday
END:VEVENT
BEGIN:VEVENT
DTSTAMP:20260423T132511Z
UID:522e0c24-b934-40e2-9435-5b8bc4c60b99
DTSTART;VALUE=DATE:20260612
DTEND;VALUE=DATE:20260613
DESCRIPTION:
LOCATION:
SUMMARY:Humble ISD Closed/Summer Schedule
END:VEVENT
BEGIN:VEVENT
DTSTAMP:20260423T132511Z
UID:7cfa5607-3e49-466e-b2f5-d4cf3be9ee77
DTSTART;VALUE=DATE:20260619
DTEND;VALUE=DATE:20260620
DESCRIPTION:
LOCATION:
SUMMARY:Humble ISD Closed/Summer Schedule
END:VEVENT
BEGIN:VEVENT
DTSTAMP:20260423T132511Z
UID:deb457a7-47c2-4e37-a0d8-ea5ca961b989
DTSTART;VALUE=DATE:20260626
DTEND;VALUE=DATE:20260627
DESCRIPTION:
LOCATION:
SUMMARY:Humble ISD Closed/Summer Schedule
END:VEVENT
END:VCALENDAR
