BEGIN:VCALENDAR
VERSION:2.0
PRODID:icalendar-ruby
CALSCALE:GREGORIAN
BEGIN:VTIMEZONE
TZID:America/Chicago
BEGIN:DAYLIGHT
DTSTART:20260308T030000
TZOFFSETFROM:-0600
TZOFFSETTO:-0500
RRULE:FREQ=YEARLY;BYDAY=2SU;BYMONTH=3
TZNAME:CDT
END:DAYLIGHT
BEGIN:STANDARD
DTSTART:20261101T010000
TZOFFSETFROM:-0500
TZOFFSETTO:-0600
RRULE:FREQ=YEARLY;BYDAY=1SU;BYMONTH=11
TZNAME:CST
END:STANDARD
END:VTIMEZONE
BEGIN:VEVENT
DTSTAMP:20260420T202045Z
UID:62399020-ecb9-42c4-8857-7eeae22a0c2c
DTSTART:20260505T183000
DTEND:20260505T193000
DESCRIPTION:<p>Join us Tuesday\, May 5\, at First Baptist Church in Tupelo.
   We're celebrating our pre-K students from around the school district!</p
 ><p><em>Parents - Be sure to arrive at the church by 6:00pm and meet your 
 child's teacher at the side door.</em></p><p>The program begins at 6:30pm.
 </p><p></p>
LOCATION:300 N Church St\, Tupelo\, MS 38804\, USA
SUMMARY:Lee County School District Pre-K Celebration
END:VEVENT
BEGIN:VEVENT
DTSTAMP:20260420T202045Z
UID:9ba6d535-0b0b-4227-90bc-32612d2f6e42
DTSTART;VALUE=DATE:20260511
DTEND;VALUE=DATE:20260512
DESCRIPTION:<p>The regular LCSD Board meeting is Monday\, May 11\, at 5pm a
 t the superintendent's office.</p>
LOCATION:1280 College View Dr\, Tupelo\, MS 38804\, USA
SUMMARY:LCSD Board Meeting
END:VEVENT
BEGIN:VEVENT
DTSTAMP:20260420T202045Z
UID:7e74b66a-6331-4a32-9c3e-38bd3eb0666d
DTSTART;VALUE=DATE:20260522
DTEND;VALUE=DATE:20260523
DESCRIPTION:
LOCATION:
SUMMARY:Last Day for Students / 60% Day
END:VEVENT
BEGIN:VEVENT
DTSTAMP:20260420T202045Z
UID:53153451-11ac-4a02-9152-d49c5558a4c8
DTSTART;VALUE=DATE:20260522
DTEND;VALUE=DATE:20260524
DESCRIPTION:<p>High school graduation ceremonies in the Lee County School D
 istrict:</p><p><strong>May 22\, 2026</strong></p><p>Saltillo High School -
  7:00pm / Saltillo High School football field</p><p>(In the event of incle
 ment weather\, the graduation ceremony will be moved to Saturday\, May 23\
 , at 12:00pm at the Cadence Bank Arena in Tupelo.</p><p><strong>May 23\, 2
 026</strong></p><p>Mooreville High School - 3:00pm / Cadence Bank Arena</p
 ><p>Shannon High School - 6:00pm / Cadence Bank Arena</p>
LOCATION:
SUMMARY:LCSD Graduation Ceremonies 
END:VEVENT
BEGIN:VEVENT
DTSTAMP:20260420T202045Z
UID:fee76059-dfdf-4964-b992-5070e3a5b35e
DTSTART;VALUE=DATE:20260525
DTEND;VALUE=DATE:20260526
DESCRIPTION:
LOCATION:
SUMMARY:Memorial Day Holiday
END:VEVENT
BEGIN:VEVENT
DTSTAMP:20260420T202045Z
UID:b7859612-7e81-4cde-8926-8aa98873269b
DTSTART;VALUE=DATE:20260526
DTEND;VALUE=DATE:20260528
DESCRIPTION:
LOCATION:
SUMMARY:Professional Development
END:VEVENT
BEGIN:VEVENT
DTSTAMP:20260420T202045Z
UID:fb508d40-d0ad-485c-8d73-9c0197c64d15
DTSTART;VALUE=DATE:20260608
DTEND;VALUE=DATE:20260609
DESCRIPTION:<p>The regular LCSD Board meeting is Monday\, June 8\, at 5pm a
 t the superintendent's office.</p>
LOCATION:1280 College View Dr\, Tupelo\, MS 38804\, USA
SUMMARY:LCSD Board Meeting
END:VEVENT
END:VCALENDAR
