BEGIN:VCALENDAR
VERSION:2.0
PRODID:icalendar-ruby
CALSCALE:GREGORIAN
BEGIN:VTIMEZONE
TZID:America/Los_Angeles
BEGIN:DAYLIGHT
DTSTART:20260308T030000
TZOFFSETFROM:-0800
TZOFFSETTO:-0700
RRULE:FREQ=YEARLY;BYDAY=2SU;BYMONTH=3
TZNAME:PDT
END:DAYLIGHT
BEGIN:STANDARD
DTSTART:20261101T010000
TZOFFSETFROM:-0700
TZOFFSETTO:-0800
RRULE:FREQ=YEARLY;BYDAY=1SU;BYMONTH=11
TZNAME:PST
END:STANDARD
END:VTIMEZONE
BEGIN:VEVENT
DTSTAMP:20260419T213107Z
UID:5e22d288-b47d-4404-b9c3-186ba72be2fe
DTSTART:20260423T173000
DTEND:20260423T184500
DESCRIPTION:
LOCATION:(Calendar)-ALE-Website
SUMMARY:4th gr. Recorder & 5th gr. Band Concert
END:VEVENT
BEGIN:VEVENT
DTSTAMP:20260419T213107Z
UID:d6b4ee24-5440-4fb0-970e-e78103abace8
DTSTART:20260424T170000
DTEND:20260424T190000
DESCRIPTION:
LOCATION:(Calendar)-ALE-Website
SUMMARY:PTA Family Bingo Night & Association Meeting
END:VEVENT
BEGIN:VEVENT
DTSTAMP:20260419T213107Z
UID:d660756c-7a37-4836-9218-5b75cb8190bf
DTSTART:20260504T000000
DTEND:20260509T000000
DESCRIPTION:
LOCATION:(Calendar)-ALE-Website
SUMMARY:Staff Appreciation Week
END:VEVENT
BEGIN:VEVENT
DTSTAMP:20260419T213107Z
UID:750793ec-8c6d-4cf6-b8ac-ba77ffb5de47
DTSTART:20260504T000000
DTEND:20260509T000000
DESCRIPTION:
LOCATION:DSC A-1-ALSD Website (1)
SUMMARY:Teacher Appreciation Week
END:VEVENT
BEGIN:VEVENT
DTSTAMP:20260419T213107Z
UID:5c85027f-0d0c-4bcf-8d4d-ad95832d4b34
DTSTART:20260506T000000
DTEND:20260507T000000
DESCRIPTION:
LOCATION:
SUMMARY:California Day of the Teacher
END:VEVENT
BEGIN:VEVENT
DTSTAMP:20260419T213107Z
UID:b375933e-43ca-4943-9f8a-c54ac16c2dee
DTSTART:20260507T170000
DTEND:20260507T180000
DESCRIPTION:Time TBD
LOCATION:(Calendar)-ALE-Website
SUMMARY:Open House
END:VEVENT
BEGIN:VEVENT
DTSTAMP:20260419T213107Z
UID:f8d62133-0ad0-4f03-8a7f-7d58f9fe508d
DTSTART:20260511T000000
DTEND:20260516T000000
DESCRIPTION:
LOCATION:DSC A-1-ALSD Website (1)
SUMMARY:Classified School Employee Week
END:VEVENT
BEGIN:VEVENT
DTSTAMP:20260419T213107Z
UID:66e4b1a4-7ec1-4cbe-a118-cdea72e9bdc2
DTSTART;VALUE=DATE:20260512
DTEND;VALUE=DATE:20260513
DESCRIPTION:
LOCATION:(Calendar)-ALE-Website
SUMMARY:PTA Spirit Day
END:VEVENT
BEGIN:VEVENT
DTSTAMP:20260419T213107Z
UID:e4eba37b-8887-4fc7-a6b0-d646620a04e8
DTSTART:20260513T180000
DTEND:20260513T200000
DESCRIPTION:
LOCATION:9390 Base Line Rd\, Rancho Cucamonga\, CA 91701\, USA
SUMMARY:Board of Trustees Meeting
END:VEVENT
BEGIN:VEVENT
DTSTAMP:20260419T213107Z
UID:d2377962-9ac7-4835-86bd-b91398633d56
DTSTART;VALUE=DATE:20260520
DTEND;VALUE=DATE:20260521
DESCRIPTION:
LOCATION:DSC A-1-ALSD Website (1)
SUMMARY:Last Day of School (Grades TK-7)
END:VEVENT
BEGIN:VEVENT
DTSTAMP:20260419T213107Z
UID:187e6595-de26-47ca-bebe-6fe88e2994b6
DTSTART;VALUE=DATE:20260521
DTEND;VALUE=DATE:20260522
DESCRIPTION:
LOCATION:DSC A-1-ALSD Website (1)
SUMMARY:Last Day of School for 8th Grade Students (Promotion)
END:VEVENT
BEGIN:VEVENT
DTSTAMP:20260419T213107Z
UID:77816add-1954-4a9f-8fa1-d9ff28872cec
DTSTART;VALUE=DATE:20260525
DTEND;VALUE=DATE:20260526
DESCRIPTION:
LOCATION:
SUMMARY:Memorial Day Holiday
END:VEVENT
BEGIN:VEVENT
DTSTAMP:20260419T213107Z
UID:9c4e320d-dbc8-482a-a96a-71f3f32f3572
DTSTART:20260610T180000
DTEND:20260610T200000
DESCRIPTION:
LOCATION:9390 Base Line Rd\, Rancho Cucamonga\, CA 91701\, USA\, DSC A-1-AL
 SD Website (1)
SUMMARY:Board of Trustees Meeting
END:VEVENT
BEGIN:VEVENT
DTSTAMP:20260419T213107Z
UID:0a6b9b88-ca7f-4d09-bc4a-22e81e61dd5b
DTSTART:20260617T180000
DTEND:20260617T200000
DESCRIPTION:
LOCATION:9390 Base Line Rd\, Rancho Cucamonga\, CA 91701\, USA\, DSC A-1-AL
 SD Website (1)
SUMMARY:Board of Trustees Meeting
END:VEVENT
BEGIN:VEVENT
DTSTAMP:20260419T213107Z
UID:6da6bdce-7b62-4d4e-bead-ec164e80c266
DTSTART:20260720T073000
DTEND:20260720T163000
DESCRIPTION:
LOCATION:(Calendar)-ALE-Website
SUMMARY:School Office Opens
END:VEVENT
BEGIN:VEVENT
DTSTAMP:20260419T213107Z
UID:d1d7964a-67ee-4501-a07d-6fdba68b633e
DTSTART:20260803T081000
DTEND:20260803T131000
DESCRIPTION:
LOCATION:(Calendar)-ALE-Website
SUMMARY:Modified Day Dismissal 1:10 pm
END:VEVENT
BEGIN:VEVENT
DTSTAMP:20260419T213107Z
UID:c6d448fd-627e-4bd3-85b4-88aaf95b7f5e
DTSTART:20260803T081000
DTEND:20260803T084000
DESCRIPTION:
LOCATION:
SUMMARY:TK/K Orientation
END:VEVENT
BEGIN:VEVENT
DTSTAMP:20260419T213107Z
UID:72fa574e-57ce-4e40-9db9-2b6c777195e1
DTSTART:20260804T081000
DTEND:20260804T131000
DESCRIPTION:
LOCATION:(Calendar)-ALE-Website
SUMMARY:Modified Day Dismissal 1:10 pm
END:VEVENT
BEGIN:VEVENT
DTSTAMP:20260419T213107Z
UID:f00c418e-261d-46fc-bbbe-faf8da8ac4c0
DTSTART:20260805T081000
DTEND:20260805T131000
DESCRIPTION:
LOCATION:(Calendar)-ALE-Website
SUMMARY:Modified Day Dismissal 1:10 pm
END:VEVENT
BEGIN:VEVENT
DTSTAMP:20260419T213107Z
UID:ed556f39-bede-4dd4-9151-d90751d276a2
DTSTART:20260806T081000
DTEND:20260806T131000
DESCRIPTION:
LOCATION:(Calendar)-ALE-Website
SUMMARY:Modified Day Dismissal 1:10 pm
END:VEVENT
BEGIN:VEVENT
DTSTAMP:20260419T213107Z
UID:82e292ae-8f3f-497b-b35f-8494d8f1814d
DTSTART:20260807T081000
DTEND:20260807T131000
DESCRIPTION:
LOCATION:
SUMMARY:Modified Day Dismissal 1:10 pm
END:VEVENT
BEGIN:VEVENT
DTSTAMP:20260419T213107Z
UID:67185a52-1e74-47b5-a18c-1c3b41c44a21
DTSTART:20260807T083000
DTEND:20260807T090000
DESCRIPTION:
LOCATION:(Calendar)-ALE-Website
SUMMARY:Coffee with the Principal
END:VEVENT
BEGIN:VEVENT
DTSTAMP:20260419T213107Z
UID:7fe2a141-6032-4089-ab42-a77ce72bcf1d
DTSTART:20260904T082000
DTEND:20260904T084500
DESCRIPTION:
LOCATION:(Calendar)-ALE-Website
SUMMARY:Cub Pride Assembly TK-5
END:VEVENT
BEGIN:VEVENT
DTSTAMP:20260419T213107Z
UID:20bb5db5-35d3-4f00-981b-7689f14765b7
DTSTART;VALUE=DATE:20260907
DTEND;VALUE=DATE:20260908
DESCRIPTION:
LOCATION:(Calendar)-ALE-Website
SUMMARY:Labor Day
END:VEVENT
BEGIN:VEVENT
DTSTAMP:20260419T213107Z
UID:d9718057-c4d9-46ed-8596-4c3c52866dbf
DTSTART;VALUE=DATE:20260908
DTEND;VALUE=DATE:20260909
DESCRIPTION:
LOCATION:(Calendar)-ALE-Website
SUMMARY:TK Grandparents Day
END:VEVENT
BEGIN:VEVENT
DTSTAMP:20260419T213107Z
UID:72ca7a60-a4c8-462d-b1d3-b8e36ec52f50
DTSTART;VALUE=DATE:20260917
DTEND;VALUE=DATE:20260918
DESCRIPTION:
LOCATION:(Calendar)-ALE-Website
SUMMARY:Elementary Parent Conferences (Modified Days for Grades K-5)
END:VEVENT
BEGIN:VEVENT
DTSTAMP:20260419T213107Z
UID:174a67c0-cc0f-405d-a0ec-da25980a962c
DTSTART;VALUE=DATE:20261005
DTEND;VALUE=DATE:20261006
DESCRIPTION:
LOCATION:(Calendar)-ALE-Website
SUMMARY:Staff Development Day
END:VEVENT
BEGIN:VEVENT
DTSTAMP:20260419T213107Z
UID:bf2131c8-367f-421a-8585-afeca9392962
DTSTART;VALUE=DATE:20261007
DTEND;VALUE=DATE:20261008
DESCRIPTION:
LOCATION:(Calendar)-ALE-Website
SUMMARY:Walk to School Day
END:VEVENT
BEGIN:VEVENT
DTSTAMP:20260419T213107Z
UID:edac6662-33d8-4db7-9373-9e476d8900fb
DTSTART;VALUE=DATE:20261030
DTEND;VALUE=DATE:20261031
DESCRIPTION:
LOCATION:(Calendar)-ALE-Website
SUMMARY:End of 1st Trimester
END:VEVENT
BEGIN:VEVENT
DTSTAMP:20260419T213107Z
UID:e4dd4ca3-943b-4180-8d87-a66ed91813fb
DTSTART:20261030T082000
DTEND:20261030T090000
DESCRIPTION:
LOCATION:
SUMMARY:Costume Parade 
END:VEVENT
BEGIN:VEVENT
DTSTAMP:20260419T213107Z
UID:202a0857-b3e7-4cfa-8b47-260b3d0df5bb
DTSTART:20261106T082000
DTEND:20261106T084500
DESCRIPTION:
LOCATION:(Calendar)-ALE-Website
SUMMARY:Cub Pride/Veterans Assembly
END:VEVENT
BEGIN:VEVENT
DTSTAMP:20260419T213107Z
UID:4cfd1782-decd-42df-a6d4-7c24c97213d2
DTSTART;VALUE=DATE:20261111
DTEND;VALUE=DATE:20261112
DESCRIPTION:
LOCATION:(Calendar)-ALE-Website
SUMMARY:Veterans Day
END:VEVENT
BEGIN:VEVENT
DTSTAMP:20260419T213107Z
UID:a66585ed-e1f8-4ecb-b84a-59733d68177e
DTSTART;VALUE=DATE:20261116
DTEND;VALUE=DATE:20261120
DESCRIPTION:
LOCATION:(Calendar)-ALE-Website
SUMMARY:Elementary Parent Conferences (Modified Days for Grades K-5)
END:VEVENT
BEGIN:VEVENT
DTSTAMP:20260419T213107Z
UID:0f392dc7-e755-49ce-88f1-6c429902c50b
DTSTART:20261120T082000
DTEND:20261120T090000
DESCRIPTION:
LOCATION:(Calendar)-ALE-Website
SUMMARY:1st Trimester Awards Assembly 4th/5th
END:VEVENT
BEGIN:VEVENT
DTSTAMP:20260419T213107Z
UID:ddce2ba8-762a-47cf-94e6-a441302a1637
DTSTART;VALUE=DATE:20261123
DTEND;VALUE=DATE:20261127
DESCRIPTION:
LOCATION:(Calendar)-ALE-Website
SUMMARY:Thanksgiving Holidays
END:VEVENT
BEGIN:VEVENT
DTSTAMP:20260419T213107Z
UID:516080ba-29f2-45bf-8bdc-17060e4e9670
DTSTART:20261204T082000
DTEND:20261204T084500
DESCRIPTION:
LOCATION:(Calendar)-ALE-Website
SUMMARY:Cub Pride Assembly TK-5
END:VEVENT
BEGIN:VEVENT
DTSTAMP:20260419T213107Z
UID:1b4224aa-7b21-4588-8eca-8ebd17c2850e
DTSTART;VALUE=DATE:20261217
DTEND;VALUE=DATE:20261218
DESCRIPTION:
LOCATION:(Calendar)-ALE-Website
SUMMARY:Modified Day for Grades K-5
END:VEVENT
BEGIN:VEVENT
DTSTAMP:20260419T213107Z
UID:c80fa8ad-0ced-4698-bda1-a7c562d0eab2
DTSTART:20261217T082000
DTEND:20261217T090000
DESCRIPTION:
LOCATION:
SUMMARY:Kinder Polar Express
END:VEVENT
BEGIN:VEVENT
DTSTAMP:20260419T213107Z
UID:80664016-fe7d-4d0c-98bf-6efdcebfa461
DTSTART;VALUE=DATE:20261218
DTEND;VALUE=DATE:20261219
DESCRIPTION:
LOCATION:(Calendar)-ALE-Website
SUMMARY:Admissions Day-No School
END:VEVENT
BEGIN:VEVENT
DTSTAMP:20260419T213107Z
UID:ef2e031d-6a41-4f23-95fc-46dd5a5c8b9f
DTSTART;VALUE=DATE:20261221
DTEND;VALUE=DATE:20261231
DESCRIPTION:
LOCATION:(Calendar)-ALE-Website
SUMMARY:Christimas Holidays/Winter Recess
END:VEVENT
BEGIN:VEVENT
DTSTAMP:20260419T213107Z
UID:01633478-e7a9-4b72-a116-f71118412280
DTSTART;VALUE=DATE:20270101
DTEND;VALUE=DATE:20270102
DESCRIPTION:
LOCATION:(Calendar)-ALE-Website
SUMMARY:New Year's Holiday/Winter Recess
END:VEVENT
BEGIN:VEVENT
DTSTAMP:20260419T213107Z
UID:6cae3603-9928-4f7d-b150-d549c600d482
DTSTART;VALUE=DATE:20270104
DTEND;VALUE=DATE:20270105
DESCRIPTION:
LOCATION:(Calendar)-ALE-Website
SUMMARY:Student's Return
END:VEVENT
BEGIN:VEVENT
DTSTAMP:20260419T213107Z
UID:0b4ddb89-8a9e-420a-958c-fcbf2eb59e87
DTSTART:20270108T082000
DTEND:20270108T084500
DESCRIPTION:
LOCATION:(Calendar)-ALE-Website
SUMMARY:Cub Pride Assembly TK-5
END:VEVENT
BEGIN:VEVENT
DTSTAMP:20260419T213107Z
UID:2729d837-731c-452b-b4c9-e4db9ca2419a
DTSTART;VALUE=DATE:20270115
DTEND;VALUE=DATE:20270116
DESCRIPTION:
LOCATION:(Calendar)-ALE-Website
SUMMARY:101st Day of School
END:VEVENT
BEGIN:VEVENT
DTSTAMP:20260419T213107Z
UID:7615e954-9d60-4097-a4a0-d66da39239b8
DTSTART;VALUE=DATE:20270118
DTEND;VALUE=DATE:20270119
DESCRIPTION:
LOCATION:(Calendar)-ALE-Website
SUMMARY:Martin Luther King Jr. Day
END:VEVENT
BEGIN:VEVENT
DTSTAMP:20260419T213107Z
UID:538eeb2a-add6-4bda-9e36-2eeee2528825
DTSTART;VALUE=DATE:20270125
DTEND;VALUE=DATE:20270129
DESCRIPTION:
LOCATION:(Calendar)-ALE-Website
SUMMARY:Great Kindness Week
END:VEVENT
BEGIN:VEVENT
DTSTAMP:20260419T213107Z
UID:e2614cac-96f0-44ca-b8c1-d3dacd003c6c
DTSTART:20270205T082000
DTEND:20270205T084500
DESCRIPTION:
LOCATION:(Calendar)-ALE-Website
SUMMARY:Cub Pride Assembly TK-5
END:VEVENT
BEGIN:VEVENT
DTSTAMP:20260419T213107Z
UID:15859f54-9185-49b1-9ff7-7c33737c44c2
DTSTART;VALUE=DATE:20270208
DTEND;VALUE=DATE:20270209
DESCRIPTION:
LOCATION:(Calendar)-ALE-Website
SUMMARY:President Lincoln's Birthday
END:VEVENT
BEGIN:VEVENT
DTSTAMP:20260419T213107Z
UID:b07814b9-b7f4-4ee3-ac16-c52dc9b308b3
DTSTART;VALUE=DATE:20270215
DTEND;VALUE=DATE:20270216
DESCRIPTION:
LOCATION:(Calendar)-ALE-Website
SUMMARY:Presidents' Day
END:VEVENT
BEGIN:VEVENT
DTSTAMP:20260419T213107Z
UID:6c6f1eea-4328-40ba-a413-8952671f09fa
DTSTART;VALUE=DATE:20270219
DTEND;VALUE=DATE:20270220
DESCRIPTION:
LOCATION:
SUMMARY:End of 2nd Trimester
END:VEVENT
BEGIN:VEVENT
DTSTAMP:20260419T213107Z
UID:92b0a37e-64fe-41b7-93ac-9323a4af721c
DTSTART;VALUE=DATE:20270219
DTEND;VALUE=DATE:20270220
DESCRIPTION:
LOCATION:(Calendar)-ALE-Website
SUMMARY:End of Trimester 2
END:VEVENT
BEGIN:VEVENT
DTSTAMP:20260419T213107Z
UID:c3951308-e0fb-4add-898d-f46e1688df6d
DTSTART;VALUE=DATE:20270225
DTEND;VALUE=DATE:20270226
DESCRIPTION:
LOCATION:(Calendar)-ALE-Website
SUMMARY:School Site Council Meeting
END:VEVENT
BEGIN:VEVENT
DTSTAMP:20260419T213107Z
UID:2bdf4a41-47a3-4c7f-8a7e-b5768b7f683a
DTSTART;VALUE=DATE:20270302
DTEND;VALUE=DATE:20270303
DESCRIPTION:
LOCATION:(Calendar)-ALE-Website
SUMMARY:Elementary Parent Conferences (Modified Days for Grades K-5)
END:VEVENT
BEGIN:VEVENT
DTSTAMP:20260419T213107Z
UID:9aee4420-5368-4086-b04a-e319752270ba
DTSTART;VALUE=DATE:20270304
DTEND;VALUE=DATE:20270305
DESCRIPTION:
LOCATION:(Calendar)-ALE-Website
SUMMARY:Elementary Parent Conferences (Modified Days for Grades K-5)
END:VEVENT
BEGIN:VEVENT
DTSTAMP:20260419T213107Z
UID:7f91d52a-35d9-4d75-8e84-34886b5bf400
DTSTART:20270305T082000
DTEND:20270305T084500
DESCRIPTION:
LOCATION:(Calendar)-ALE-Website
SUMMARY:Cub Pride Assembly TK-5
END:VEVENT
BEGIN:VEVENT
DTSTAMP:20260419T213107Z
UID:9250f3d3-c09a-4484-9bcd-6cda81618d6d
DTSTART;VALUE=DATE:20270308
DTEND;VALUE=DATE:20270309
DESCRIPTION:
LOCATION:(Calendar)-ALE-Website
SUMMARY:Staff Development Day
END:VEVENT
BEGIN:VEVENT
DTSTAMP:20260419T213107Z
UID:dd6cb32c-7c3e-4814-a684-8a5c80e9898c
DTSTART:20270312T083000
DTEND:20270312T090000
DESCRIPTION:
LOCATION:(Calendar)-ALE-Website
SUMMARY:Coffee with the Principal
END:VEVENT
BEGIN:VEVENT
DTSTAMP:20260419T213107Z
UID:70eb4aef-944e-4686-b4eb-6f6867112943
DTSTART:20270315T150000
DTEND:20270315T160000
DESCRIPTION:
LOCATION:(Calendar)-ALE-Website
SUMMARY:Leadership Meeting
END:VEVENT
BEGIN:VEVENT
DTSTAMP:20260419T213107Z
UID:c6d41e3f-5784-4e5a-a912-089952bffd6e
DTSTART:20270319T082000
DTEND:20270319T090000
DESCRIPTION:
LOCATION:(Calendar)-ALE-Website
SUMMARY:2nd  Trimester Awards Assembly 4th/5th
END:VEVENT
BEGIN:VEVENT
DTSTAMP:20260419T213107Z
UID:0fb951c2-8c76-47a5-8012-ded53b319780
DTSTART;VALUE=DATE:20270326
DTEND;VALUE=DATE:20270327
DESCRIPTION:
LOCATION:(Calendar)-ALE-Website
SUMMARY:Modified Day for Grades K-5
END:VEVENT
BEGIN:VEVENT
DTSTAMP:20260419T213107Z
UID:4965ec98-1a39-4b3e-843e-48564ad00a99
DTSTART;VALUE=DATE:20270329
DTEND;VALUE=DATE:20270402
DESCRIPTION:
LOCATION:(Calendar)-ALE-Website
SUMMARY:Spring Recess
END:VEVENT
BEGIN:VEVENT
DTSTAMP:20260419T213107Z
UID:d3658467-de5f-4974-a520-6cc1d11b1e55
DTSTART:20270414T133000
DTEND:20270414T143000
DESCRIPTION:
LOCATION:(Calendar)-ALE-Website
SUMMARY:Volunteer Tea
END:VEVENT
BEGIN:VEVENT
DTSTAMP:20260419T213107Z
UID:d8244bfb-2608-44f5-bd73-c63fc53c9d16
DTSTART:20270419T150000
DTEND:20270419T160000
DESCRIPTION:
LOCATION:(Calendar)-ALE-Website
SUMMARY:Leadership Meeting
END:VEVENT
BEGIN:VEVENT
DTSTAMP:20260419T213107Z
UID:c233d248-f485-4cf4-b9cd-403a90ce49b0
DTSTART:20270421T131000
DTEND:20270421T143000
DESCRIPTION:
LOCATION:(Calendar)-ALE-Website
SUMMARY:Talent Show Practice
END:VEVENT
BEGIN:VEVENT
DTSTAMP:20260419T213107Z
UID:ef7bbb7c-467d-4997-b36c-5d538bf3c4b1
DTSTART;VALUE=DATE:20270422
DTEND;VALUE=DATE:20270423
DESCRIPTION:
LOCATION:(Calendar)-ALE-Website
SUMMARY:School Site Council Meeting
END:VEVENT
BEGIN:VEVENT
DTSTAMP:20260419T213107Z
UID:2e6a7c7e-2a76-43fc-acbe-f158f5517ada
DTSTART:20270428T131000
DTEND:20270428T143000
DESCRIPTION:
LOCATION:(Calendar)-ALE-Website
SUMMARY:Talent Show Practice
END:VEVENT
BEGIN:VEVENT
DTSTAMP:20260419T213107Z
UID:fde7f465-1afb-49a4-8669-3b5517d68e34
DTSTART;VALUE=DATE:20270503
DTEND;VALUE=DATE:20270507
DESCRIPTION:
LOCATION:
SUMMARY:Staff Appreciation Week
END:VEVENT
BEGIN:VEVENT
DTSTAMP:20260419T213107Z
UID:70068908-3b37-45b3-8031-2e030eea309f
DTSTART:20270504T090000
DTEND:20270504T120000
DESCRIPTION:
LOCATION:
SUMMARY:Kindergarten Assessments
END:VEVENT
BEGIN:VEVENT
DTSTAMP:20260419T213107Z
UID:20e40280-6922-4316-b2af-079afeeaaaad
DTSTART:20270505T131000
DTEND:20270505T143000
DESCRIPTION:
LOCATION:(Calendar)-ALE-Website
SUMMARY:Talent Show Practice
END:VEVENT
BEGIN:VEVENT
DTSTAMP:20260419T213107Z
UID:21d0c616-b5d1-4631-b93a-4e204fc7d342
DTSTART:20270506T173000
DTEND:20270506T183000
DESCRIPTION:
LOCATION:(Calendar)-ALE-Website
SUMMARY:Open House
END:VEVENT
BEGIN:VEVENT
DTSTAMP:20260419T213107Z
UID:f468d961-9546-493c-b32b-fa1207bed1fc
DTSTART:20270507T082000
DTEND:20270507T084500
DESCRIPTION:
LOCATION:(Calendar)-ALE-Website
SUMMARY:Cub Pride Assembly TK-5/ April & May
END:VEVENT
BEGIN:VEVENT
DTSTAMP:20260419T213107Z
UID:29e7fd4a-0a60-44e3-a248-53593d96e82a
DTSTART:20270510T082000
DTEND:20270510T092000
DESCRIPTION:
LOCATION:(Calendar)-ALE-Website
SUMMARY:Talent Show Dress Rehearsal
END:VEVENT
BEGIN:VEVENT
DTSTAMP:20260419T213107Z
UID:b6e223d4-ccbc-4f76-b974-a779cd9e6876
DTSTART:20270513T180000
DTEND:20270513T190000
DESCRIPTION:
LOCATION:(Calendar)-ALE-Website
SUMMARY:Talent Show
END:VEVENT
BEGIN:VEVENT
DTSTAMP:20260419T213107Z
UID:8b1e1c5b-d17c-4c80-a0f0-f6ddf6f76e1d
DTSTART:20270514T082000
DTEND:20270514T090000
DESCRIPTION:
LOCATION:(Calendar)-ALE-Website
SUMMARY:3rd Trimester Awards Assembly 4th
END:VEVENT
BEGIN:VEVENT
DTSTAMP:20260419T213107Z
UID:11ec5a75-f930-4fb2-a57a-237c15513514
DTSTART;VALUE=DATE:20270519
DTEND;VALUE=DATE:20270520
DESCRIPTION:
LOCATION:(Calendar)-ALE-Website
SUMMARY:Last Day of School
END:VEVENT
BEGIN:VEVENT
DTSTAMP:20260419T213107Z
UID:b8149557-1e66-42a6-94e8-4d74e028ddd8
DTSTART:20270519T083000
DTEND:20270519T100000
DESCRIPTION:
LOCATION:
SUMMARY:5th Gr. Celebration & Awards
END:VEVENT
BEGIN:VEVENT
DTSTAMP:20260419T213107Z
UID:ddc5d5e8-45e4-4161-80f8-bf616a77e31e
DTSTART;VALUE=DATE:20271030
DTEND;VALUE=DATE:20271031
DESCRIPTION:
LOCATION:(Calendar)-ALE-Website
SUMMARY:End of Trimester 1
END:VEVENT
END:VCALENDAR
