BEGIN:VCALENDAR
VERSION:2.0
PRODID:icalendar-ruby
CALSCALE:GREGORIAN
BEGIN:VTIMEZONE
TZID:America/New_York
BEGIN:DAYLIGHT
DTSTART:20260308T030000
TZOFFSETFROM:-0500
TZOFFSETTO:-0400
RRULE:FREQ=YEARLY;BYDAY=2SU;BYMONTH=3
TZNAME:EDT
END:DAYLIGHT
BEGIN:STANDARD
DTSTART:20261101T010000
TZOFFSETFROM:-0400
TZOFFSETTO:-0500
RRULE:FREQ=YEARLY;BYDAY=1SU;BYMONTH=11
TZNAME:EST
END:STANDARD
END:VTIMEZONE
BEGIN:VEVENT
DTSTAMP:20260422T170809Z
UID:8d12c5ae-6f77-4771-808a-ee0e1187a824
DTSTART:20260421T093000
DTEND:20260422T123000
DESCRIPTION:
LOCATION:
SUMMARY:PI Gr. 3-5 New York State ELA Exams
END:VEVENT
BEGIN:VEVENT
DTSTAMP:20260422T170809Z
UID:4471c29e-8b53-4ad9-a2e8-f007f197eb19
DTSTART:20260423T083000
DTEND:20260423T083000
DESCRIPTION:
LOCATION:
SUMMARY:PI National Anthem Rehearsal
END:VEVENT
BEGIN:VEVENT
DTSTAMP:20260422T170809Z
UID:d9997bf8-c138-4eb9-a639-c228b531288b
DTSTART:20260423T190000
DTEND:20260423T200000
DESCRIPTION:
LOCATION:
SUMMARY:SEPTA 7 pm
END:VEVENT
BEGIN:VEVENT
DTSTAMP:20260422T170809Z
UID:be803fa1-8e28-4a66-8211-38d4afe4934d
DTSTART;VALUE=DATE:20260424
DTEND;VALUE=DATE:20260425
DESCRIPTION:
LOCATION:
SUMMARY:Denim Day for Autism (Wear Blue)
END:VEVENT
BEGIN:VEVENT
DTSTAMP:20260422T170809Z
UID:17aee853-4017-4857-905d-f6b5ffcaec59
DTSTART:20260424T180000
DTEND:20260424T190000
DESCRIPTION:
LOCATION:
SUMMARY:PTA Gr. 5 Spirit Night
END:VEVENT
BEGIN:VEVENT
DTSTAMP:20260422T170809Z
UID:592af396-0afa-48c4-83fb-96e2b011f570
DTSTART:20260427T093000
DTEND:20260428T123000
DESCRIPTION:
LOCATION:
SUMMARY:PI GR. 3-5 NYS Math Exam
END:VEVENT
BEGIN:VEVENT
DTSTAMP:20260422T170809Z
UID:4fbf0521-94ef-483b-b732-fd1e818d1152
DTSTART:20260428T190000
DTEND:20260428T200000
DESCRIPTION:
LOCATION:
SUMMARY:Grade 5 MS Parent Orientation (@ MS Auditorium)
END:VEVENT
BEGIN:VEVENT
DTSTAMP:20260422T170809Z
UID:5340132c-03cb-49f0-9ceb-7c07ac99c188
DTSTART;VALUE=DATE:20260429
DTEND;VALUE=DATE:20260502
DESCRIPTION:
LOCATION:
SUMMARY: Spring Book Fair
END:VEVENT
BEGIN:VEVENT
DTSTAMP:20260422T170809Z
UID:2cea37ff-d68d-4bbc-8793-0f8c759d88d5
DTSTART:20260429T160000
DTEND:20260429T190000
DESCRIPTION:
LOCATION:
SUMMARY:Book Fair Art Show
END:VEVENT
BEGIN:VEVENT
DTSTAMP:20260422T170809Z
UID:fd9c5bbb-e899-4f8e-b126-7339e104612a
DTSTART:20260429T190000
DTEND:20260429T200000
DESCRIPTION:
LOCATION:
SUMMARY:5th Grade Maturity Night Presentation @ H.S. Rear auditorium
END:VEVENT
BEGIN:VEVENT
DTSTAMP:20260422T170809Z
UID:98942f6b-35de-4edd-a731-5ad86c964316
DTSTART;VALUE=DATE:20260504
DTEND;VALUE=DATE:20260509
DESCRIPTION:
LOCATION:
SUMMARY:Elementary PTA Teacher/Staff Appreciation 
END:VEVENT
BEGIN:VEVENT
DTSTAMP:20260422T170809Z
UID:f577d284-6c21-4bae-ba3d-471bde733bba
DTSTART:20260504T190000
DTEND:20260504T200000
DESCRIPTION:
LOCATION:
SUMMARY:PTA Mtg 
END:VEVENT
BEGIN:VEVENT
DTSTAMP:20260422T170809Z
UID:1b6092a5-b57f-4a1a-813f-c7485efa55db
DTSTART;VALUE=DATE:20260505
DTEND;VALUE=DATE:20260506
DESCRIPTION:
LOCATION:
SUMMARY:Grade 5 Orientation  @ MS
END:VEVENT
BEGIN:VEVENT
DTSTAMP:20260422T170809Z
UID:9e523786-a517-4575-94b1-fce02b8fb3ea
DTSTART;VALUE=DATE:20260505
DTEND;VALUE=DATE:20260506
DESCRIPTION:
LOCATION:
SUMMARY:Teacher Appreciation Day
END:VEVENT
BEGIN:VEVENT
DTSTAMP:20260422T170809Z
UID:8baa2ae4-a464-4fdf-91ff-d0c3fc72b862
DTSTART;VALUE=DATE:20260508
DTEND;VALUE=DATE:20260509
DESCRIPTION:
LOCATION:
SUMMARY:All 5th graders Adventureland Trip
END:VEVENT
BEGIN:VEVENT
DTSTAMP:20260422T170809Z
UID:4738d5e1-ef45-4f2d-b1dd-f75a8cace82f
DTSTART;VALUE=DATE:20260510
DTEND;VALUE=DATE:20260511
DESCRIPTION:
LOCATION:
SUMMARY:Mother's Day
END:VEVENT
BEGIN:VEVENT
DTSTAMP:20260422T170809Z
UID:bf1fb8b4-49e1-492a-9b08-13d561a5a2c5
DTSTART;VALUE=DATE:20260511
DTEND;VALUE=DATE:20260516
DESCRIPTION:
LOCATION:
SUMMARY:Pines Elementary Kindergarten Screening
END:VEVENT
BEGIN:VEVENT
DTSTAMP:20260422T170809Z
UID:10955c8a-19a1-4ddb-9ee8-0ab1583e8d4e
DTSTART:20260512T200000
DTEND:20260512T210000
DESCRIPTION:
LOCATION:
SUMMARY:Board of Education Business Meeting & Budget Hearing
END:VEVENT
BEGIN:VEVENT
DTSTAMP:20260422T170809Z
UID:4170093b-d095-4deb-bafc-b7d2c4d5d52b
DTSTART;VALUE=DATE:20260513
DTEND;VALUE=DATE:20260514
DESCRIPTION:
LOCATION:
SUMMARY:PI Smoke House (3rd Grade)
END:VEVENT
BEGIN:VEVENT
DTSTAMP:20260422T170809Z
UID:3f35a6a6-071e-4fd6-8566-a36892a22b67
DTSTART:20260513T090000
DTEND:20260513T100000
DESCRIPTION:
LOCATION:
SUMMARY:PI Concert rehearsal@ High School
END:VEVENT
BEGIN:VEVENT
DTSTAMP:20260422T170809Z
UID:a5158cb2-47ee-4a16-bfd0-a0f0cc2b4f5c
DTSTART:20260513T190000
DTEND:20260513T190000
DESCRIPTION:
LOCATION:
SUMMARY:Pines Advanced Concert @ HS 
END:VEVENT
BEGIN:VEVENT
DTSTAMP:20260422T170809Z
UID:8ef2fc49-f13a-4a3b-ae4f-386eafff3014
DTSTART:20260518T190000
DTEND:20260518T200000
DESCRIPTION:
LOCATION:
SUMMARY:PTA Council Mtg
END:VEVENT
BEGIN:VEVENT
DTSTAMP:20260422T170809Z
UID:7b1ae195-d9c8-4764-9337-7c2bb95e9bcc
DTSTART:20260519T060000
DTEND:20260519T210000
DESCRIPTION:
LOCATION:
SUMMARY:School Budget Vote & Board Member Election
END:VEVENT
BEGIN:VEVENT
DTSTAMP:20260422T170809Z
UID:c5fc6189-d428-4316-9cec-fbd800f9dcc6
DTSTART;VALUE=DATE:20260520
DTEND;VALUE=DATE:20260521
DESCRIPTION:
LOCATION:
SUMMARY:Family Connect Night
END:VEVENT
BEGIN:VEVENT
DTSTAMP:20260422T170809Z
UID:eeb24510-ea47-4218-9da5-5200c5b87e3c
DTSTART;VALUE=DATE:20260521
DTEND;VALUE=DATE:20260522
DESCRIPTION:
LOCATION:
SUMMARY:Police and Fire Recognition Day
END:VEVENT
BEGIN:VEVENT
DTSTAMP:20260422T170809Z
UID:7033eabe-acf3-4230-9db3-2fa483409798
DTSTART;VALUE=DATE:20260522
DTEND;VALUE=DATE:20260523
DESCRIPTION:
LOCATION:
SUMMARY:If 4 emergency days are used\, school will be closed
END:VEVENT
BEGIN:VEVENT
DTSTAMP:20260422T170809Z
UID:fea3bd08-9dd7-4ff3-8653-ecf2ebf30100
DTSTART;VALUE=DATE:20260522
DTEND;VALUE=DATE:20260526
DESCRIPTION:
LOCATION:
SUMMARY:Memorial Day Recess \, Schools are closed 
END:VEVENT
BEGIN:VEVENT
DTSTAMP:20260422T170809Z
UID:7a614aec-4741-4cbb-9ce1-56acce058b66
DTSTART;VALUE=DATE:20260526
DTEND;VALUE=DATE:20260527
DESCRIPTION:
LOCATION:
SUMMARY:EID- AL-ADHA
END:VEVENT
BEGIN:VEVENT
DTSTAMP:20260422T170809Z
UID:0dcbe54a-e24e-4c99-a306-8cc5fb846a87
DTSTART;VALUE=DATE:20260526
DTEND;VALUE=DATE:20260527
DESCRIPTION:
LOCATION:
SUMMARY:Schools Reopen
END:VEVENT
BEGIN:VEVENT
DTSTAMP:20260422T170809Z
UID:fa5ae8bc-1105-40ae-ba25-f39ed20e8f10
DTSTART;VALUE=DATE:20260531
DTEND;VALUE=DATE:20260601
DESCRIPTION:
LOCATION:
SUMMARY:PI  Citifield
END:VEVENT
BEGIN:VEVENT
DTSTAMP:20260422T170809Z
UID:7bf9cac8-7914-4faa-ae66-daeff466e58a
DTSTART:20260603T190000
DTEND:20260603T200000
DESCRIPTION:
LOCATION:
SUMMARY:Beginner Concert @ HS
END:VEVENT
BEGIN:VEVENT
DTSTAMP:20260422T170809Z
UID:17ac6d56-7077-48d2-ba6b-b409d70dd21d
DTSTART:20260604T140000
DTEND:20260604T150000
DESCRIPTION:
LOCATION:
SUMMARY:Awards Ceremony
END:VEVENT
BEGIN:VEVENT
DTSTAMP:20260422T170809Z
UID:62cc3d0d-b6ec-4117-a165-5e58a3cbce7c
DTSTART;VALUE=DATE:20260605
DTEND;VALUE=DATE:20260606
DESCRIPTION:
LOCATION:
SUMMARY:Field Day
END:VEVENT
BEGIN:VEVENT
DTSTAMP:20260422T170809Z
UID:30d8e77e-a05e-4a95-9cc2-fd7912812176
DTSTART;VALUE=DATE:20260606
DTEND;VALUE=DATE:20260607
DESCRIPTION:
LOCATION:
SUMMARY:Field Day
END:VEVENT
BEGIN:VEVENT
DTSTAMP:20260422T170809Z
UID:84defb62-579e-49c4-b630-6acac00204f0
DTSTART:20260608T100000
DTEND:20260608T110000
DESCRIPTION:
LOCATION:
SUMMARY:Incoming/Kindergarten Parent/Student Orientation
END:VEVENT
BEGIN:VEVENT
DTSTAMP:20260422T170809Z
UID:1509a98f-01a2-4de5-bea2-76beb8efa491
DTSTART;VALUE=DATE:20260609
DTEND;VALUE=DATE:20260610
DESCRIPTION:
LOCATION:
SUMMARY:Board of Education/Community  Meeting at the High Scholl 
END:VEVENT
BEGIN:VEVENT
DTSTAMP:20260422T170809Z
UID:b7533138-8171-490e-869f-1c290ef47c0d
DTSTART;VALUE=DATE:20260610
DTEND;VALUE=DATE:20260611
DESCRIPTION:
LOCATION:
SUMMARY:Family Connect Night
END:VEVENT
BEGIN:VEVENT
DTSTAMP:20260422T170809Z
UID:d2cc7bd3-3a5d-419b-aea3-be6b612ec03a
DTSTART;VALUE=DATE:20260619
DTEND;VALUE=DATE:20260620
DESCRIPTION:
LOCATION:
SUMMARY:Juneteenth Schools are closed
END:VEVENT
BEGIN:VEVENT
DTSTAMP:20260422T170809Z
UID:b3d5fe01-ea67-4e75-b585-126316073564
DTSTART;VALUE=DATE:20260621
DTEND;VALUE=DATE:20260622
DESCRIPTION:
LOCATION:
SUMMARY:Father's Day
END:VEVENT
BEGIN:VEVENT
DTSTAMP:20260422T170809Z
UID:6a863026-f1b9-47dd-b01b-bd01a77afa50
DTSTART:20260622T180000
DTEND:20260622T200000
DESCRIPTION:
LOCATION:
SUMMARY:Children's Summer Swim Registration Residents
END:VEVENT
BEGIN:VEVENT
DTSTAMP:20260422T170809Z
UID:25721fd3-e014-4bed-8b9d-c5f53618de01
DTSTART:20260623T093000
DTEND:20260623T093000
DESCRIPTION:
LOCATION:
SUMMARY:Fifth Grade Stepping Up
END:VEVENT
BEGIN:VEVENT
DTSTAMP:20260422T170809Z
UID:1f5d3ebb-cf5a-4ab2-b56d-021f9be797cb
DTSTART;VALUE=DATE:20260624
DTEND;VALUE=DATE:20260626
DESCRIPTION:
LOCATION:
SUMMARY:Elementary Half Days
END:VEVENT
BEGIN:VEVENT
DTSTAMP:20260422T170809Z
UID:b01777ac-fd22-4077-8514-e173f9d24fc9
DTSTART;VALUE=DATE:20260626
DTEND;VALUE=DATE:20260627
DESCRIPTION:
LOCATION:
SUMMARY:Last Day Of School Dismisal 9:30
END:VEVENT
BEGIN:VEVENT
DTSTAMP:20260422T170809Z
UID:1e4edc3a-3b19-45a5-b67a-054f96253c92
DTSTART;VALUE=DATE:20260629
DTEND;VALUE=DATE:20260630
DESCRIPTION:
LOCATION:
SUMMARY:First Day of Children's Swim
END:VEVENT
END:VCALENDAR
