BEGIN:VCALENDAR
VERSION:2.0
PRODID:icalendar-ruby
CALSCALE:GREGORIAN
BEGIN:VTIMEZONE
TZID:America/New_York
BEGIN:DAYLIGHT
DTSTART:20260308T030000
TZOFFSETFROM:-0500
TZOFFSETTO:-0400
RRULE:FREQ=YEARLY;BYDAY=2SU;BYMONTH=3
TZNAME:EDT
END:DAYLIGHT
BEGIN:STANDARD
DTSTART:20261101T010000
TZOFFSETFROM:-0400
TZOFFSETTO:-0500
RRULE:FREQ=YEARLY;BYDAY=1SU;BYMONTH=11
TZNAME:EST
END:STANDARD
END:VTIMEZONE
BEGIN:VEVENT
DTSTAMP:20260421T144937Z
UID:df03b43a-821b-4c06-a092-ba23fd65dedf
DTSTART:20260421T153500
DTEND:20260421T163000
DESCRIPTION:
LOCATION:
SUMMARY:MAS Spring After School Explorations
END:VEVENT
BEGIN:VEVENT
DTSTAMP:20260421T144937Z
UID:e364c2d9-6f20-45b0-bb26-a710b4120751
DTSTART;VALUE=DATE:20260424
DTEND;VALUE=DATE:20260425
DESCRIPTION:
LOCATION:
SUMMARY:MAS - Self Discipline - ⚫️ Wear Black ⚫️
END:VEVENT
BEGIN:VEVENT
DTSTAMP:20260421T144937Z
UID:61de5532-2fc5-4ac3-aadd-0f426b893765
DTSTART:20260428T153500
DTEND:20260428T163000
DESCRIPTION:
LOCATION:
SUMMARY:MAS Spring After School Explorations
END:VEVENT
BEGIN:VEVENT
DTSTAMP:20260421T144937Z
UID:2d9abef9-c008-4c28-99a7-7d6ca1994cb1
DTSTART:20260430T190000
DTEND:20260430T210000
DESCRIPTION:  Thursday\, January 22\, 2026\, 6:00 pm start time
LOCATION:Mohawk Avenue School
SUMMARY:BOE Meeting
END:VEVENT
BEGIN:VEVENT
DTSTAMP:20260421T144937Z
UID:06d33799-b3dc-44ce-80bf-157d7b46fa66
DTSTART;VALUE=DATE:20260501
DTEND;VALUE=DATE:20260502
DESCRIPTION:
LOCATION:
SUMMARY:MAS - 🟢 Wear Green 🟢 for Mental Health Awareness Month 
END:VEVENT
BEGIN:VEVENT
DTSTAMP:20260421T144937Z
UID:4524abb3-7a5a-43bf-bbeb-0710da5ab8a1
DTSTART;VALUE=DATE:20260504
DTEND;VALUE=DATE:20260509
DESCRIPTION:
LOCATION:Mohawk Avenue School\, 18 Mohawk Ave\, Sparta\, NJ 07871\, USA
SUMMARY:MAS - 🎉 Teacher Appreciation Week 🎉
END:VEVENT
BEGIN:VEVENT
DTSTAMP:20260421T144937Z
UID:f28f1f84-8d0b-4e5e-ace2-f9e23bbf5e50
DTSTART:20260505T153500
DTEND:20260505T163000
DESCRIPTION:
LOCATION:
SUMMARY:MAS Spring After School Explorations
END:VEVENT
BEGIN:VEVENT
DTSTAMP:20260421T144937Z
UID:654ab466-3b2e-4087-bfc2-d1c71dd49e45
DTSTART:20260512T153500
DTEND:20260512T163000
DESCRIPTION:
LOCATION:
SUMMARY:MAS Spring After School Explorations
END:VEVENT
BEGIN:VEVENT
DTSTAMP:20260421T144937Z
UID:58e1570d-37b7-4577-abe6-2a59d4960210
DTSTART:20260519T153500
DTEND:20260519T163000
DESCRIPTION:
LOCATION:
SUMMARY:MAS Spring After School Explorations
END:VEVENT
BEGIN:VEVENT
DTSTAMP:20260421T144937Z
UID:ecebc674-db8d-4afe-956f-dc12b918b14c
DTSTART:20260521T133000
DTEND:20260521T140000
DESCRIPTION:
LOCATION:
SUMMARY:MAS - PTO Virtual Meeting
END:VEVENT
BEGIN:VEVENT
DTSTAMP:20260421T144937Z
UID:de339dd0-8f3e-477d-a323-2d8959afc71d
DTSTART;VALUE=DATE:20260522
DTEND;VALUE=DATE:20260523
DESCRIPTION:
LOCATION:
SUMMARY:MAS - ⚠️ Early Dismissal - Teacher In-Service - 12:50 PM ⚠️
END:VEVENT
BEGIN:VEVENT
DTSTAMP:20260421T144937Z
UID:4a981527-1169-4cfb-a7c8-f795d57d82e8
DTSTART;VALUE=DATE:20260525
DTEND;VALUE=DATE:20260526
DESCRIPTION:
LOCATION:
SUMMARY:MAS - 🛑 No School 🛑
END:VEVENT
BEGIN:VEVENT
DTSTAMP:20260421T144937Z
UID:755487a4-1060-4b62-8323-896a130fadbd
DTSTART:20260528T190000
DTEND:20260528T210000
DESCRIPTION:  Thursday\, January 22\, 2026\, 6:00 pm start time
LOCATION:Mohawk Avenue School
SUMMARY:BOE Meeting
END:VEVENT
BEGIN:VEVENT
DTSTAMP:20260421T144937Z
UID:34c11640-d941-4480-808f-7f0ad05f3733
DTSTART;VALUE=DATE:20260529
DTEND;VALUE=DATE:20260530
DESCRIPTION:
LOCATION:
SUMMARY:MAS - Trustworthiness - 🔵 Wear Blue 🔵
END:VEVENT
BEGIN:VEVENT
DTSTAMP:20260421T144937Z
UID:f06f503a-cd2f-4e95-80d3-262293a67e48
DTSTART;VALUE=DATE:20260605
DTEND;VALUE=DATE:20260606
DESCRIPTION:
LOCATION:
SUMMARY:MAS - School Spirit Day
END:VEVENT
BEGIN:VEVENT
DTSTAMP:20260421T144937Z
UID:fa024e89-c2ab-4165-9434-d77bf55379da
DTSTART:20260611T133000
DTEND:20260611T140000
DESCRIPTION:
LOCATION:
SUMMARY:MAS - PTO Virtual Meeting
END:VEVENT
BEGIN:VEVENT
DTSTAMP:20260421T144937Z
UID:9bedb469-7935-4a47-b8a4-38ca053b46c9
DTSTART;VALUE=DATE:20260617
DTEND;VALUE=DATE:20260618
DESCRIPTION:
LOCATION:
SUMMARY:MAS - ⚠️ Early Dismissal - 12:50 PM ⚠️
END:VEVENT
BEGIN:VEVENT
DTSTAMP:20260421T144937Z
UID:5bc8cba0-622d-427d-b50d-30ffc5ab4edf
DTSTART;VALUE=DATE:20260618
DTEND;VALUE=DATE:20260619
DESCRIPTION:
LOCATION:
SUMMARY:MAS - ⚠️ Early Dismissal - 12:50 PM ⚠️
END:VEVENT
BEGIN:VEVENT
DTSTAMP:20260421T144937Z
UID:6450db6d-6ba2-4a9f-92ca-c99005081c70
DTSTART:20260618T190000
DTEND:20260618T210000
DESCRIPTION:  Thursday\, January 22\, 2026\, 6:00 pm start time
LOCATION:Mohawk Avenue School
SUMMARY:BOE Meeting
END:VEVENT
BEGIN:VEVENT
DTSTAMP:20260421T144937Z
UID:a688e739-e929-43fa-98ad-ca09d88406f2
DTSTART;VALUE=DATE:20260619
DTEND;VALUE=DATE:20260620
DESCRIPTION:
LOCATION:
SUMMARY:MAS - ⚠️ Early Dismissal - 12:50 PM ⚠️
END:VEVENT
BEGIN:VEVENT
DTSTAMP:20260421T144937Z
UID:8994ff26-641a-40bc-8ef8-2e81cae13c5d
DTSTART;VALUE=DATE:20260619
DTEND;VALUE=DATE:20260620
DESCRIPTION:
LOCATION:
SUMMARY:MAS - Fairness - Wear All Colors
END:VEVENT
BEGIN:VEVENT
DTSTAMP:20260421T144937Z
UID:c505ba8d-503a-4e83-af69-bd9ae2f05985
DTSTART;VALUE=DATE:20260619
DTEND;VALUE=DATE:20260620
DESCRIPTION:
LOCATION:
SUMMARY:MAS - 🎉 Last Day of School 🎉
END:VEVENT
BEGIN:VEVENT
DTSTAMP:20260421T144937Z
UID:84665125-45a3-4f68-bb77-7dabbd4ed984
DTSTART;VALUE=DATE:20260619
DTEND;VALUE=DATE:20260620
DESCRIPTION:
LOCATION:
SUMMARY:MAS - Trimester 3 Grades Posted to Parent Portal
END:VEVENT
BEGIN:VEVENT
DTSTAMP:20260421T144937Z
UID:45c32529-1cc5-44ff-adf6-e84e6a6a0a98
DTSTART:20260716T190000
DTEND:20260716T210000
DESCRIPTION:  Thursday\, January 22\, 2026\, 6:00 pm start time
LOCATION:Mohawk Avenue School
SUMMARY:BOE Meeting
END:VEVENT
BEGIN:VEVENT
DTSTAMP:20260421T144937Z
UID:7100a0ee-a642-4a1e-a51f-62a9cd049732
DTSTART:20260827T190000
DTEND:20260827T210000
DESCRIPTION:  Thursday\, January 22\, 2026\, 6:00 pm start time
LOCATION:Mohawk Avenue School
SUMMARY:BOE Meeting
END:VEVENT
BEGIN:VEVENT
DTSTAMP:20260421T144937Z
UID:ef0613bb-5fea-4df3-9eb5-3201bd7baa1d
DTSTART:20260924T190000
DTEND:20260924T210000
DESCRIPTION:  Thursday\, January 22\, 2026\, 6:00 pm start time
LOCATION:Mohawk Avenue School
SUMMARY:BOE Meeting
END:VEVENT
BEGIN:VEVENT
DTSTAMP:20260421T144937Z
UID:91bc5d5d-de71-455b-9581-fc3e2f97f511
DTSTART:20261015T190000
DTEND:20261015T210000
DESCRIPTION:  Thursday\, January 22\, 2026\, 6:00 pm start time
LOCATION:Mohawk Avenue School
SUMMARY:BOE Meeting
END:VEVENT
BEGIN:VEVENT
DTSTAMP:20260421T144937Z
UID:d76ddacd-24da-4c20-8060-e0143b78e6b9
DTSTART:20261119T190000
DTEND:20261119T210000
DESCRIPTION:  Thursday\, January 22\, 2026\, 6:00 pm start time
LOCATION:Mohawk Avenue School
SUMMARY:BOE Meeting
END:VEVENT
BEGIN:VEVENT
DTSTAMP:20260421T144937Z
UID:b7468dfc-f93f-4bc3-a0da-25d9b4fd8292
DTSTART:20261217T190000
DTEND:20261217T210000
DESCRIPTION:  Thursday\, January 22\, 2026\, 6:00 pm start time
LOCATION:Mohawk Avenue School
SUMMARY:BOE Meeting
END:VEVENT
END:VCALENDAR
