BEGIN:VCALENDAR
VERSION:2.0
PRODID:icalendar-ruby
CALSCALE:GREGORIAN
BEGIN:VTIMEZONE
TZID:America/Los_Angeles
BEGIN:DAYLIGHT
DTSTART:20260308T030000
TZOFFSETFROM:-0800
TZOFFSETTO:-0700
RRULE:FREQ=YEARLY;BYDAY=2SU;BYMONTH=3
TZNAME:PDT
END:DAYLIGHT
BEGIN:STANDARD
DTSTART:20261101T010000
TZOFFSETFROM:-0700
TZOFFSETTO:-0800
RRULE:FREQ=YEARLY;BYDAY=1SU;BYMONTH=11
TZNAME:PST
END:STANDARD
END:VTIMEZONE
BEGIN:VEVENT
DTSTAMP:20260419T200031Z
UID:e73699cf-78ad-4d67-9f30-3381783dd031
DTSTART:20260422T084500
DTEND:20260422T094500
DESCRIPTION:
LOCATION:(Calendar)-VG-Website
SUMMARY:Volunteer Assembly
END:VEVENT
BEGIN:VEVENT
DTSTAMP:20260419T200031Z
UID:dcfc3f0f-9c5a-4322-a65b-49866f2464a1
DTSTART:20260422T134000
DTEND:20260422T144000
DESCRIPTION:
LOCATION:
SUMMARY:Bricks for Kids
END:VEVENT
BEGIN:VEVENT
DTSTAMP:20260419T200031Z
UID:349738ce-3a5b-4617-ac44-abe998f5a36c
DTSTART:20260428T084500
DTEND:20260428T113000
DESCRIPTION:8:45-9:45 2/3\n10:15-11:15 K/1
LOCATION:(Calendar)-VG-Website
SUMMARY:Choir Concert
END:VEVENT
BEGIN:VEVENT
DTSTAMP:20260419T200031Z
UID:d18a249f-c16b-4b9f-81b3-1f075f1747e5
DTSTART:20260429T084500
DTEND:20260429T093000
DESCRIPTION:
LOCATION:(Calendar)-VG-Website
SUMMARY:Grizzly Assembly
END:VEVENT
BEGIN:VEVENT
DTSTAMP:20260419T200031Z
UID:8a3f0be7-f284-4549-9aac-517d1027dfaa
DTSTART:20260429T084500
DTEND:20260429T094500
DESCRIPTION:
LOCATION:VG-Website
SUMMARY:Grizzly Assembly
END:VEVENT
BEGIN:VEVENT
DTSTAMP:20260419T200031Z
UID:dee74e74-d43c-46a3-86ea-88002cd7481b
DTSTART:20260429T134000
DTEND:20260429T144000
DESCRIPTION:
LOCATION:
SUMMARY:Bricks for Kids
END:VEVENT
BEGIN:VEVENT
DTSTAMP:20260419T200031Z
UID:5ce93852-62d1-446a-9e37-aeb670a8bf41
DTSTART:20260504T000000
DTEND:20260509T000000
DESCRIPTION:
LOCATION:DSC A-1-ALSD Website (1)
SUMMARY:Teacher Appreciation Week
END:VEVENT
BEGIN:VEVENT
DTSTAMP:20260419T200031Z
UID:7642e331-c223-4dc4-bf3a-216fbda34c64
DTSTART;VALUE=DATE:20260506
DTEND;VALUE=DATE:20260507
DESCRIPTION:
LOCATION:(Calendar)-VG-Website
SUMMARY:Wellness Wednesday
END:VEVENT
BEGIN:VEVENT
DTSTAMP:20260419T200031Z
UID:9c0bacce-db2c-4bed-81ce-e1d68e1bf88b
DTSTART:20260506T000000
DTEND:20260507T000000
DESCRIPTION:
LOCATION:
SUMMARY:California Day of the Teacher
END:VEVENT
BEGIN:VEVENT
DTSTAMP:20260419T200031Z
UID:5df871f8-0a87-462e-930b-3b567050544e
DTSTART:20260506T090000
DTEND:20260506T120000
DESCRIPTION:
LOCATION:
SUMMARY:1st grade Safari Day
END:VEVENT
BEGIN:VEVENT
DTSTAMP:20260419T200031Z
UID:874b0c3d-9653-4b48-a713-200009f25bd5
DTSTART:20260506T134000
DTEND:20260506T144000
DESCRIPTION:
LOCATION:
SUMMARY:Bricks for Kids
END:VEVENT
BEGIN:VEVENT
DTSTAMP:20260419T200031Z
UID:a31da3f3-bde3-4a20-bb88-dc525e1fa420
DTSTART:20260511T000000
DTEND:20260516T000000
DESCRIPTION:
LOCATION:DSC A-1-ALSD Website (1)
SUMMARY:Classified School Employee Week
END:VEVENT
BEGIN:VEVENT
DTSTAMP:20260419T200031Z
UID:c8f7a582-0c30-4f86-87cb-184d7b2c0030
DTSTART:20260512T170000
DTEND:20260512T190000
DESCRIPTION:
LOCATION:(Calendar)-VG-Website
SUMMARY:Band Concert @ VJH
END:VEVENT
BEGIN:VEVENT
DTSTAMP:20260419T200031Z
UID:4f405d4c-3a17-47ab-8d3a-bf16dd7447a2
DTSTART;VALUE=DATE:20260513
DTEND;VALUE=DATE:20260514
DESCRIPTION:
LOCATION:VG-Website
SUMMARY:College & Career Day
END:VEVENT
BEGIN:VEVENT
DTSTAMP:20260419T200031Z
UID:f3b12786-5c2c-4e69-9cb2-48f0a590b206
DTSTART:20260513T083000
DTEND:20260513T120000
DESCRIPTION:
LOCATION:(Calendar)-VG-Website
SUMMARY:4th grade Early California Days
END:VEVENT
BEGIN:VEVENT
DTSTAMP:20260419T200031Z
UID:168182ff-151c-4a46-8855-47d97353e106
DTSTART:20260513T180000
DTEND:20260513T200000
DESCRIPTION:
LOCATION:9390 Base Line Rd\, Rancho Cucamonga\, CA 91701\, USA
SUMMARY:Board of Trustees Meeting
END:VEVENT
BEGIN:VEVENT
DTSTAMP:20260419T200031Z
UID:8fa1e47d-44d9-4f12-b6a1-e6da2ce86323
DTSTART:20260515T170000
DTEND:20260515T190000
DESCRIPTION:
LOCATION:(Calendar)-VG-Website
SUMMARY:PTA End Of Year Picnic
END:VEVENT
BEGIN:VEVENT
DTSTAMP:20260419T200031Z
UID:87b4c4f0-d451-432d-9e5e-38832a19b882
DTSTART;VALUE=DATE:20260520
DTEND;VALUE=DATE:20260521
DESCRIPTION:
LOCATION:(Calendar)-VG-Website
SUMMARY:Last Day of School- Early Dismissal
END:VEVENT
BEGIN:VEVENT
DTSTAMP:20260419T200031Z
UID:bd51be61-cf54-4899-81d9-1ba5862a652b
DTSTART;VALUE=DATE:20260520
DTEND;VALUE=DATE:20260521
DESCRIPTION:
LOCATION:DSC A-1-ALSD Website (1)
SUMMARY:Last Day of School (Grades TK-7)
END:VEVENT
BEGIN:VEVENT
DTSTAMP:20260419T200031Z
UID:113f41ce-1b45-433e-ba8d-0e893f003429
DTSTART;VALUE=DATE:20260521
DTEND;VALUE=DATE:20260522
DESCRIPTION:
LOCATION:DSC A-1-ALSD Website (1)
SUMMARY:Last Day of School for 8th Grade Students (Promotion)
END:VEVENT
BEGIN:VEVENT
DTSTAMP:20260419T200031Z
UID:d9e359db-fb02-47f4-9ae3-62ff9d2b859b
DTSTART;VALUE=DATE:20260525
DTEND;VALUE=DATE:20260526
DESCRIPTION:
LOCATION:
SUMMARY:Memorial Day Holiday
END:VEVENT
BEGIN:VEVENT
DTSTAMP:20260419T200031Z
UID:eac4060c-c178-4f97-b78c-080d7043b51c
DTSTART:20260610T180000
DTEND:20260610T200000
DESCRIPTION:
LOCATION:9390 Base Line Rd\, Rancho Cucamonga\, CA 91701\, USA\, DSC A-1-AL
 SD Website (1)
SUMMARY:Board of Trustees Meeting
END:VEVENT
BEGIN:VEVENT
DTSTAMP:20260419T200031Z
UID:6fa0b0ea-a683-458f-9673-c71d4bc50799
DTSTART:20260617T180000
DTEND:20260617T200000
DESCRIPTION:
LOCATION:9390 Base Line Rd\, Rancho Cucamonga\, CA 91701\, USA\, DSC A-1-AL
 SD Website (1)
SUMMARY:Board of Trustees Meeting
END:VEVENT
BEGIN:VEVENT
DTSTAMP:20260419T200031Z
UID:cd8e57c6-b468-43ef-8058-f76cf7d35073
DTSTART:20260805T000000
DTEND:20260806T000000
DESCRIPTION:
LOCATION:(Calendar)-VG-Website
SUMMARY:Wellness Wednesday
END:VEVENT
BEGIN:VEVENT
DTSTAMP:20260419T200031Z
UID:1d65fcb7-9827-493c-9731-6a28c1bd7501
DTSTART:20260902T000000
DTEND:20260903T000000
DESCRIPTION:
LOCATION:(Calendar)-VG-Website
SUMMARY:Wellness Wednesday
END:VEVENT
BEGIN:VEVENT
DTSTAMP:20260419T200031Z
UID:4ebeaf0a-5412-4185-a36f-bfb4ac6d81f0
DTSTART:20261007T000000
DTEND:20261008T000000
DESCRIPTION:
LOCATION:(Calendar)-VG-Website
SUMMARY:Wellness Wednesday
END:VEVENT
BEGIN:VEVENT
DTSTAMP:20260419T200031Z
UID:bdce14cc-85b0-4097-bcb2-fd8aa0cca5f6
DTSTART:20261104T000000
DTEND:20261105T000000
DESCRIPTION:
LOCATION:(Calendar)-VG-Website
SUMMARY:Wellness Wednesday
END:VEVENT
BEGIN:VEVENT
DTSTAMP:20260419T200031Z
UID:6e2bf91e-f24c-48b7-b4a5-8ae5a4ab453f
DTSTART:20261202T000000
DTEND:20261203T000000
DESCRIPTION:
LOCATION:(Calendar)-VG-Website
SUMMARY:Wellness Wednesday
END:VEVENT
BEGIN:VEVENT
DTSTAMP:20260419T200031Z
UID:34cd2e0d-90eb-413d-a954-3fb26319dc8e
DTSTART:20270106T000000
DTEND:20270107T000000
DESCRIPTION:
LOCATION:(Calendar)-VG-Website
SUMMARY:Wellness Wednesday
END:VEVENT
BEGIN:VEVENT
DTSTAMP:20260419T200031Z
UID:d85cd10a-1143-4d46-8527-9b15029dc884
DTSTART:20270203T000000
DTEND:20270204T000000
DESCRIPTION:
LOCATION:(Calendar)-VG-Website
SUMMARY:Wellness Wednesday
END:VEVENT
BEGIN:VEVENT
DTSTAMP:20260419T200031Z
UID:5e217949-559c-4ce5-b5d2-b17b22c1d2a5
DTSTART:20270303T000000
DTEND:20270304T000000
DESCRIPTION:
LOCATION:(Calendar)-VG-Website
SUMMARY:Wellness Wednesday
END:VEVENT
BEGIN:VEVENT
DTSTAMP:20260419T200031Z
UID:73c128c7-ab26-4101-97b3-5a5237546236
DTSTART:20270407T000000
DTEND:20270408T000000
DESCRIPTION:
LOCATION:(Calendar)-VG-Website
SUMMARY:Wellness Wednesday
END:VEVENT
BEGIN:VEVENT
DTSTAMP:20260419T200031Z
UID:9581453e-3ee5-492a-ac03-00e63c388aad
DTSTART:20270505T000000
DTEND:20270506T000000
DESCRIPTION:
LOCATION:(Calendar)-VG-Website
SUMMARY:Wellness Wednesday
END:VEVENT
END:VCALENDAR
