BEGIN:VCALENDAR
VERSION:2.0
PRODID:icalendar-ruby
CALSCALE:GREGORIAN
BEGIN:VTIMEZONE
TZID:America/Los_Angeles
BEGIN:DAYLIGHT
DTSTART:20260308T030000
TZOFFSETFROM:-0800
TZOFFSETTO:-0700
RRULE:FREQ=YEARLY;BYDAY=2SU;BYMONTH=3
TZNAME:PDT
END:DAYLIGHT
BEGIN:STANDARD
DTSTART:20261101T010000
TZOFFSETFROM:-0700
TZOFFSETTO:-0800
RRULE:FREQ=YEARLY;BYDAY=1SU;BYMONTH=11
TZNAME:PST
END:STANDARD
END:VTIMEZONE
BEGIN:VEVENT
DTSTAMP:20260419T195958Z
UID:bd212c97-b0a2-4a99-9631-3debcf73442b
DTSTART:20260504T000000
DTEND:20260509T000000
DESCRIPTION:
LOCATION:DSC A-1-ALSD Website (1)
SUMMARY:Teacher Appreciation Week
END:VEVENT
BEGIN:VEVENT
DTSTAMP:20260419T195958Z
UID:1169dc90-121e-4acc-8e40-534ebc38ec67
DTSTART:20260506T000000
DTEND:20260507T000000
DESCRIPTION:
LOCATION:
SUMMARY:California Day of the Teacher
END:VEVENT
BEGIN:VEVENT
DTSTAMP:20260419T195958Z
UID:c33756e4-75ad-4578-8aaa-01c527a42770
DTSTART:20260511T000000
DTEND:20260516T000000
DESCRIPTION:
LOCATION:DSC A-1-ALSD Website (1)
SUMMARY:Classified School Employee Week
END:VEVENT
BEGIN:VEVENT
DTSTAMP:20260419T195958Z
UID:1bc62056-f03b-4032-aef3-5f71ff4fa770
DTSTART:20260513T180000
DTEND:20260513T200000
DESCRIPTION:
LOCATION:9390 Base Line Rd\, Rancho Cucamonga\, CA 91701\, USA
SUMMARY:Board of Trustees Meeting
END:VEVENT
BEGIN:VEVENT
DTSTAMP:20260419T195958Z
UID:89fe7834-0d63-490b-b041-06f5266d6344
DTSTART;VALUE=DATE:20260520
DTEND;VALUE=DATE:20260521
DESCRIPTION:
LOCATION:DSC A-1-ALSD Website (1)
SUMMARY:Last Day of School (Grades TK-7)
END:VEVENT
BEGIN:VEVENT
DTSTAMP:20260419T195958Z
UID:7a657461-4921-47cf-9c31-8c6b469ee710
DTSTART;VALUE=DATE:20260521
DTEND;VALUE=DATE:20260522
DESCRIPTION:
LOCATION:DSC A-1-ALSD Website (1)
SUMMARY:Last Day of School for 8th Grade Students (Promotion)
END:VEVENT
BEGIN:VEVENT
DTSTAMP:20260419T195958Z
UID:5931fe83-7e13-4a0b-9b69-e0897cf3c366
DTSTART;VALUE=DATE:20260525
DTEND;VALUE=DATE:20260526
DESCRIPTION:
LOCATION:
SUMMARY:Memorial Day Holiday
END:VEVENT
BEGIN:VEVENT
DTSTAMP:20260419T195958Z
UID:93ee555e-746e-4cc7-8dc1-b6d55248a7e7
DTSTART:20260610T180000
DTEND:20260610T200000
DESCRIPTION:
LOCATION:9390 Base Line Rd\, Rancho Cucamonga\, CA 91701\, USA\, DSC A-1-AL
 SD Website (1)
SUMMARY:Board of Trustees Meeting
END:VEVENT
BEGIN:VEVENT
DTSTAMP:20260419T195958Z
UID:af2e8d02-675b-402b-bfa6-9d34fff00fe0
DTSTART:20260617T180000
DTEND:20260617T200000
DESCRIPTION:
LOCATION:9390 Base Line Rd\, Rancho Cucamonga\, CA 91701\, USA\, DSC A-1-AL
 SD Website (1)
SUMMARY:Board of Trustees Meeting
END:VEVENT
END:VCALENDAR
