BEGIN:VCALENDAR
VERSION:2.0
PRODID:icalendar-ruby
CALSCALE:GREGORIAN
BEGIN:VTIMEZONE
TZID:America/New_York
BEGIN:DAYLIGHT
DTSTART:20260308T030000
TZOFFSETFROM:-0500
TZOFFSETTO:-0400
RRULE:FREQ=YEARLY;BYDAY=2SU;BYMONTH=3
TZNAME:EDT
END:DAYLIGHT
BEGIN:STANDARD
DTSTART:20261101T010000
TZOFFSETFROM:-0400
TZOFFSETTO:-0500
RRULE:FREQ=YEARLY;BYDAY=1SU;BYMONTH=11
TZNAME:EST
END:STANDARD
END:VTIMEZONE
BEGIN:VEVENT
DTSTAMP:20260419T125517Z
UID:9a08a62a-e96b-46ea-885c-b57b2c421263
DTSTART:20260422T170000
DTEND:20260422T190000
DESCRIPTION:
LOCATION:
SUMMARY:Board of Education Meeting
END:VEVENT
BEGIN:VEVENT
DTSTAMP:20260419T125517Z
UID:a234e022-a611-40f5-9201-8d345203040c
DTSTART;VALUE=DATE:20260427
DTEND;VALUE=DATE:20260428
DESCRIPTION:
LOCATION:
SUMMARY:STEM WLHS Ceremony
END:VEVENT
BEGIN:VEVENT
DTSTAMP:20260419T125517Z
UID:60858a57-60cf-4ca3-b438-22a426edbaed
DTSTART;VALUE=DATE:20260428
DTEND;VALUE=DATE:20260429
DESCRIPTION:
LOCATION:
SUMMARY:PCTI WLHS Ceremony
END:VEVENT
BEGIN:VEVENT
DTSTAMP:20260419T125517Z
UID:681cc2d3-2a5c-401c-b7aa-377bfbf8eee3
DTSTART;VALUE=DATE:20260429
DTEND;VALUE=DATE:20260430
DESCRIPTION:
LOCATION:
SUMMARY:PCTVS College Fair
END:VEVENT
BEGIN:VEVENT
DTSTAMP:20260419T125517Z
UID:b266e3e2-6d8c-4023-a4f4-8f4dc4fe20f8
DTSTART;VALUE=DATE:20260429
DTEND;VALUE=DATE:20260430
DESCRIPTION:
LOCATION:
SUMMARY:STEM NHS Ceremony
END:VEVENT
BEGIN:VEVENT
DTSTAMP:20260419T125517Z
UID:33a8be9f-e036-47b2-a1c4-8e30490a4b7d
DTSTART;VALUE=DATE:20260430
DTEND;VALUE=DATE:20260501
DESCRIPTION:
LOCATION:
SUMMARY:PCTI NHS Ceremony
END:VEVENT
BEGIN:VEVENT
DTSTAMP:20260419T125517Z
UID:c0b9c86f-12e7-4b24-9909-efa3527eebb6
DTSTART;VALUE=DATE:20260501
DTEND;VALUE=DATE:20260502
DESCRIPTION:
LOCATION:
SUMMARY:Mental Health Awareness Month
END:VEVENT
BEGIN:VEVENT
DTSTAMP:20260419T125517Z
UID:71aa261e-094f-426b-90de-1d18d309dbfd
DTSTART;VALUE=DATE:20260501
DTEND;VALUE=DATE:20260502
DESCRIPTION:
LOCATION:
SUMMARY:PCTVS Wellness Day 
END:VEVENT
BEGIN:VEVENT
DTSTAMP:20260419T125517Z
UID:9cf3b1b1-453e-4b9e-9820-e56048dec3a6
DTSTART;VALUE=DATE:20260501
DTEND;VALUE=DATE:20260502
DESCRIPTION:
LOCATION:
SUMMARY:RHO Kappa Honor Society Ceremony
END:VEVENT
BEGIN:VEVENT
DTSTAMP:20260419T125517Z
UID:88f02605-dcaf-481e-9a04-7d9968563a14
DTSTART;VALUE=DATE:20260508
DTEND;VALUE=DATE:20260509
DESCRIPTION:
LOCATION:
SUMMARY:Spring Dance Show 
END:VEVENT
BEGIN:VEVENT
DTSTAMP:20260419T125517Z
UID:88922484-9d1a-47a3-9543-1eb72d81b48d
DTSTART;VALUE=DATE:20260511
DTEND;VALUE=DATE:20260512
DESCRIPTION:
LOCATION:
SUMMARY:Athletic Signing Day
END:VEVENT
BEGIN:VEVENT
DTSTAMP:20260419T125517Z
UID:f1f842d4-b494-4b51-a66f-31e88b50067c
DTSTART;VALUE=DATE:20260512
DTEND;VALUE=DATE:20260513
DESCRIPTION:
LOCATION:
SUMMARY:Performing Arts Band Program 
END:VEVENT
BEGIN:VEVENT
DTSTAMP:20260419T125517Z
UID:49a36f8e-0aea-4e80-a34e-582c65e5648e
DTSTART;VALUE=DATE:20260513
DTEND;VALUE=DATE:20260514
DESCRIPTION:
LOCATION:
SUMMARY:Performing Arts Jazz Band Program 
END:VEVENT
BEGIN:VEVENT
DTSTAMP:20260419T125517Z
UID:5edee1bb-56e1-4f25-86db-1e6ebf0a112f
DTSTART;VALUE=DATE:20260515
DTEND;VALUE=DATE:20260516
DESCRIPTION:
LOCATION:
SUMMARY:Spring Vocal Program
END:VEVENT
BEGIN:VEVENT
DTSTAMP:20260419T125517Z
UID:29a0f9e7-b79a-4888-a043-959ff502f5d9
DTSTART;VALUE=DATE:20260519
DTEND;VALUE=DATE:20260520
DESCRIPTION:
LOCATION:
SUMMARY:Asian Pacific Heritage Assembly
END:VEVENT
BEGIN:VEVENT
DTSTAMP:20260419T125517Z
UID:dc7416c8-a49a-461b-8091-ea47e0ded45f
DTSTART;VALUE=DATE:20260520
DTEND;VALUE=DATE:20260521
DESCRIPTION:
LOCATION:
SUMMARY:PCTI Art Show
END:VEVENT
BEGIN:VEVENT
DTSTAMP:20260419T125517Z
UID:c641adc9-8069-49a5-849b-310cfe688e97
DTSTART;VALUE=DATE:20260521
DTEND;VALUE=DATE:20260522
DESCRIPTION:
LOCATION:
SUMMARY:Memorial Day Program
END:VEVENT
BEGIN:VEVENT
DTSTAMP:20260419T125517Z
UID:13728eb3-7d59-4944-b1b1-fdd68978e78b
DTSTART;VALUE=DATE:20260527
DTEND;VALUE=DATE:20260528
DESCRIPTION:
LOCATION:
SUMMARY:NJROTC End of the Year Awards
END:VEVENT
BEGIN:VEVENT
DTSTAMP:20260419T125517Z
UID:999d6f8d-a064-4f29-a7b7-289734ca6f6a
DTSTART:20260528T170000
DTEND:20260528T190000
DESCRIPTION:
LOCATION:
SUMMARY:Board of Education Meeting
END:VEVENT
BEGIN:VEVENT
DTSTAMP:20260419T125517Z
UID:3d1af967-fa49-4789-abe0-806fd6f226f5
DTSTART;VALUE=DATE:20260603
DTEND;VALUE=DATE:20260604
DESCRIPTION:
LOCATION:
SUMMARY:STEM Expo
END:VEVENT
BEGIN:VEVENT
DTSTAMP:20260419T125517Z
UID:090a9d27-28b4-495e-8618-c007f87fd816
DTSTART;VALUE=DATE:20260605
DTEND;VALUE=DATE:20260606
DESCRIPTION:
LOCATION:
SUMMARY:PCTVS Prom
END:VEVENT
BEGIN:VEVENT
DTSTAMP:20260419T125517Z
UID:3cde87df-f858-4385-b799-9ad4009e8189
DTSTART;VALUE=DATE:20260616
DTEND;VALUE=DATE:20260617
DESCRIPTION:
LOCATION:
SUMMARY:STEM Senior Awards Program
END:VEVENT
BEGIN:VEVENT
DTSTAMP:20260419T125517Z
UID:ea9c196e-0a48-401c-9b6b-439941582b25
DTSTART;VALUE=DATE:20260617
DTEND;VALUE=DATE:20260618
DESCRIPTION:
LOCATION:
SUMMARY:PCTI Senior Awards Program
END:VEVENT
BEGIN:VEVENT
DTSTAMP:20260419T125517Z
UID:0286e94e-dee1-4721-b125-120345b23b47
DTSTART;VALUE=DATE:20260618
DTEND;VALUE=DATE:20260619
DESCRIPTION:
LOCATION:
SUMMARY:Athletic Awards Program
END:VEVENT
BEGIN:VEVENT
DTSTAMP:20260419T125517Z
UID:33175be5-83c3-41c2-9cef-5fc1a9dc358d
DTSTART;VALUE=DATE:20260618
DTEND;VALUE=DATE:20260619
DESCRIPTION:
LOCATION:
SUMMARY:Senior Field Day
END:VEVENT
BEGIN:VEVENT
DTSTAMP:20260419T125517Z
UID:3974a99e-4eca-423b-86e9-d72a6d5ad2e0
DTSTART:20260618T160000
DTEND:20260618T180000
DESCRIPTION:
LOCATION:
SUMMARY:Board of Education Meeting
END:VEVENT
BEGIN:VEVENT
DTSTAMP:20260419T125517Z
UID:15121f32-69cb-4708-b5c4-6b7f4a96d132
DTSTART;VALUE=DATE:20260622
DTEND;VALUE=DATE:20260623
DESCRIPTION:
LOCATION:
SUMMARY:End of the Year Faculty Meeting
END:VEVENT
BEGIN:VEVENT
DTSTAMP:20260419T125517Z
UID:a2fa8303-47aa-44ff-909d-7a0c7f42b271
DTSTART;VALUE=DATE:20260623
DTEND;VALUE=DATE:20260624
DESCRIPTION:
LOCATION:
SUMMARY:STEM Graduation
END:VEVENT
BEGIN:VEVENT
DTSTAMP:20260419T125517Z
UID:72273f83-d8cf-4f28-a3a7-a5fc357fd0da
DTSTART;VALUE=DATE:20260624
DTEND;VALUE=DATE:20260625
DESCRIPTION:
LOCATION:
SUMMARY:Last Day for Students
END:VEVENT
BEGIN:VEVENT
DTSTAMP:20260419T125517Z
UID:ae1efa29-079f-46b9-8386-e0466c01c6f8
DTSTART;VALUE=DATE:20260624
DTEND;VALUE=DATE:20260625
DESCRIPTION:
LOCATION:
SUMMARY:PCTI Graduation
END:VEVENT
BEGIN:VEVENT
DTSTAMP:20260419T125517Z
UID:37113983-e3b5-4503-83ae-9ac10631079f
DTSTART:20260723T170000
DTEND:20260723T190000
DESCRIPTION:
LOCATION:
SUMMARY:Board of Education Meeting
END:VEVENT
BEGIN:VEVENT
DTSTAMP:20260419T125517Z
UID:fa5a84bb-8789-4580-ab97-73bebe050fa6
DTSTART:20260827T170000
DTEND:20260827T190000
DESCRIPTION:
LOCATION:
SUMMARY:Board of Education Meeting
END:VEVENT
BEGIN:VEVENT
DTSTAMP:20260419T125517Z
UID:4a673f60-6e64-411e-bae4-9b99e0dfc4cf
DTSTART:20260924T170000
DTEND:20260924T190000
DESCRIPTION:
LOCATION:
SUMMARY:Board of Education Meeting
END:VEVENT
BEGIN:VEVENT
DTSTAMP:20260419T125517Z
UID:b60ef407-8132-44e1-8d37-703164247c46
DTSTART:20261029T170000
DTEND:20261029T190000
DESCRIPTION:
LOCATION:
SUMMARY:Board of Education Meeting
END:VEVENT
BEGIN:VEVENT
DTSTAMP:20260419T125517Z
UID:5ae2fb4b-b4bf-4e78-9091-980924a52c17
DTSTART:20261102T170000
DTEND:20261102T190000
DESCRIPTION:
LOCATION:
SUMMARY:Board of Education Meeting
END:VEVENT
END:VCALENDAR
