BEGIN:VCALENDAR
VERSION:2.0
PRODID:icalendar-ruby
CALSCALE:GREGORIAN
BEGIN:VTIMEZONE
TZID:America/New_York
BEGIN:DAYLIGHT
DTSTART:20260308T030000
TZOFFSETFROM:-0500
TZOFFSETTO:-0400
RRULE:FREQ=YEARLY;BYDAY=2SU;BYMONTH=3
TZNAME:EDT
END:DAYLIGHT
BEGIN:STANDARD
DTSTART:20261101T010000
TZOFFSETFROM:-0400
TZOFFSETTO:-0500
RRULE:FREQ=YEARLY;BYDAY=1SU;BYMONTH=11
TZNAME:EST
END:STANDARD
END:VTIMEZONE
BEGIN:VEVENT
DTSTAMP:20260423T142541Z
UID:406c659c-bdad-4cd2-bfe6-9e36ad52b835
DTSTART;VALUE=DATE:20260521
DTEND;VALUE=DATE:20260522
DESCRIPTION:
LOCATION:
SUMMARY:Last Student Day
END:VEVENT
BEGIN:VEVENT
DTSTAMP:20260423T142541Z
UID:1324d843-05d7-49a9-bc69-68ee39148ac9
DTSTART;VALUE=DATE:20260522
DTEND;VALUE=DATE:20260523
DESCRIPTION:
LOCATION:
SUMMARY:Teacher Workday (Possible Snow Make-up Day)
END:VEVENT
BEGIN:VEVENT
DTSTAMP:20260423T142541Z
UID:715de8e8-c759-4118-8e90-cb9b5c5b90cf
DTSTART;VALUE=DATE:20260525
DTEND;VALUE=DATE:20260526
DESCRIPTION:
LOCATION:
SUMMARY:Memorial Day
END:VEVENT
BEGIN:VEVENT
DTSTAMP:20260423T142541Z
UID:97aa7c71-1c97-4ea5-83cd-9d9e962952f3
DTSTART;VALUE=DATE:20260526
DTEND;VALUE=DATE:20260527
DESCRIPTION:
LOCATION:
SUMMARY:Possible Snow Make-up Day
END:VEVENT
BEGIN:VEVENT
DTSTAMP:20260423T142541Z
UID:22f9e46d-7a51-4421-b3dd-f5a9dc29e660
DTSTART;VALUE=DATE:20260527
DTEND;VALUE=DATE:20260528
DESCRIPTION:
LOCATION:
SUMMARY:Possible Snow Make-up Day
END:VEVENT
BEGIN:VEVENT
DTSTAMP:20260423T142541Z
UID:274ff9bd-e17f-429d-aae1-4e4e45409272
DTSTART;VALUE=DATE:20260528
DTEND;VALUE=DATE:20260529
DESCRIPTION:
LOCATION:
SUMMARY:Possible Snow Make-up Day
END:VEVENT
BEGIN:VEVENT
DTSTAMP:20260423T142541Z
UID:19660adc-1cb7-4c97-aa1d-00b32bd3dcf6
DTSTART:20260530T100000
DTEND:20260530T113000
DESCRIPTION:
LOCATION:
SUMMARY:WCHS Graduation Ceremony
END:VEVENT
END:VCALENDAR
