BEGIN:VCALENDAR
VERSION:2.0
PRODID:icalendar-ruby
CALSCALE:GREGORIAN
BEGIN:VTIMEZONE
TZID:America/Denver
BEGIN:DAYLIGHT
DTSTART:20260308T030000
TZOFFSETFROM:-0700
TZOFFSETTO:-0600
RRULE:FREQ=YEARLY;BYDAY=2SU;BYMONTH=3
TZNAME:MDT
END:DAYLIGHT
BEGIN:STANDARD
DTSTART:20261101T010000
TZOFFSETFROM:-0600
TZOFFSETTO:-0700
RRULE:FREQ=YEARLY;BYDAY=1SU;BYMONTH=11
TZNAME:MST
END:STANDARD
END:VTIMEZONE
BEGIN:VEVENT
DTSTAMP:20260421T155742Z
UID:c18872a5-5e62-4ab3-8b5d-0c09407bce3e
DTSTART:20260407T080000
DTEND:20260423T090000
DESCRIPTION:
LOCATION:
SUMMARY:CMAS Starts (April 7-23rd)
END:VEVENT
BEGIN:VEVENT
DTSTAMP:20260421T155742Z
UID:b76d2596-1165-477b-b90a-cfde3a878bf7
DTSTART:20260424T141500
DTEND:20260424T151500
DESCRIPTION:
LOCATION:
SUMMARY:Egg Drop (Grades 4-5th)
END:VEVENT
BEGIN:VEVENT
DTSTAMP:20260421T155742Z
UID:b458657c-4326-4518-888c-18ef68c8ac34
DTSTART:20260429T091500
DTEND:20260429T111500
DESCRIPTION:
LOCATION:
SUMMARY:2/3rd Field Trip-Musical Explorers 
END:VEVENT
BEGIN:VEVENT
DTSTAMP:20260421T155742Z
UID:09340b50-770e-4ad4-9b57-99b8aabc1159
DTSTART:20260501T083000
DTEND:20260501T153000
DESCRIPTION:
LOCATION:
SUMMARY:No School-DPS Professional Development Day 
END:VEVENT
BEGIN:VEVENT
DTSTAMP:20260421T155742Z
UID:a8b7098f-4602-4d6f-bb45-d771d3b6a41d
DTSTART:20260505T080000
DTEND:20260506T150000
DESCRIPTION:
LOCATION:
SUMMARY:Group 1 to Balarat 
END:VEVENT
BEGIN:VEVENT
DTSTAMP:20260421T155742Z
UID:4904cabb-365b-4b04-bd10-9cdbbf32df63
DTSTART:20260508T080000
DTEND:20260508T090000
DESCRIPTION:Ece\, K-1 in the morning \n2-5th in the afternoon\nSchedule co
 ming soon!
LOCATION:
SUMMARY:Field Day 
END:VEVENT
BEGIN:VEVENT
DTSTAMP:20260421T155742Z
UID:8245eca0-afff-4569-ae1d-daa3f90a4284
DTSTART:20260508T090000
DTEND:20260508T130000
DESCRIPTION:
LOCATION:
SUMMARY:Grades 3-5th CMAS Movie Party (student only event) 
END:VEVENT
BEGIN:VEVENT
DTSTAMP:20260421T155742Z
UID:4638170b-44e2-4a35-a684-22cb88a7bc7b
DTSTART:20260511T153000
DTEND:20260511T163000
DESCRIPTION:
LOCATION:
SUMMARY:CSC Meeting 
END:VEVENT
BEGIN:VEVENT
DTSTAMP:20260421T155742Z
UID:7ca65a0b-184b-4d81-a296-d50986927e6b
DTSTART:20260512T080000
DTEND:20260513T150000
DESCRIPTION:
LOCATION:
SUMMARY:Group 2 to Balarat 
END:VEVENT
BEGIN:VEVENT
DTSTAMP:20260421T155742Z
UID:a55ab773-df56-4c2d-81c4-a58a05a6f51a
DTSTART:20260513T170000
DTEND:20260513T190000
DESCRIPTION:
LOCATION:
SUMMARY:Skate City Event-Arvada location 
END:VEVENT
BEGIN:VEVENT
DTSTAMP:20260421T155742Z
UID:fcf53591-4ec9-4b40-8b0c-836bcab3ab0c
DTSTART:20260514T154500
DTEND:20260514T161500
DESCRIPTION:New 26/27 Kinder Families\,\nCome meet our staff and see our cl
 assrooms!\nLeah
LOCATION:
SUMMARY:Kindergarten Open House! 
END:VEVENT
BEGIN:VEVENT
DTSTAMP:20260421T155742Z
UID:d6d86882-859a-4af1-93ca-5ef7ecec9bf1
DTSTART:20260522T080000
DTEND:20260522T090000
DESCRIPTION:
LOCATION:
SUMMARY:Carnival and Student Performances 
END:VEVENT
BEGIN:VEVENT
DTSTAMP:20260421T155742Z
UID:a701d949-decb-4f24-903c-6991f640397e
DTSTART:20260525T080000
DTEND:20260525T090000
DESCRIPTION:
LOCATION:
SUMMARY:No School-Memorial Day
END:VEVENT
BEGIN:VEVENT
DTSTAMP:20260421T155742Z
UID:cc5f6bdb-0888-492f-bf1a-a38c617b8248
DTSTART:20260529T080000
DTEND:20260529T120000
DESCRIPTION:8:30: ECE continuations\n9:30: Kindergarten continuations\n10:3
 0: 5th grade continuations
LOCATION:
SUMMARY:Last day of school (Half day-students dismiss at noon)
END:VEVENT
END:VCALENDAR
