BEGIN:VCALENDAR
VERSION:2.0
PRODID:icalendar-ruby
CALSCALE:GREGORIAN
BEGIN:VTIMEZONE
TZID:America/New_York
BEGIN:DAYLIGHT
DTSTART:20260308T030000
TZOFFSETFROM:-0500
TZOFFSETTO:-0400
RRULE:FREQ=YEARLY;BYDAY=2SU;BYMONTH=3
TZNAME:EDT
END:DAYLIGHT
BEGIN:STANDARD
DTSTART:20261101T010000
TZOFFSETFROM:-0400
TZOFFSETTO:-0500
RRULE:FREQ=YEARLY;BYDAY=1SU;BYMONTH=11
TZNAME:EST
END:STANDARD
END:VTIMEZONE
BEGIN:VEVENT
DTSTAMP:20260420T003743Z
UID:0e7f07e5-7617-4c9e-a7ed-397eb6b00467
DTSTART:20260420T180000
DTEND:20260420T200000
DESCRIPTION:
LOCATION:
SUMMARY:WLHS Soccer  @ Kings Montain 
END:VEVENT
BEGIN:VEVENT
DTSTAMP:20260420T003743Z
UID:5b6901d3-228d-42fc-952a-f466ee1f79e5
DTSTART:20260421T080000
DTEND:20260421T090000
DESCRIPTION:
LOCATION:
SUMMARY:WLHS Softball vs East Gastonia 
END:VEVENT
BEGIN:VEVENT
DTSTAMP:20260420T003743Z
UID:761b0570-153c-4e7a-b0a4-a0924df10477
DTSTART:20260421T150000
DTEND:20260421T180000
DESCRIPTION:
LOCATION:
SUMMARY:WLHS Track Meet  @ Bessemer City
END:VEVENT
BEGIN:VEVENT
DTSTAMP:20260420T003743Z
UID:9842b054-3d5b-4ea1-b790-bc9bf680a64b
DTSTART:20260421T160000
DTEND:20260421T180000
DESCRIPTION:
LOCATION:
SUMMARY:WLHS Tennis Pre-Regional Tournament
END:VEVENT
BEGIN:VEVENT
DTSTAMP:20260420T003743Z
UID:f7736fb6-2f6a-4c1b-9840-bcf1dafff9f0
DTSTART:20260421T190000
DTEND:20260421T210000
DESCRIPTION:
LOCATION:
SUMMARY:WLHS Baseball vs East Gaston 
END:VEVENT
BEGIN:VEVENT
DTSTAMP:20260420T003743Z
UID:886b68a4-437d-4d9d-b86f-c5bbc1075f29
DTSTART:20260422T180000
DTEND:20260422T200000
DESCRIPTION:
LOCATION:
SUMMARY:WLHS Soccer  @ East Rutherford 
END:VEVENT
BEGIN:VEVENT
DTSTAMP:20260420T003743Z
UID:c066284a-b79e-4f21-bb3a-b35d8c3239a5
DTSTART:20260424T180000
DTEND:20260424T200000
DESCRIPTION:
LOCATION:
SUMMARY:WLHS Soccer  @ East Gaston
END:VEVENT
BEGIN:VEVENT
DTSTAMP:20260420T003743Z
UID:d03d04d0-a7bc-4926-9bbb-511b15bf8e77
DTSTART:20260424T180000
DTEND:20260424T210000
DESCRIPTION:
LOCATION:
SUMMARY:WLHS Sofball @ East Gastonia 
END:VEVENT
BEGIN:VEVENT
DTSTAMP:20260420T003743Z
UID:33ed23f5-6a67-49dd-82ea-87ac9e142da2
DTSTART:20260424T190000
DTEND:20260424T210000
DESCRIPTION:
LOCATION:
SUMMARY:WLHS Basball @ East Gaston 
END:VEVENT
BEGIN:VEVENT
DTSTAMP:20260420T003743Z
UID:1ea7972d-7377-4841-9542-2473a0a4ed5d
DTSTART:20260427T150000
DTEND:20260427T170000
DESCRIPTION:
LOCATION:
SUMMARY:WLHS Track Vs Lincolnton
END:VEVENT
BEGIN:VEVENT
DTSTAMP:20260420T003743Z
UID:f165e5d0-aad0-4fe4-b1de-71bfdd21251c
DTSTART:20260427T160000
DTEND:20260427T180000
DESCRIPTION:
LOCATION:
SUMMARY:WLHS Tennis First Round of Dual Teams
END:VEVENT
BEGIN:VEVENT
DTSTAMP:20260420T003743Z
UID:fb0547a4-be45-4eb0-a4f8-10b33f7a16e5
DTSTART:20260427T180000
DTEND:20260427T210000
DESCRIPTION:
LOCATION:
SUMMARY:WLHS Softball vs RS Central 
END:VEVENT
BEGIN:VEVENT
DTSTAMP:20260420T003743Z
UID:764e17b3-fe03-4255-bd5a-e44a16fff2dc
DTSTART:20260428T180000
DTEND:20260428T200000
DESCRIPTION:
LOCATION:
SUMMARY:WLHS Soccer  vs Burns 
END:VEVENT
BEGIN:VEVENT
DTSTAMP:20260420T003743Z
UID:5b59d21f-0ce6-4f60-ae52-ffebb38e2d3d
DTSTART:20260428T180000
DTEND:20260428T210000
DESCRIPTION:
LOCATION:
SUMMARY:WLH S Softball @ Lincolton 
END:VEVENT
BEGIN:VEVENT
DTSTAMP:20260420T003743Z
UID:fb1d36f8-0caf-4131-898f-36ccd6d21906
DTSTART:20260428T190000
DTEND:20260428T210000
DESCRIPTION:
LOCATION:
SUMMARY:WLHS Baseball @ Linconton 
END:VEVENT
BEGIN:VEVENT
DTSTAMP:20260420T003743Z
UID:8fa11f26-9dfe-4e5c-a1f4-ca0b631b5eb8
DTSTART:20260429T150000
DTEND:20260429T180000
DESCRIPTION:
LOCATION:
SUMMARY:WLHS Tennis Second Round  of Dual Teams
END:VEVENT
BEGIN:VEVENT
DTSTAMP:20260420T003743Z
UID:f6d6cbc6-ec23-4509-9d9b-532a137b265f
DTSTART:20260501T150000
DTEND:20260502T180000
DESCRIPTION:
LOCATION:
SUMMARY:WLHS Tennis Regional @ GWU
END:VEVENT
BEGIN:VEVENT
DTSTAMP:20260420T003743Z
UID:37269289-4c91-4686-a659-6764d2490b9b
DTSTART:20260501T180000
DTEND:20260501T200000
DESCRIPTION:
LOCATION:
SUMMARY:WLHS Soccer  vs Lincolton
END:VEVENT
BEGIN:VEVENT
DTSTAMP:20260420T003743Z
UID:d19a20b2-8374-484a-89e9-104cf6ded6c5
DTSTART:20260501T180000
DTEND:20260501T210000
DESCRIPTION:
LOCATION:
SUMMARY:WLHS vs Lincolton 
END:VEVENT
BEGIN:VEVENT
DTSTAMP:20260420T003743Z
UID:0c70d029-d471-4fa9-81b5-5dab8f31f047
DTSTART:20260501T190000
DTEND:20260501T210000
DESCRIPTION:
LOCATION:
SUMMARY:WLHS Baseball vs Lincolnton 
END:VEVENT
BEGIN:VEVENT
DTSTAMP:20260420T003743Z
UID:059f5f1c-83d2-450c-b3ae-b3bb61a67c84
DTSTART:20260504T180000
DTEND:20260504T200000
DESCRIPTION:
LOCATION:
SUMMARY:WLHS Soccer  vs south Caldwell 
END:VEVENT
BEGIN:VEVENT
DTSTAMP:20260420T003743Z
UID:2a0902e6-ebf9-4192-b536-a2e441a440d7
DTSTART:20260506T180000
DTEND:20260506T200000
DESCRIPTION:
LOCATION:
SUMMARY:WLHS Soccer  @ RS Central 
END:VEVENT
BEGIN:VEVENT
DTSTAMP:20260420T003743Z
UID:3c3c8b23-12d9-4228-8bf6-7186210a2942
DTSTART:20260508T150000
DTEND:20260508T180000
DESCRIPTION:
LOCATION:
SUMMARY:WLHS Tennis State Tournament
END:VEVENT
END:VCALENDAR
