BEGIN:VCALENDAR
VERSION:2.0
PRODID:icalendar-ruby
CALSCALE:GREGORIAN
BEGIN:VTIMEZONE
TZID:America/Los_Angeles
BEGIN:DAYLIGHT
DTSTART:20260308T030000
TZOFFSETFROM:-0800
TZOFFSETTO:-0700
RRULE:FREQ=YEARLY;BYDAY=2SU;BYMONTH=3
TZNAME:PDT
END:DAYLIGHT
BEGIN:STANDARD
DTSTART:20261101T010000
TZOFFSETFROM:-0700
TZOFFSETTO:-0800
RRULE:FREQ=YEARLY;BYDAY=1SU;BYMONTH=11
TZNAME:PST
END:STANDARD
END:VTIMEZONE
BEGIN:VEVENT
DTSTAMP:20260423T123524Z
UID:b391709b-bd52-4bdb-bb56-0801908a9b5d
DTSTART:20260424T180000
DTEND:20260424T193000
DESCRIPTION:
LOCATION:MPR
SUMMARY:PTA Lego Night
END:VEVENT
BEGIN:VEVENT
DTSTAMP:20260423T123524Z
UID:9b819a21-e827-4274-ac17-66256ae4396f
DTSTART;VALUE=DATE:20260429
DTEND;VALUE=DATE:20260430
DESCRIPTION:<p><span>All schools will release students two hours earlier th
 an the usual </span><a target="_blank" rel="noopener noreferrer nofollow" 
 class="x_OWAAutoLink" href="https://nam02.safelinks.protection.outlook.com
 /?url=https%3A%2F%2Fwww.kent.k12.wa.us%2Fpage%2Fbell-schedule&amp\;data=05
 %7C02%7CArnold.Maurera%40kent.k12.wa.us%7Cd9836572538349e146d608dde1a4fc1b
 %7C773029edd6c2480ba5a2281c6d30235e%7C0%7C0%7C638914820928884655%7CUnknown
 %7CTWFpbGZsb3d8eyJFbXB0eU1hcGkiOnRydWUsIlYiOiIwLjAuMDAwMCIsIlAiOiJXaW4zMiI
 sIkFOIjoiTWFpbCIsIldUIjoyfQ%3D%3D%7C0%7C%7C%7C&amp\;sdata=tKMFmSL3gv7CLyGS
 zoOpznvHPqbQWv3SIRRyz2kRr4o%3D&amp\;reserved=0">bell time</a><span>.</span
 ></p>
LOCATION:
SUMMARY: 2 Hour Early Release
END:VEVENT
BEGIN:VEVENT
DTSTAMP:20260423T123524Z
UID:f589e2b7-4f8e-4759-a727-a0fa7abe7977
DTSTART;VALUE=DATE:20260504
DTEND;VALUE=DATE:20260505
DESCRIPTION:<p>Outdoor School from 9:15am to 7:30pm</p>
LOCATION:
SUMMARY:Grade 5 to Camp Waskowitz
END:VEVENT
BEGIN:VEVENT
DTSTAMP:20260423T123524Z
UID:5f324386-bfec-4f35-a395-acb7c5a683ab
DTSTART;VALUE=DATE:20260506
DTEND;VALUE=DATE:20260507
DESCRIPTION:<p><span>All schools will release students two hours earlier th
 an the usual </span><a target="_blank" rel="noopener noreferrer nofollow" 
 class="x_OWAAutoLink" href="https://nam02.safelinks.protection.outlook.com
 /?url=https%3A%2F%2Fwww.kent.k12.wa.us%2Fpage%2Fbell-schedule&amp\;data=05
 %7C02%7CArnold.Maurera%40kent.k12.wa.us%7Cd9836572538349e146d608dde1a4fc1b
 %7C773029edd6c2480ba5a2281c6d30235e%7C0%7C0%7C638914820928884655%7CUnknown
 %7CTWFpbGZsb3d8eyJFbXB0eU1hcGkiOnRydWUsIlYiOiIwLjAuMDAwMCIsIlAiOiJXaW4zMiI
 sIkFOIjoiTWFpbCIsIldUIjoyfQ%3D%3D%7C0%7C%7C%7C&amp\;sdata=tKMFmSL3gv7CLyGS
 zoOpznvHPqbQWv3SIRRyz2kRr4o%3D&amp\;reserved=0">bell time</a><span>.</span
 ></p>
LOCATION:
SUMMARY:2 Hour Early Release
END:VEVENT
BEGIN:VEVENT
DTSTAMP:20260423T123524Z
UID:981eb1ac-cea9-4e2a-85dc-bcec93f3e499
DTSTART;VALUE=DATE:20260513
DTEND;VALUE=DATE:20260514
DESCRIPTION:<p><span>All schools will release students two hours earlier th
 an the usual </span><a target="_blank" rel="noopener noreferrer nofollow" 
 class="x_OWAAutoLink" href="https://nam02.safelinks.protection.outlook.com
 /?url=https%3A%2F%2Fwww.kent.k12.wa.us%2Fpage%2Fbell-schedule&amp\;data=05
 %7C02%7CArnold.Maurera%40kent.k12.wa.us%7Cd9836572538349e146d608dde1a4fc1b
 %7C773029edd6c2480ba5a2281c6d30235e%7C0%7C0%7C638914820928884655%7CUnknown
 %7CTWFpbGZsb3d8eyJFbXB0eU1hcGkiOnRydWUsIlYiOiIwLjAuMDAwMCIsIlAiOiJXaW4zMiI
 sIkFOIjoiTWFpbCIsIldUIjoyfQ%3D%3D%7C0%7C%7C%7C&amp\;sdata=tKMFmSL3gv7CLyGS
 zoOpznvHPqbQWv3SIRRyz2kRr4o%3D&amp\;reserved=0">bell time</a><span>.</span
 ></p>
LOCATION:
SUMMARY:2 Hour Early Release
END:VEVENT
BEGIN:VEVENT
DTSTAMP:20260423T123524Z
UID:7b896e58-e73f-49fe-af64-8615aeb1f2c8
DTSTART:20260513T170000
DTEND:20260513T180000
DESCRIPTION:<ul><li><p>Learn more about <a target="_blank" rel="noopener no
 referrer nofollow" class="x_OWAAutoLink" href="https://nam02.safelinks.pro
 tection.outlook.com/?url=https%3A%2F%2Fwww.kent.k12.wa.us%2Fpage%2Fboard-m
 eetings&amp\;data=05%7C02%7CArnold.Maurera%40kent.k12.wa.us%7Cd98365725383
 49e146d608dde1a4fc1b%7C773029edd6c2480ba5a2281c6d30235e%7C0%7C0%7C63891482
 0929155033%7CUnknown%7CTWFpbGZsb3d8eyJFbXB0eU1hcGkiOnRydWUsIlYiOiIwLjAuMDA
 wMCIsIlAiOiJXaW4zMiIsIkFOIjoiTWFpbCIsIldUIjoyfQ%3D%3D%7C0%7C%7C%7C&amp\;sd
 ata=2waUcyP%2B8VIFuAIXlODHm%2FLE%2BTGPgpPzzZ1%2Fc9ZxhQo%3D&amp\;reserved=0
 ">board meetings</a>.</p></li><li><p>Visit <a target="_blank" rel="noopene
 r noreferrer nofollow" class="x_OWAAutoLink" href="https://nam02.safelinks
 .protection.outlook.com/?url=https%3A%2F%2Fgo.boarddocs.com%2Fwa%2Fksdwa%2
 FBoard.nsf%2FPublic&amp\;data=05%7C02%7CArnold.Maurera%40kent.k12.wa.us%7C
 d9836572538349e146d608dde1a4fc1b%7C773029edd6c2480ba5a2281c6d30235e%7C0%7C
 0%7C638914820929169531%7CUnknown%7CTWFpbGZsb3d8eyJFbXB0eU1hcGkiOnRydWUsIlY
 iOiIwLjAuMDAwMCIsIlAiOiJXaW4zMiIsIkFOIjoiTWFpbCIsIldUIjoyfQ%3D%3D%7C0%7C%7
 C%7C&amp\;sdata=mZqlk0hSP46kU7jT1wPCMYylHIyqII%2F%2Bt1x5Av6fcSw%3D&amp\;re
 served=0">BoardDocs</a>&nbsp\;to see the agenda and confirm the start time
 .</p></li><li><p>Watch live on the <a target="_blank" rel="noopener norefe
 rrer nofollow" class="x_OWAAutoLink" href="https://nam02.safelinks.protect
 ion.outlook.com/?url=https%3A%2F%2Fwww.youtube.com%2Fchannel%2FUCvAM_LqNMb
 JaGy-8R9TCFTA&amp\;data=05%7C02%7CArnold.Maurera%40kent.k12.wa.us%7Cd98365
 72538349e146d608dde1a4fc1b%7C773029edd6c2480ba5a2281c6d30235e%7C0%7C0%7C63
 8914820929186664%7CUnknown%7CTWFpbGZsb3d8eyJFbXB0eU1hcGkiOnRydWUsIlYiOiIwL
 jAuMDAwMCIsIlAiOiJXaW4zMiIsIkFOIjoiTWFpbCIsIldUIjoyfQ%3D%3D%7C0%7C%7C%7C&a
 mp\;sdata=caJijvscOEaYzrW2s86vTUN4wrr8YpFwMG3z29rTMlk%3D&amp\;reserved=0">
 Kent School District Board Meetings YouTube channel</a>.</p></li></ul>
LOCATION:KSD Administration Center Board Room: 12033 SE 256th St\, Kent
SUMMARY:School Board Work Session
END:VEVENT
BEGIN:VEVENT
DTSTAMP:20260423T123524Z
UID:4a8904a6-79e8-4e54-b56c-29c96cfe3fb6
DTSTART:20260513T183000
DTEND:20260513T200000
DESCRIPTION:<ul><li><p>Learn more about <a target="_blank" rel="noopener no
 referrer nofollow" class="x_OWAAutoLink" href="https://nam02.safelinks.pro
 tection.outlook.com/?url=https%3A%2F%2Fwww.kent.k12.wa.us%2Fpage%2Fboard-m
 eetings&amp\;data=05%7C02%7CArnold.Maurera%40kent.k12.wa.us%7Cd98365725383
 49e146d608dde1a4fc1b%7C773029edd6c2480ba5a2281c6d30235e%7C0%7C0%7C63891482
 0929067970%7CUnknown%7CTWFpbGZsb3d8eyJFbXB0eU1hcGkiOnRydWUsIlYiOiIwLjAuMDA
 wMCIsIlAiOiJXaW4zMiIsIkFOIjoiTWFpbCIsIldUIjoyfQ%3D%3D%7C0%7C%7C%7C&amp\;sd
 ata=JzhmSL5MvTepeXGh9C923hZNWjbRnm52blmIqi17Sb8%3D&amp\;reserved=0">board 
 meetings</a>\, including public comment submission.</p></li><li><p>Visit <
 a target="_blank" rel="noopener noreferrer nofollow" class="x_OWAAutoLink"
  href="https://nam02.safelinks.protection.outlook.com/?url=https%3A%2F%2Fg
 o.boarddocs.com%2Fwa%2Fksdwa%2FBoard.nsf%2FPublic&amp\;data=05%7C02%7CArno
 ld.Maurera%40kent.k12.wa.us%7Cd9836572538349e146d608dde1a4fc1b%7C773029edd
 6c2480ba5a2281c6d30235e%7C0%7C0%7C638914820929082534%7CUnknown%7CTWFpbGZsb
 3d8eyJFbXB0eU1hcGkiOnRydWUsIlYiOiIwLjAuMDAwMCIsIlAiOiJXaW4zMiIsIkFOIjoiTWF
 pbCIsIldUIjoyfQ%3D%3D%7C0%7C%7C%7C&amp\;sdata=76tB%2FI7hmSAzjNqxUJ0q6b2dsp
 JO6iFrqkhQmBz3tCY%3D&amp\;reserved=0">BoardDocs</a>&nbsp\;to see the agend
 a.</p></li><li><p>Watch live on the <a target="_blank" rel="noopener noref
 errer nofollow" class="x_OWAAutoLink" href="https://nam02.safelinks.protec
 tion.outlook.com/?url=https%3A%2F%2Fwww.youtube.com%2Fchannel%2FUCvAM_LqNM
 bJaGy-8R9TCFTA&amp\;data=05%7C02%7CArnold.Maurera%40kent.k12.wa.us%7Cd9836
 572538349e146d608dde1a4fc1b%7C773029edd6c2480ba5a2281c6d30235e%7C0%7C0%7C6
 38914820929096237%7CUnknown%7CTWFpbGZsb3d8eyJFbXB0eU1hcGkiOnRydWUsIlYiOiIw
 LjAuMDAwMCIsIlAiOiJXaW4zMiIsIkFOIjoiTWFpbCIsIldUIjoyfQ%3D%3D%7C0%7C%7C%7C&
 amp\;sdata=q0dZ6V1ISFNJ5d2PRsbZDRV0eMA1y2bmoJzfLCVueZg%3D&amp\;reserved=0"
 >Kent School District Board Meetings YouTube channel</a>.</p></li></ul>
LOCATION:KSD Administration Center Board Room: 12033 SE 256th St\, Kent
SUMMARY:School Board Regular Meeting
END:VEVENT
BEGIN:VEVENT
DTSTAMP:20260423T123524Z
UID:7d659754-fdd6-4ee4-8d68-09016b6304fe
DTSTART;VALUE=DATE:20260515
DTEND;VALUE=DATE:20260516
DESCRIPTION:<p style="text-align: left"><span>We are accepting online appli
 cations for the upcoming 2026-2027 school year </span>through Friday\, May
  15\, 2026.<span> If you would like to have your child screened for early 
 entry into kindergarten\, please </span><a target="_blank" rel="noopener n
 oreferrer nofollow" href="https://forms.office.com/pages/responsepage.aspx
 ?id=7Skwd8LWC0iloigcbTAjXsDGNOsP8PVHtZ4Srb1mxDVUQzVEN01BSjk4TVhTQldFVFA3NE
 owQUZZMy4u&amp\;route=shorturl" path-prefix="https://kentschooldistrictwa.
 sites.thrillshare.com" relative-link="https://forms.office.com/pages/respo
 nsepage.aspx?id=7Skwd8LWC0iloigcbTAjXsDGNOsP8PVHtZ4Srb1mxDVUQzVEN01BSjk4TV
 hTQldFVFA3NEowQUZZMy4u&amp\;route=shorturl">apply online</a><span>. Famili
 es must complete all portions of the application before their child can be
  scheduled for an evaluation</span></p>
LOCATION:
SUMMARY:Kindergarten Early Entry Application Deadline
END:VEVENT
BEGIN:VEVENT
DTSTAMP:20260423T123524Z
UID:a0f2e211-8aef-4efa-8e11-7f4f7c5c4409
DTSTART;VALUE=DATE:20260520
DTEND;VALUE=DATE:20260521
DESCRIPTION:<p><span>All schools will release students two hours earlier th
 an the usual </span><a target="_blank" rel="noopener noreferrer nofollow" 
 class="x_OWAAutoLink" href="https://nam02.safelinks.protection.outlook.com
 /?url=https%3A%2F%2Fwww.kent.k12.wa.us%2Fpage%2Fbell-schedule&amp\;data=05
 %7C02%7CArnold.Maurera%40kent.k12.wa.us%7Cd9836572538349e146d608dde1a4fc1b
 %7C773029edd6c2480ba5a2281c6d30235e%7C0%7C0%7C638914820928884655%7CUnknown
 %7CTWFpbGZsb3d8eyJFbXB0eU1hcGkiOnRydWUsIlYiOiIwLjAuMDAwMCIsIlAiOiJXaW4zMiI
 sIkFOIjoiTWFpbCIsIldUIjoyfQ%3D%3D%7C0%7C%7C%7C&amp\;sdata=tKMFmSL3gv7CLyGS
 zoOpznvHPqbQWv3SIRRyz2kRr4o%3D&amp\;reserved=0">bell time</a><span>.</span
 ></p>
LOCATION:
SUMMARY:2 Hour Early Release
END:VEVENT
BEGIN:VEVENT
DTSTAMP:20260423T123524Z
UID:828238d4-7a44-428f-8e9b-b9f95a3d3a66
DTSTART;VALUE=DATE:20260522
DTEND;VALUE=DATE:20260523
DESCRIPTION:
LOCATION:
SUMMARY:No School - Optional Snow Day
END:VEVENT
BEGIN:VEVENT
DTSTAMP:20260423T123524Z
UID:5a2c74ad-2d5f-425f-bdd3-c65e9c8cbed5
DTSTART;VALUE=DATE:20260522
DTEND;VALUE=DATE:20260523
DESCRIPTION:
LOCATION:
SUMMARY:Optional Snow Day
END:VEVENT
BEGIN:VEVENT
DTSTAMP:20260423T123524Z
UID:0804db33-a39c-4198-8db9-2fe354bd1de5
DTSTART;VALUE=DATE:20260525
DTEND;VALUE=DATE:20260526
DESCRIPTION:
LOCATION:
SUMMARY:No School - Memorial Day
END:VEVENT
BEGIN:VEVENT
DTSTAMP:20260423T123524Z
UID:3f9ef611-fa64-45d9-b4bb-f73cea2e1090
DTSTART;VALUE=DATE:20260525
DTEND;VALUE=DATE:20260526
DESCRIPTION:
LOCATION:
SUMMARY:No School - Memorial Day
END:VEVENT
BEGIN:VEVENT
DTSTAMP:20260423T123524Z
UID:812ef649-9e29-48c1-a409-d4c9b9639b94
DTSTART;VALUE=DATE:20260527
DTEND;VALUE=DATE:20260528
DESCRIPTION:<p><span>All schools will release students two hours earlier th
 an the usual </span><a target="_blank" rel="noopener noreferrer nofollow" 
 class="x_OWAAutoLink" href="https://nam02.safelinks.protection.outlook.com
 /?url=https%3A%2F%2Fwww.kent.k12.wa.us%2Fpage%2Fbell-schedule&amp\;data=05
 %7C02%7CArnold.Maurera%40kent.k12.wa.us%7Cd9836572538349e146d608dde1a4fc1b
 %7C773029edd6c2480ba5a2281c6d30235e%7C0%7C0%7C638914820928884655%7CUnknown
 %7CTWFpbGZsb3d8eyJFbXB0eU1hcGkiOnRydWUsIlYiOiIwLjAuMDAwMCIsIlAiOiJXaW4zMiI
 sIkFOIjoiTWFpbCIsIldUIjoyfQ%3D%3D%7C0%7C%7C%7C&amp\;sdata=tKMFmSL3gv7CLyGS
 zoOpznvHPqbQWv3SIRRyz2kRr4o%3D&amp\;reserved=0">bell time</a><span>.</span
 ></p>
LOCATION:
SUMMARY:2 Hour Early Release
END:VEVENT
BEGIN:VEVENT
DTSTAMP:20260423T123524Z
UID:5baef41f-c207-4e46-b152-780d5286f4bf
DTSTART:20260527T170000
DTEND:20260527T180000
DESCRIPTION:<ul>\n<li><p>Learn more about <a target="_blank" rel="noopener 
 noreferrer nofollow" class="x_OWAAutoLink" href="https://nam02.safelinks.p
 rotection.outlook.com/?url=https%3A%2F%2Fwww.kent.k12.wa.us%2Fpage%2Fboard
 -meetings&amp\;data=05%7C02%7CArnold.Maurera%40kent.k12.wa.us%7Cd983657253
 8349e146d608dde1a4fc1b%7C773029edd6c2480ba5a2281c6d30235e%7C0%7C0%7C638914
 820929155033%7CUnknown%7CTWFpbGZsb3d8eyJFbXB0eU1hcGkiOnRydWUsIlYiOiIwLjAuM
 DAwMCIsIlAiOiJXaW4zMiIsIkFOIjoiTWFpbCIsIldUIjoyfQ%3D%3D%7C0%7C%7C%7C&amp\;
 sdata=2waUcyP%2B8VIFuAIXlODHm%2FLE%2BTGPgpPzzZ1%2Fc9ZxhQo%3D&amp\;reserved
 =0">board meetings</a>.</p></li>\n<li><p>Visit <a target="_blank" rel="noo
 pener noreferrer nofollow" class="x_OWAAutoLink" href="https://nam02.safel
 inks.protection.outlook.com/?url=https%3A%2F%2Fgo.boarddocs.com%2Fwa%2Fksd
 wa%2FBoard.nsf%2FPublic&amp\;data=05%7C02%7CArnold.Maurera%40kent.k12.wa.u
 s%7Cd9836572538349e146d608dde1a4fc1b%7C773029edd6c2480ba5a2281c6d30235e%7C
 0%7C0%7C638914820929169531%7CUnknown%7CTWFpbGZsb3d8eyJFbXB0eU1hcGkiOnRydWU
 sIlYiOiIwLjAuMDAwMCIsIlAiOiJXaW4zMiIsIkFOIjoiTWFpbCIsIldUIjoyfQ%3D%3D%7C0%
 7C%7C%7C&amp\;sdata=mZqlk0hSP46kU7jT1wPCMYylHIyqII%2F%2Bt1x5Av6fcSw%3D&amp
 \;reserved=0">BoardDocs</a> to see the agenda and confirm the start time.
 </p></li>\n<li><p>Watch live on the <a target="_blank" rel="noopener noref
 errer nofollow" class="x_OWAAutoLink" href="https://nam02.safelinks.protec
 tion.outlook.com/?url=https%3A%2F%2Fwww.youtube.com%2Fchannel%2FUCvAM_LqNM
 bJaGy-8R9TCFTA&amp\;data=05%7C02%7CArnold.Maurera%40kent.k12.wa.us%7Cd9836
 572538349e146d608dde1a4fc1b%7C773029edd6c2480ba5a2281c6d30235e%7C0%7C0%7C6
 38914820929186664%7CUnknown%7CTWFpbGZsb3d8eyJFbXB0eU1hcGkiOnRydWUsIlYiOiIw
 LjAuMDAwMCIsIlAiOiJXaW4zMiIsIkFOIjoiTWFpbCIsIldUIjoyfQ%3D%3D%7C0%7C%7C%7C&
 amp\;sdata=caJijvscOEaYzrW2s86vTUN4wrr8YpFwMG3z29rTMlk%3D&amp\;reserved=0"
 >Kent School District Board Meetings YouTube channel</a>.</p></li>\n</ul>
LOCATION:KSD Administration Center Board Room: 12033 SE 256th St\, Kent
SUMMARY: School Board Work Session
END:VEVENT
BEGIN:VEVENT
DTSTAMP:20260423T123524Z
UID:83352413-041a-44cf-a8ae-b08892643093
DTSTART:20260527T183000
DTEND:20260527T200000
DESCRIPTION:<ul><li><p>Learn more about <a target="_blank" rel="noopener no
 referrer nofollow" class="x_OWAAutoLink" href="https://nam02.safelinks.pro
 tection.outlook.com/?url=https%3A%2F%2Fwww.kent.k12.wa.us%2Fpage%2Fboard-m
 eetings&amp\;data=05%7C02%7CArnold.Maurera%40kent.k12.wa.us%7Cd98365725383
 49e146d608dde1a4fc1b%7C773029edd6c2480ba5a2281c6d30235e%7C0%7C0%7C63891482
 0929067970%7CUnknown%7CTWFpbGZsb3d8eyJFbXB0eU1hcGkiOnRydWUsIlYiOiIwLjAuMDA
 wMCIsIlAiOiJXaW4zMiIsIkFOIjoiTWFpbCIsIldUIjoyfQ%3D%3D%7C0%7C%7C%7C&amp\;sd
 ata=JzhmSL5MvTepeXGh9C923hZNWjbRnm52blmIqi17Sb8%3D&amp\;reserved=0">board 
 meetings</a>\, including public comment submission.</p></li><li><p>Visit <
 a target="_blank" rel="noopener noreferrer nofollow" class="x_OWAAutoLink"
  href="https://nam02.safelinks.protection.outlook.com/?url=https%3A%2F%2Fg
 o.boarddocs.com%2Fwa%2Fksdwa%2FBoard.nsf%2FPublic&amp\;data=05%7C02%7CArno
 ld.Maurera%40kent.k12.wa.us%7Cd9836572538349e146d608dde1a4fc1b%7C773029edd
 6c2480ba5a2281c6d30235e%7C0%7C0%7C638914820929082534%7CUnknown%7CTWFpbGZsb
 3d8eyJFbXB0eU1hcGkiOnRydWUsIlYiOiIwLjAuMDAwMCIsIlAiOiJXaW4zMiIsIkFOIjoiTWF
 pbCIsIldUIjoyfQ%3D%3D%7C0%7C%7C%7C&amp\;sdata=76tB%2FI7hmSAzjNqxUJ0q6b2dsp
 JO6iFrqkhQmBz3tCY%3D&amp\;reserved=0">BoardDocs</a>&nbsp\;to see the agend
 a.</p></li><li><p>Watch live on the <a target="_blank" rel="noopener noref
 errer nofollow" class="x_OWAAutoLink" href="https://nam02.safelinks.protec
 tion.outlook.com/?url=https%3A%2F%2Fwww.youtube.com%2Fchannel%2FUCvAM_LqNM
 bJaGy-8R9TCFTA&amp\;data=05%7C02%7CArnold.Maurera%40kent.k12.wa.us%7Cd9836
 572538349e146d608dde1a4fc1b%7C773029edd6c2480ba5a2281c6d30235e%7C0%7C0%7C6
 38914820929096237%7CUnknown%7CTWFpbGZsb3d8eyJFbXB0eU1hcGkiOnRydWUsIlYiOiIw
 LjAuMDAwMCIsIlAiOiJXaW4zMiIsIkFOIjoiTWFpbCIsIldUIjoyfQ%3D%3D%7C0%7C%7C%7C&
 amp\;sdata=q0dZ6V1ISFNJ5d2PRsbZDRV0eMA1y2bmoJzfLCVueZg%3D&amp\;reserved=0"
 >Kent School District Board Meetings YouTube channel</a>.</p></li></ul><p>
 <span>&nbsp\;</span></p>
LOCATION:KSD Administration Center Board Room: 12033 SE 256th St\, Kent
SUMMARY:School Board Regular Meeting
END:VEVENT
BEGIN:VEVENT
DTSTAMP:20260423T123524Z
UID:ed6ee5ae-5c14-4816-bbb7-f77d5c9da718
DTSTART;VALUE=DATE:20260603
DTEND;VALUE=DATE:20260604
DESCRIPTION:<p><span>All schools will release students two hours earlier th
 an the usual </span><a target="_blank" rel="noopener noreferrer nofollow" 
 class="x_OWAAutoLink" href="https://nam02.safelinks.protection.outlook.com
 /?url=https%3A%2F%2Fwww.kent.k12.wa.us%2Fpage%2Fbell-schedule&amp\;data=05
 %7C02%7CArnold.Maurera%40kent.k12.wa.us%7Cd9836572538349e146d608dde1a4fc1b
 %7C773029edd6c2480ba5a2281c6d30235e%7C0%7C0%7C638914820928884655%7CUnknown
 %7CTWFpbGZsb3d8eyJFbXB0eU1hcGkiOnRydWUsIlYiOiIwLjAuMDAwMCIsIlAiOiJXaW4zMiI
 sIkFOIjoiTWFpbCIsIldUIjoyfQ%3D%3D%7C0%7C%7C%7C&amp\;sdata=tKMFmSL3gv7CLyGS
 zoOpznvHPqbQWv3SIRRyz2kRr4o%3D&amp\;reserved=0">bell time</a><span>.</span
 ></p>
LOCATION:
SUMMARY: 2 Hour Early Release
END:VEVENT
BEGIN:VEVENT
DTSTAMP:20260423T123524Z
UID:12edf807-37dc-45db-ae7c-8d9655995244
DTSTART;VALUE=DATE:20260610
DTEND;VALUE=DATE:20260611
DESCRIPTION:<p><span>All schools will release students two hours earlier th
 an the usual </span><a target="_blank" rel="noopener noreferrer nofollow" 
 class="x_OWAAutoLink" href="https://nam02.safelinks.protection.outlook.com
 /?url=https%3A%2F%2Fwww.kent.k12.wa.us%2Fpage%2Fbell-schedule&amp\;data=05
 %7C02%7CArnold.Maurera%40kent.k12.wa.us%7Cd9836572538349e146d608dde1a4fc1b
 %7C773029edd6c2480ba5a2281c6d30235e%7C0%7C0%7C638914820928884655%7CUnknown
 %7CTWFpbGZsb3d8eyJFbXB0eU1hcGkiOnRydWUsIlYiOiIwLjAuMDAwMCIsIlAiOiJXaW4zMiI
 sIkFOIjoiTWFpbCIsIldUIjoyfQ%3D%3D%7C0%7C%7C%7C&amp\;sdata=tKMFmSL3gv7CLyGS
 zoOpznvHPqbQWv3SIRRyz2kRr4o%3D&amp\;reserved=0">bell time</a><span>.</span
 ></p>
LOCATION:
SUMMARY:2 Hour Early Release
END:VEVENT
BEGIN:VEVENT
DTSTAMP:20260423T123524Z
UID:89f65785-e963-424b-abe2-3d02dd4798dc
DTSTART:20260610T160000
DTEND:20260610T180000
DESCRIPTION:<ul>\n<li><p>Learn more about <a target="_blank" rel="noopener 
 noreferrer nofollow" class="x_OWAAutoLink" href="https://nam02.safelinks.p
 rotection.outlook.com/?url=https%3A%2F%2Fwww.kent.k12.wa.us%2Fpage%2Fboard
 -meetings&amp\;data=05%7C02%7CArnold.Maurera%40kent.k12.wa.us%7Cd983657253
 8349e146d608dde1a4fc1b%7C773029edd6c2480ba5a2281c6d30235e%7C0%7C0%7C638914
 820929155033%7CUnknown%7CTWFpbGZsb3d8eyJFbXB0eU1hcGkiOnRydWUsIlYiOiIwLjAuM
 DAwMCIsIlAiOiJXaW4zMiIsIkFOIjoiTWFpbCIsIldUIjoyfQ%3D%3D%7C0%7C%7C%7C&amp\;
 sdata=2waUcyP%2B8VIFuAIXlODHm%2FLE%2BTGPgpPzzZ1%2Fc9ZxhQo%3D&amp\;reserved
 =0">board meetings</a>.</p></li>\n<li><p>Visit <a target="_blank" rel="noo
 pener noreferrer nofollow" class="x_OWAAutoLink" href="https://nam02.safel
 inks.protection.outlook.com/?url=https%3A%2F%2Fgo.boarddocs.com%2Fwa%2Fksd
 wa%2FBoard.nsf%2FPublic&amp\;data=05%7C02%7CArnold.Maurera%40kent.k12.wa.u
 s%7Cd9836572538349e146d608dde1a4fc1b%7C773029edd6c2480ba5a2281c6d30235e%7C
 0%7C0%7C638914820929169531%7CUnknown%7CTWFpbGZsb3d8eyJFbXB0eU1hcGkiOnRydWU
 sIlYiOiIwLjAuMDAwMCIsIlAiOiJXaW4zMiIsIkFOIjoiTWFpbCIsIldUIjoyfQ%3D%3D%7C0%
 7C%7C%7C&amp\;sdata=mZqlk0hSP46kU7jT1wPCMYylHIyqII%2F%2Bt1x5Av6fcSw%3D&amp
 \;reserved=0">BoardDocs</a> to see the agenda and confirm the start time.
 </p></li>\n<li><p>Watch live on the <a target="_blank" rel="noopener noref
 errer nofollow" class="x_OWAAutoLink" href="https://nam02.safelinks.protec
 tion.outlook.com/?url=https%3A%2F%2Fwww.youtube.com%2Fchannel%2FUCvAM_LqNM
 bJaGy-8R9TCFTA&amp\;data=05%7C02%7CArnold.Maurera%40kent.k12.wa.us%7Cd9836
 572538349e146d608dde1a4fc1b%7C773029edd6c2480ba5a2281c6d30235e%7C0%7C0%7C6
 38914820929186664%7CUnknown%7CTWFpbGZsb3d8eyJFbXB0eU1hcGkiOnRydWUsIlYiOiIw
 LjAuMDAwMCIsIlAiOiJXaW4zMiIsIkFOIjoiTWFpbCIsIldUIjoyfQ%3D%3D%7C0%7C%7C%7C&
 amp\;sdata=caJijvscOEaYzrW2s86vTUN4wrr8YpFwMG3z29rTMlk%3D&amp\;reserved=0"
 >Kent School District Board Meetings YouTube channel</a>.</p></li>\n</ul><
 p><br></p>
LOCATION:KSD Administration Center Board Room: 12033 SE 256th St\, Kent
SUMMARY:School Board Work Session
END:VEVENT
BEGIN:VEVENT
DTSTAMP:20260423T123524Z
UID:10d30ff1-cc08-4223-b78e-7a8d34ff9a61
DTSTART:20260610T183000
DTEND:20260610T200000
DESCRIPTION:<ul><li><p>Learn more about <a target="_blank" rel="noopener no
 referrer nofollow" class="x_OWAAutoLink" href="https://nam02.safelinks.pro
 tection.outlook.com/?url=https%3A%2F%2Fwww.kent.k12.wa.us%2Fpage%2Fboard-m
 eetings&amp\;data=05%7C02%7CArnold.Maurera%40kent.k12.wa.us%7Cd98365725383
 49e146d608dde1a4fc1b%7C773029edd6c2480ba5a2281c6d30235e%7C0%7C0%7C63891482
 0929067970%7CUnknown%7CTWFpbGZsb3d8eyJFbXB0eU1hcGkiOnRydWUsIlYiOiIwLjAuMDA
 wMCIsIlAiOiJXaW4zMiIsIkFOIjoiTWFpbCIsIldUIjoyfQ%3D%3D%7C0%7C%7C%7C&amp\;sd
 ata=JzhmSL5MvTepeXGh9C923hZNWjbRnm52blmIqi17Sb8%3D&amp\;reserved=0">board 
 meetings</a>\, including public comment submission.</p></li><li><p>Visit <
 a target="_blank" rel="noopener noreferrer nofollow" class="x_OWAAutoLink"
  href="https://nam02.safelinks.protection.outlook.com/?url=https%3A%2F%2Fg
 o.boarddocs.com%2Fwa%2Fksdwa%2FBoard.nsf%2FPublic&amp\;data=05%7C02%7CArno
 ld.Maurera%40kent.k12.wa.us%7Cd9836572538349e146d608dde1a4fc1b%7C773029edd
 6c2480ba5a2281c6d30235e%7C0%7C0%7C638914820929082534%7CUnknown%7CTWFpbGZsb
 3d8eyJFbXB0eU1hcGkiOnRydWUsIlYiOiIwLjAuMDAwMCIsIlAiOiJXaW4zMiIsIkFOIjoiTWF
 pbCIsIldUIjoyfQ%3D%3D%7C0%7C%7C%7C&amp\;sdata=76tB%2FI7hmSAzjNqxUJ0q6b2dsp
 JO6iFrqkhQmBz3tCY%3D&amp\;reserved=0">BoardDocs</a>&nbsp\;to see the agend
 a.</p></li><li><p>Watch live on the <a target="_blank" rel="noopener noref
 errer nofollow" class="x_OWAAutoLink" href="https://nam02.safelinks.protec
 tion.outlook.com/?url=https%3A%2F%2Fwww.youtube.com%2Fchannel%2FUCvAM_LqNM
 bJaGy-8R9TCFTA&amp\;data=05%7C02%7CArnold.Maurera%40kent.k12.wa.us%7Cd9836
 572538349e146d608dde1a4fc1b%7C773029edd6c2480ba5a2281c6d30235e%7C0%7C0%7C6
 38914820929096237%7CUnknown%7CTWFpbGZsb3d8eyJFbXB0eU1hcGkiOnRydWUsIlYiOiIw
 LjAuMDAwMCIsIlAiOiJXaW4zMiIsIkFOIjoiTWFpbCIsIldUIjoyfQ%3D%3D%7C0%7C%7C%7C&
 amp\;sdata=q0dZ6V1ISFNJ5d2PRsbZDRV0eMA1y2bmoJzfLCVueZg%3D&amp\;reserved=0"
 >Kent School District Board Meetings YouTube channel</a>.</p></li></ul>
LOCATION:KSD Administration Center Board Room: 12033 SE 256th St\, Kent
SUMMARY:School Board Regular Meeting
END:VEVENT
BEGIN:VEVENT
DTSTAMP:20260423T123524Z
UID:53d3b0db-0983-455e-8fb4-e93adb858522
DTSTART;VALUE=DATE:20260611
DTEND;VALUE=DATE:20260612
DESCRIPTION:
LOCATION:
SUMMARY:Last Day of ECSE
END:VEVENT
BEGIN:VEVENT
DTSTAMP:20260423T123524Z
UID:bb00743d-17ea-4f74-a5f4-5d66501bff0a
DTSTART;VALUE=DATE:20260617
DTEND;VALUE=DATE:20260618
DESCRIPTION:<p><span>All schools will release students two hours earlier th
 an the usual </span><a target="_blank" rel="noopener noreferrer nofollow" 
 class="x_OWAAutoLink" href="https://nam02.safelinks.protection.outlook.com
 /?url=https%3A%2F%2Fwww.kent.k12.wa.us%2Fpage%2Fbell-schedule&amp\;data=05
 %7C02%7CArnold.Maurera%40kent.k12.wa.us%7Cd9836572538349e146d608dde1a4fc1b
 %7C773029edd6c2480ba5a2281c6d30235e%7C0%7C0%7C638914820928884655%7CUnknown
 %7CTWFpbGZsb3d8eyJFbXB0eU1hcGkiOnRydWUsIlYiOiIwLjAuMDAwMCIsIlAiOiJXaW4zMiI
 sIkFOIjoiTWFpbCIsIldUIjoyfQ%3D%3D%7C0%7C%7C%7C&amp\;sdata=tKMFmSL3gv7CLyGS
 zoOpznvHPqbQWv3SIRRyz2kRr4o%3D&amp\;reserved=0">bell time</a><span>.</span
 ></p>
LOCATION:
SUMMARY:2 Hour Early Release
END:VEVENT
BEGIN:VEVENT
DTSTAMP:20260423T123524Z
UID:b8a4cf06-c28f-4804-9b72-1cf1af27a659
DTSTART;VALUE=DATE:20260618
DTEND;VALUE=DATE:20260619
DESCRIPTION:
LOCATION:
SUMMARY:Last Day of School
END:VEVENT
BEGIN:VEVENT
DTSTAMP:20260423T123524Z
UID:0bffa035-eb46-486c-ba09-8fd4658c64f8
DTSTART;VALUE=DATE:20260619
DTEND;VALUE=DATE:20260620
DESCRIPTION:
LOCATION:
SUMMARY:Office Closed - Juneteenth
END:VEVENT
BEGIN:VEVENT
DTSTAMP:20260423T123524Z
UID:3024a6ba-79be-4f0b-978c-f8c80dfe5b4a
DTSTART:20260624T170000
DTEND:20260624T180000
DESCRIPTION:<ul><li><p>Learn more about <a target="_blank" rel="noopener no
 referrer nofollow" class="x_OWAAutoLink" href="https://nam02.safelinks.pro
 tection.outlook.com/?url=https%3A%2F%2Fwww.kent.k12.wa.us%2Fpage%2Fboard-m
 eetings&amp\;data=05%7C02%7CArnold.Maurera%40kent.k12.wa.us%7Cd98365725383
 49e146d608dde1a4fc1b%7C773029edd6c2480ba5a2281c6d30235e%7C0%7C0%7C63891482
 0929155033%7CUnknown%7CTWFpbGZsb3d8eyJFbXB0eU1hcGkiOnRydWUsIlYiOiIwLjAuMDA
 wMCIsIlAiOiJXaW4zMiIsIkFOIjoiTWFpbCIsIldUIjoyfQ%3D%3D%7C0%7C%7C%7C&amp\;sd
 ata=2waUcyP%2B8VIFuAIXlODHm%2FLE%2BTGPgpPzzZ1%2Fc9ZxhQo%3D&amp\;reserved=0
 ">board meetings</a>.</p></li><li><p>Visit <a target="_blank" rel="noopene
 r noreferrer nofollow" class="x_OWAAutoLink" href="https://nam02.safelinks
 .protection.outlook.com/?url=https%3A%2F%2Fgo.boarddocs.com%2Fwa%2Fksdwa%2
 FBoard.nsf%2FPublic&amp\;data=05%7C02%7CArnold.Maurera%40kent.k12.wa.us%7C
 d9836572538349e146d608dde1a4fc1b%7C773029edd6c2480ba5a2281c6d30235e%7C0%7C
 0%7C638914820929169531%7CUnknown%7CTWFpbGZsb3d8eyJFbXB0eU1hcGkiOnRydWUsIlY
 iOiIwLjAuMDAwMCIsIlAiOiJXaW4zMiIsIkFOIjoiTWFpbCIsIldUIjoyfQ%3D%3D%7C0%7C%7
 C%7C&amp\;sdata=mZqlk0hSP46kU7jT1wPCMYylHIyqII%2F%2Bt1x5Av6fcSw%3D&amp\;re
 served=0">BoardDocs</a>&nbsp\;to see the agenda and confirm the start time
 .</p></li><li><p>Watch live on the <a target="_blank" rel="noopener norefe
 rrer nofollow" class="x_OWAAutoLink" href="https://nam02.safelinks.protect
 ion.outlook.com/?url=https%3A%2F%2Fwww.youtube.com%2Fchannel%2FUCvAM_LqNMb
 JaGy-8R9TCFTA&amp\;data=05%7C02%7CArnold.Maurera%40kent.k12.wa.us%7Cd98365
 72538349e146d608dde1a4fc1b%7C773029edd6c2480ba5a2281c6d30235e%7C0%7C0%7C63
 8914820929186664%7CUnknown%7CTWFpbGZsb3d8eyJFbXB0eU1hcGkiOnRydWUsIlYiOiIwL
 jAuMDAwMCIsIlAiOiJXaW4zMiIsIkFOIjoiTWFpbCIsIldUIjoyfQ%3D%3D%7C0%7C%7C%7C&a
 mp\;sdata=caJijvscOEaYzrW2s86vTUN4wrr8YpFwMG3z29rTMlk%3D&amp\;reserved=0">
 Kent School District Board Meetings YouTube channel</a>.</p></li></ul><p><
 strong><br></strong></p><p><br></p>
LOCATION: KSD Administration Center Board Room: 12033 SE 256th St\, Kent
SUMMARY: School Board Work Session
END:VEVENT
BEGIN:VEVENT
DTSTAMP:20260423T123524Z
UID:32805ab5-8ce1-4245-8396-487db6315e20
DTSTART:20260624T183000
DTEND:20260624T200000
DESCRIPTION:<ul><li><p>Learn more about <a target="_blank" rel="noopener no
 referrer nofollow" class="x_OWAAutoLink" href="https://nam02.safelinks.pro
 tection.outlook.com/?url=https%3A%2F%2Fwww.kent.k12.wa.us%2Fpage%2Fboard-m
 eetings&amp\;data=05%7C02%7CArnold.Maurera%40kent.k12.wa.us%7Cd98365725383
 49e146d608dde1a4fc1b%7C773029edd6c2480ba5a2281c6d30235e%7C0%7C0%7C63891482
 0929067970%7CUnknown%7CTWFpbGZsb3d8eyJFbXB0eU1hcGkiOnRydWUsIlYiOiIwLjAuMDA
 wMCIsIlAiOiJXaW4zMiIsIkFOIjoiTWFpbCIsIldUIjoyfQ%3D%3D%7C0%7C%7C%7C&amp\;sd
 ata=JzhmSL5MvTepeXGh9C923hZNWjbRnm52blmIqi17Sb8%3D&amp\;reserved=0">board 
 meetings</a>\, including public comment submission.</p></li><li><p>Visit <
 a target="_blank" rel="noopener noreferrer nofollow" class="x_OWAAutoLink"
  href="https://nam02.safelinks.protection.outlook.com/?url=https%3A%2F%2Fg
 o.boarddocs.com%2Fwa%2Fksdwa%2FBoard.nsf%2FPublic&amp\;data=05%7C02%7CArno
 ld.Maurera%40kent.k12.wa.us%7Cd9836572538349e146d608dde1a4fc1b%7C773029edd
 6c2480ba5a2281c6d30235e%7C0%7C0%7C638914820929082534%7CUnknown%7CTWFpbGZsb
 3d8eyJFbXB0eU1hcGkiOnRydWUsIlYiOiIwLjAuMDAwMCIsIlAiOiJXaW4zMiIsIkFOIjoiTWF
 pbCIsIldUIjoyfQ%3D%3D%7C0%7C%7C%7C&amp\;sdata=76tB%2FI7hmSAzjNqxUJ0q6b2dsp
 JO6iFrqkhQmBz3tCY%3D&amp\;reserved=0">BoardDocs</a>&nbsp\;to see the agend
 a.</p></li><li><p>Watch live on the <a target="_blank" rel="noopener noref
 errer nofollow" class="x_OWAAutoLink" href="https://nam02.safelinks.protec
 tion.outlook.com/?url=https%3A%2F%2Fwww.youtube.com%2Fchannel%2FUCvAM_LqNM
 bJaGy-8R9TCFTA&amp\;data=05%7C02%7CArnold.Maurera%40kent.k12.wa.us%7Cd9836
 572538349e146d608dde1a4fc1b%7C773029edd6c2480ba5a2281c6d30235e%7C0%7C0%7C6
 38914820929096237%7CUnknown%7CTWFpbGZsb3d8eyJFbXB0eU1hcGkiOnRydWUsIlYiOiIw
 LjAuMDAwMCIsIlAiOiJXaW4zMiIsIkFOIjoiTWFpbCIsIldUIjoyfQ%3D%3D%7C0%7C%7C%7C&
 amp\;sdata=q0dZ6V1ISFNJ5d2PRsbZDRV0eMA1y2bmoJzfLCVueZg%3D&amp\;reserved=0"
 >Kent School District Board Meetings YouTube channel</a>.</p></li></ul>
LOCATION:KSD Administration Center Board Room: 12033 SE 256th St\, Kent
SUMMARY: School Board Regular Meeting
END:VEVENT
END:VCALENDAR
