BEGIN:VCALENDAR
VERSION:2.0
PRODID:icalendar-ruby
CALSCALE:GREGORIAN
BEGIN:VTIMEZONE
TZID:America/New_York
BEGIN:DAYLIGHT
DTSTART:20260308T030000
TZOFFSETFROM:-0500
TZOFFSETTO:-0400
RRULE:FREQ=YEARLY;BYDAY=2SU;BYMONTH=3
TZNAME:EDT
END:DAYLIGHT
BEGIN:STANDARD
DTSTART:20261101T010000
TZOFFSETFROM:-0400
TZOFFSETTO:-0500
RRULE:FREQ=YEARLY;BYDAY=1SU;BYMONTH=11
TZNAME:EST
END:STANDARD
END:VTIMEZONE
BEGIN:VEVENT
DTSTAMP:20260422T085526Z
UID:5bd6c234-4f79-434c-97ea-65fe80326c50
DTSTART;VALUE=DATE:20260418
DTEND;VALUE=DATE:20260427
DESCRIPTION:
LOCATION:
SUMMARY:April Break
END:VEVENT
BEGIN:VEVENT
DTSTAMP:20260422T085526Z
UID:3ac5ab21-a257-452e-b1bd-718820e9be89
DTSTART;VALUE=DATE:20260427
DTEND;VALUE=DATE:20260428
DESCRIPTION:
LOCATION:
SUMMARY:Classes Resume
END:VEVENT
BEGIN:VEVENT
DTSTAMP:20260422T085526Z
UID:48c15508-5a84-4998-83b6-2710a3e91346
DTSTART;VALUE=DATE:20260506
DTEND;VALUE=DATE:20260509
DESCRIPTION:
LOCATION:
SUMMARY:8th Grade DC Trip
END:VEVENT
BEGIN:VEVENT
DTSTAMP:20260422T085526Z
UID:dedb7976-b51c-4c99-bb8b-8f159cc44ccf
DTSTART;VALUE=DATE:20260506
DTEND;VALUE=DATE:20260509
DESCRIPTION:
LOCATION:
SUMMARY:8th Grade DC Trip
END:VEVENT
BEGIN:VEVENT
DTSTAMP:20260422T085526Z
UID:81376fb8-d254-469b-ba98-bcacb734882d
DTSTART;VALUE=DATE:20260506
DTEND;VALUE=DATE:20260509
DESCRIPTION:
LOCATION:
SUMMARY:8th Grade DC Trip
END:VEVENT
BEGIN:VEVENT
DTSTAMP:20260422T085526Z
UID:209b4d5e-a6bf-4c96-9cc9-099c49f21690
DTSTART;VALUE=DATE:20260506
DTEND;VALUE=DATE:20260507
DESCRIPTION:
LOCATION:
SUMMARY:Early Release for PD - All Grades
END:VEVENT
BEGIN:VEVENT
DTSTAMP:20260422T085526Z
UID:52e778d7-0a86-4045-9d09-21e9dfb488a8
DTSTART:20260506T110000
DTEND:20260506T140000
DESCRIPTION:
LOCATION:
SUMMARY:HMS Early Release 11:00
END:VEVENT
BEGIN:VEVENT
DTSTAMP:20260422T085526Z
UID:d65dbc04-5879-4ec7-b323-59d03462f90d
DTSTART:20260506T110000
DTEND:20260506T140000
DESCRIPTION:
LOCATION:
SUMMARY:HMS Early Release 11:00
END:VEVENT
BEGIN:VEVENT
DTSTAMP:20260422T085526Z
UID:dff7c964-2a26-4d76-adc4-9deafc8c6c36
DTSTART:20260506T110000
DTEND:20260506T140000
DESCRIPTION:
LOCATION:
SUMMARY:HMS Early Release 11:00
END:VEVENT
BEGIN:VEVENT
DTSTAMP:20260422T085526Z
UID:f1966aca-15b5-4846-9be1-20aa3fd66661
DTSTART:20260519T190000
DTEND:20260519T210000
DESCRIPTION:
LOCATION:
SUMMARY:HMS Orchestra Concert
END:VEVENT
BEGIN:VEVENT
DTSTAMP:20260422T085526Z
UID:a9a43425-95cb-4127-ab23-d4899e15f921
DTSTART:20260520T190000
DTEND:20260520T210000
DESCRIPTION:
LOCATION:
SUMMARY:(Aud/Music Rm) HMS Chorus Concert
END:VEVENT
BEGIN:VEVENT
DTSTAMP:20260422T085526Z
UID:f30e5342-9a88-4fbc-9470-d4a275665ce2
DTSTART:20260521T190000
DTEND:20260521T210000
DESCRIPTION:<ul><li>Microphone</li></ul>
LOCATION:
SUMMARY:HMS Band Concert
END:VEVENT
BEGIN:VEVENT
DTSTAMP:20260422T085526Z
UID:48e0f0a6-7d33-4c29-8c34-a28fe172c94f
DTSTART;VALUE=DATE:20260522
DTEND;VALUE=DATE:20260523
DESCRIPTION:
LOCATION:
SUMMARY:Early Release - Middle School Only
END:VEVENT
BEGIN:VEVENT
DTSTAMP:20260422T085526Z
UID:d78cc625-fe33-4e4e-a6f0-dcd8e2843324
DTSTART:20260522T103000
DTEND:20260522T140000
DESCRIPTION:
LOCATION:
SUMMARY:HMS Early Release (5th Gr. Move up Day)
END:VEVENT
BEGIN:VEVENT
DTSTAMP:20260422T085526Z
UID:b172fa6d-a86a-43e3-9d52-231b1bb1f754
DTSTART:20260522T103000
DTEND:20260522T140000
DESCRIPTION:
LOCATION:
SUMMARY:HMS Early Release (5th Gr. Move up Day)
END:VEVENT
BEGIN:VEVENT
DTSTAMP:20260422T085526Z
UID:fae4ae5b-a445-4e3d-9145-94ab7c38f1ae
DTSTART:20260522T103000
DTEND:20260522T140000
DESCRIPTION:
LOCATION:
SUMMARY:HMS Early Release (5th Gr. Move up Day)
END:VEVENT
BEGIN:VEVENT
DTSTAMP:20260422T085526Z
UID:514c5c26-f77a-4c69-9006-436378134374
DTSTART;VALUE=DATE:20260525
DTEND;VALUE=DATE:20260526
DESCRIPTION:
LOCATION:
SUMMARY:Memorial Day - Schools and Offices Closed
END:VEVENT
BEGIN:VEVENT
DTSTAMP:20260422T085526Z
UID:0f481a5f-dc2c-47b6-aceb-af6fa814b68f
DTSTART;VALUE=DATE:20260530
DTEND;VALUE=DATE:20260531
DESCRIPTION:
LOCATION:
SUMMARY:High School Graduation
END:VEVENT
BEGIN:VEVENT
DTSTAMP:20260422T085526Z
UID:92d34cad-a255-4f1a-9075-a8ee3ff04073
DTSTART;VALUE=DATE:20260603
DTEND;VALUE=DATE:20260604
DESCRIPTION:
LOCATION:
SUMMARY:Early Release for PD - All Grades
END:VEVENT
BEGIN:VEVENT
DTSTAMP:20260422T085526Z
UID:a43be938-327f-4e78-9401-5e181d76f1e9
DTSTART:20260603T110000
DTEND:20260603T140000
DESCRIPTION:
LOCATION:
SUMMARY:HMS Early Release 11:00
END:VEVENT
BEGIN:VEVENT
DTSTAMP:20260422T085526Z
UID:c5ecbdde-a544-4b3b-a04a-755f674a83f6
DTSTART:20260603T110000
DTEND:20260603T140000
DESCRIPTION:
LOCATION:
SUMMARY:HMS Early Release 11:00
END:VEVENT
BEGIN:VEVENT
DTSTAMP:20260422T085526Z
UID:905abc82-446b-4a5b-b8d9-12139fc8159a
DTSTART:20260603T110000
DTEND:20260603T140000
DESCRIPTION:
LOCATION:
SUMMARY:HMS Early Release 11:00
END:VEVENT
BEGIN:VEVENT
DTSTAMP:20260422T085526Z
UID:0ab3cf31-35c0-433b-9fda-14198e56a9c6
DTSTART;VALUE=DATE:20260615
DTEND;VALUE=DATE:20260616
DESCRIPTION:
LOCATION:
SUMMARY:Last Day of School (Tentative)
END:VEVENT
BEGIN:VEVENT
DTSTAMP:20260422T085526Z
UID:ca0a9b08-aa39-46ca-9c92-96ac3be5e96d
DTSTART;VALUE=DATE:20260616
DTEND;VALUE=DATE:20260623
DESCRIPTION:
LOCATION:
SUMMARY:Make Up Days (If Needed)
END:VEVENT
BEGIN:VEVENT
DTSTAMP:20260422T085526Z
UID:68788f5b-c428-44f3-863e-0e4eb039f049
DTSTART;VALUE=DATE:20260619
DTEND;VALUE=DATE:20260620
DESCRIPTION:
LOCATION:
SUMMARY:Juneteenth Observed- Schools and Offices Closed
END:VEVENT
END:VCALENDAR
