BEGIN:VCALENDAR
VERSION:2.0
PRODID:icalendar-ruby
CALSCALE:GREGORIAN
BEGIN:VTIMEZONE
TZID:America/New_York
BEGIN:DAYLIGHT
DTSTART:20260308T030000
TZOFFSETFROM:-0500
TZOFFSETTO:-0400
RRULE:FREQ=YEARLY;BYDAY=2SU;BYMONTH=3
TZNAME:EDT
END:DAYLIGHT
BEGIN:STANDARD
DTSTART:20261101T010000
TZOFFSETFROM:-0400
TZOFFSETTO:-0500
RRULE:FREQ=YEARLY;BYDAY=1SU;BYMONTH=11
TZNAME:EST
END:STANDARD
END:VTIMEZONE
BEGIN:VEVENT
DTSTAMP:20260419T230213Z
UID:9a6c69c8-4a25-4cb6-ad02-eadc5db4d55b
DTSTART;VALUE=DATE:20260521
DTEND;VALUE=DATE:20260522
DESCRIPTION:
LOCATION:
SUMMARY:Early Release Day / Last Day of School for Students
END:VEVENT
BEGIN:VEVENT
DTSTAMP:20260419T230213Z
UID:1a81a878-bd96-45d6-b3b9-65645f3c4d91
DTSTART;VALUE=DATE:20260522
DTEND;VALUE=DATE:20260524
DESCRIPTION:
LOCATION:
SUMMARY:Graduation
END:VEVENT
BEGIN:VEVENT
DTSTAMP:20260419T230213Z
UID:953811fe-27a3-4794-bf86-b43d2f76a194
DTSTART;VALUE=DATE:20260522
DTEND;VALUE=DATE:20260523
DESCRIPTION:
LOCATION:
SUMMARY:Mandatory Workday
END:VEVENT
BEGIN:VEVENT
DTSTAMP:20260419T230213Z
UID:85f6b4dc-9d14-4f19-853b-bccad1b0132d
DTSTART;VALUE=DATE:20260525
DTEND;VALUE=DATE:20260526
DESCRIPTION:
LOCATION:
SUMMARY:Memorial Day Holiday
END:VEVENT
BEGIN:VEVENT
DTSTAMP:20260419T230213Z
UID:278422d8-ae8c-4c63-a24c-dde4abb9adbe
DTSTART;VALUE=DATE:20260526
DTEND;VALUE=DATE:20260528
DESCRIPTION:
LOCATION:
SUMMARY:Mandatory  Workdays
END:VEVENT
BEGIN:VEVENT
DTSTAMP:20260419T230213Z
UID:b47537b9-98c7-4b73-aaaa-dc1b573f2fd4
DTSTART;VALUE=DATE:20260528
DTEND;VALUE=DATE:20260602
DESCRIPTION:
LOCATION:
SUMMARY:Optional Workdays
END:VEVENT
BEGIN:VEVENT
DTSTAMP:20260419T230213Z
UID:52e6bfcd-337c-49fc-a1a7-06c5773b8162
DTSTART;VALUE=DATE:20260703
DTEND;VALUE=DATE:20260704
DESCRIPTION:
LOCATION:
SUMMARY:Independence Day
END:VEVENT
BEGIN:VEVENT
DTSTAMP:20260419T230213Z
UID:ad2794f8-0ad7-45e0-a9ae-be51bb24ffcb
DTSTART;VALUE=DATE:20260806
DTEND;VALUE=DATE:20260807
DESCRIPTION:
LOCATION:
SUMMARY:Optional Workday
END:VEVENT
BEGIN:VEVENT
DTSTAMP:20260419T230213Z
UID:9e355d1b-3069-4807-b147-c8f8b01f0122
DTSTART;VALUE=DATE:20260807
DTEND;VALUE=DATE:20260808
DESCRIPTION:
LOCATION:
SUMMARY:Mandatory Workday
END:VEVENT
BEGIN:VEVENT
DTSTAMP:20260419T230213Z
UID:507450d6-de7b-4aa3-bc06-3b06d12844f5
DTSTART;VALUE=DATE:20260813
DTEND;VALUE=DATE:20260814
DESCRIPTION:
LOCATION:
SUMMARY:First Day of School
END:VEVENT
BEGIN:VEVENT
DTSTAMP:20260419T230213Z
UID:78703220-a45a-47cf-80c7-976d1c6868dd
DTSTART;VALUE=DATE:20260907
DTEND;VALUE=DATE:20260908
DESCRIPTION:
LOCATION:
SUMMARY:Labor Day
END:VEVENT
BEGIN:VEVENT
DTSTAMP:20260419T230213Z
UID:37f16d06-0f4b-4c3b-b3b6-462d521e6cdd
DTSTART;VALUE=DATE:20260914
DTEND;VALUE=DATE:20260915
DESCRIPTION:
LOCATION:
SUMMARY:Progress Reports Sent Home
END:VEVENT
BEGIN:VEVENT
DTSTAMP:20260419T230213Z
UID:57d6aad1-fe8e-4325-b060-381a42a52b26
DTSTART:20260922T080000
DTEND:20260922T090000
DESCRIPTION:
LOCATION:
SUMMARY:Mandatory Workday/Parent Teacher Conferences
END:VEVENT
BEGIN:VEVENT
DTSTAMP:20260419T230213Z
UID:d8bed46c-8722-49ce-be2c-481068e3637f
DTSTART;VALUE=DATE:20261012
DTEND;VALUE=DATE:20261014
DESCRIPTION:
LOCATION:
SUMMARY:Mandatory Workdays
END:VEVENT
BEGIN:VEVENT
DTSTAMP:20260419T230213Z
UID:e91ec6dc-3634-4c58-8447-dfe5e69094f4
DTSTART;VALUE=DATE:20261019
DTEND;VALUE=DATE:20261020
DESCRIPTION:
LOCATION:
SUMMARY:Report Cards Sent Home
END:VEVENT
BEGIN:VEVENT
DTSTAMP:20260419T230213Z
UID:92ae5cf9-e847-4250-aac2-10dd8eac3584
DTSTART;VALUE=DATE:20261103
DTEND;VALUE=DATE:20261104
DESCRIPTION:
LOCATION:
SUMMARY:Optional Workday
END:VEVENT
BEGIN:VEVENT
DTSTAMP:20260419T230213Z
UID:bf561440-003a-49ce-8c5c-1ce20f98d934
DTSTART;VALUE=DATE:20261111
DTEND;VALUE=DATE:20261112
DESCRIPTION:
LOCATION:
SUMMARY:Veterans Day
END:VEVENT
BEGIN:VEVENT
DTSTAMP:20260419T230213Z
UID:8496bc4e-da64-4454-b399-9404f2f68641
DTSTART:20261123T080000
DTEND:20261123T090000
DESCRIPTION:
LOCATION:
SUMMARY:Progress Reports Sent Home
END:VEVENT
BEGIN:VEVENT
DTSTAMP:20260419T230213Z
UID:0d64381e-4415-42da-99b6-b9268f7d9697
DTSTART;VALUE=DATE:20261125
DTEND;VALUE=DATE:20261126
DESCRIPTION:
LOCATION:
SUMMARY:Mandatory Vacation
END:VEVENT
BEGIN:VEVENT
DTSTAMP:20260419T230213Z
UID:0a23c149-44c4-40db-9eef-07e070a5f0ed
DTSTART;VALUE=DATE:20261126
DTEND;VALUE=DATE:20261128
DESCRIPTION:
LOCATION:
SUMMARY:Thanksgiving Holiday
END:VEVENT
BEGIN:VEVENT
DTSTAMP:20260419T230213Z
UID:4707a355-4871-40d8-9750-6a36d6203050
DTSTART;VALUE=DATE:20261221
DTEND;VALUE=DATE:20261223
DESCRIPTION:
LOCATION:
SUMMARY:Optional Workdays
END:VEVENT
BEGIN:VEVENT
DTSTAMP:20260419T230213Z
UID:50f4f22c-1c36-4bf9-873b-9125afd566ff
DTSTART;VALUE=DATE:20261223
DTEND;VALUE=DATE:20261224
DESCRIPTION:
LOCATION:
SUMMARY:Mandatory Vacation
END:VEVENT
BEGIN:VEVENT
DTSTAMP:20260419T230213Z
UID:e47a6409-b739-4dff-a4f2-91cc9417304a
DTSTART;VALUE=DATE:20261224
DTEND;VALUE=DATE:20261229
DESCRIPTION:
LOCATION:
SUMMARY:Winter Break
END:VEVENT
BEGIN:VEVENT
DTSTAMP:20260419T230213Z
UID:b0638416-7c15-42a0-b29e-e47a7c031703
DTSTART;VALUE=DATE:20270101
DTEND;VALUE=DATE:20270102
DESCRIPTION:
LOCATION:
SUMMARY:New Year's Day
END:VEVENT
BEGIN:VEVENT
DTSTAMP:20260419T230213Z
UID:fa606e27-0845-45af-848a-6775a10e8e8e
DTSTART;VALUE=DATE:20270104
DTEND;VALUE=DATE:20270105
DESCRIPTION:
LOCATION:
SUMMARY:Optional Workday
END:VEVENT
BEGIN:VEVENT
DTSTAMP:20260419T230213Z
UID:06856070-e302-4050-b3e0-67cefbaf9931
DTSTART;VALUE=DATE:20270105
DTEND;VALUE=DATE:20270106
DESCRIPTION:
LOCATION:
SUMMARY:Mandatory Workday
END:VEVENT
BEGIN:VEVENT
DTSTAMP:20260419T230213Z
UID:b46f098d-7b24-49f9-874f-8ed9d8844099
DTSTART;VALUE=DATE:20270106
DTEND;VALUE=DATE:20270107
DESCRIPTION:
LOCATION:
SUMMARY:First Day of Second Semester
END:VEVENT
BEGIN:VEVENT
DTSTAMP:20260419T230213Z
UID:096e4dd7-ec94-4146-809e-944349d38517
DTSTART;VALUE=DATE:20270114
DTEND;VALUE=DATE:20270115
DESCRIPTION:
LOCATION:
SUMMARY:Martin Luther King Jr. Day Holiday
END:VEVENT
BEGIN:VEVENT
DTSTAMP:20260419T230213Z
UID:1f3feffd-2a44-4ee9-ac9a-342fcf56af0a
DTSTART;VALUE=DATE:20270114
DTEND;VALUE=DATE:20270115
DESCRIPTION:
LOCATION:
SUMMARY:Report Cards Sent Home
END:VEVENT
BEGIN:VEVENT
DTSTAMP:20260419T230213Z
UID:54e4ac93-dffc-4163-83b2-de07e61e8b9d
DTSTART;VALUE=DATE:20270208
DTEND;VALUE=DATE:20270209
DESCRIPTION:
LOCATION:
SUMMARY:Progress Reports Sent Home
END:VEVENT
BEGIN:VEVENT
DTSTAMP:20260419T230213Z
UID:184b973d-0ab7-4f6f-8a76-53041d6cc152
DTSTART;VALUE=DATE:20270215
DTEND;VALUE=DATE:20270217
DESCRIPTION:
LOCATION:
SUMMARY:Workdays
END:VEVENT
BEGIN:VEVENT
DTSTAMP:20260419T230213Z
UID:977b5d80-f2a9-4aae-984a-a19946e60e5d
DTSTART;VALUE=DATE:20270308
DTEND;VALUE=DATE:20270309
DESCRIPTION:
LOCATION:
SUMMARY:Mandatory Workday
END:VEVENT
BEGIN:VEVENT
DTSTAMP:20260419T230213Z
UID:f5793aed-8b65-48fd-938a-727b293d7580
DTSTART;VALUE=DATE:20270319
DTEND;VALUE=DATE:20270320
DESCRIPTION:
LOCATION:
SUMMARY:Report Cards Sent Home
END:VEVENT
BEGIN:VEVENT
DTSTAMP:20260419T230213Z
UID:73f35879-7e3a-4df1-8001-d29d33d0bde2
DTSTART;VALUE=DATE:20270326
DTEND;VALUE=DATE:20270403
DESCRIPTION:
LOCATION:
SUMMARY:Spring Break
END:VEVENT
BEGIN:VEVENT
DTSTAMP:20260419T230213Z
UID:2b0709e8-6122-4b4e-99d5-2de081630f31
DTSTART;VALUE=DATE:20270414
DTEND;VALUE=DATE:20270415
DESCRIPTION:
LOCATION:
SUMMARY:Progress Reports Sent Home
END:VEVENT
BEGIN:VEVENT
DTSTAMP:20260419T230213Z
UID:4f2b30f1-685b-4536-88ba-6e92755a433c
DTSTART:20270526T080000
DTEND:20270526T090000
DESCRIPTION:
LOCATION:
SUMMARY:Early Release/Last Day for Students
END:VEVENT
BEGIN:VEVENT
DTSTAMP:20260419T230213Z
UID:a96bc777-b07f-42f9-93d2-56411059347d
DTSTART;VALUE=DATE:20270527
DTEND;VALUE=DATE:20270529
DESCRIPTION:
LOCATION:
SUMMARY:Mandatory Workdays
END:VEVENT
BEGIN:VEVENT
DTSTAMP:20260419T230213Z
UID:3f5bbaa0-ca1d-49aa-baa1-0c480d94c699
DTSTART:20270528T080000
DTEND:20270529T090000
DESCRIPTION:
LOCATION:
SUMMARY:Graduations
END:VEVENT
BEGIN:VEVENT
DTSTAMP:20260419T230213Z
UID:347a9ce4-6dd1-4507-8737-8aa729014d4c
DTSTART;VALUE=DATE:20270531
DTEND;VALUE=DATE:20270601
DESCRIPTION:
LOCATION:
SUMMARY:Memorial Day
END:VEVENT
BEGIN:VEVENT
DTSTAMP:20260419T230213Z
UID:495a1ec8-da38-458a-979f-f3e69d002d21
DTSTART;VALUE=DATE:20270601
DTEND;VALUE=DATE:20270603
DESCRIPTION:
LOCATION:
SUMMARY:Workdays
END:VEVENT
END:VCALENDAR
