BEGIN:VCALENDAR
VERSION:2.0
PRODID:icalendar-ruby
CALSCALE:GREGORIAN
BEGIN:VTIMEZONE
TZID:America/New_York
BEGIN:DAYLIGHT
DTSTART:20260308T030000
TZOFFSETFROM:-0500
TZOFFSETTO:-0400
RRULE:FREQ=YEARLY;BYDAY=2SU;BYMONTH=3
TZNAME:EDT
END:DAYLIGHT
BEGIN:STANDARD
DTSTART:20261101T010000
TZOFFSETFROM:-0400
TZOFFSETTO:-0500
RRULE:FREQ=YEARLY;BYDAY=1SU;BYMONTH=11
TZNAME:EST
END:STANDARD
END:VTIMEZONE
BEGIN:VEVENT
DTSTAMP:20260420T141603Z
UID:0fdd4698-2315-413c-8f41-bb0e9a21e677
DTSTART:20260420T180000
DTEND:20260420T210000
DESCRIPTION:
LOCATION:
SUMMARY:FCA Meeting- MAIN GYM and CAFE
END:VEVENT
BEGIN:VEVENT
DTSTAMP:20260420T141603Z
UID:cccd99aa-2f90-436f-9e94-337d996009e2
DTSTART:20260421T153000
DTEND:20260421T163000
DESCRIPTION:
LOCATION:
SUMMARY:Red Raider Recovery
END:VEVENT
BEGIN:VEVENT
DTSTAMP:20260420T141603Z
UID:38e9ff3c-88b3-4507-b24c-c687e0999d82
DTSTART:20260423T153000
DTEND:20260423T163000
DESCRIPTION:
LOCATION:
SUMMARY:Red Raider Recovery
END:VEVENT
BEGIN:VEVENT
DTSTAMP:20260420T141603Z
UID:06cd26e9-d3a8-4322-95f1-c567753e5c4c
DTSTART:20260427T180000
DTEND:20260427T210000
DESCRIPTION:
LOCATION:
SUMMARY:FCA Meeting- MAIN GYM and CAFE
END:VEVENT
BEGIN:VEVENT
DTSTAMP:20260420T141603Z
UID:0797de46-c8fa-49a4-b943-04e8e36fb0a5
DTSTART:20260428T153000
DTEND:20260428T163000
DESCRIPTION:
LOCATION:
SUMMARY:Red Raider Recovery
END:VEVENT
BEGIN:VEVENT
DTSTAMP:20260420T141603Z
UID:2b6febec-d792-48cb-934a-5975349fc0c3
DTSTART:20260430T153000
DTEND:20260430T163000
DESCRIPTION:
LOCATION:
SUMMARY:Red Raider Recovery
END:VEVENT
BEGIN:VEVENT
DTSTAMP:20260420T141603Z
UID:c4ab91d0-1678-47f5-9272-d7bf837b8e2a
DTSTART:20260504T180000
DTEND:20260504T210000
DESCRIPTION:
LOCATION:
SUMMARY:FCA Meeting- MAIN GYM and CAFE
END:VEVENT
BEGIN:VEVENT
DTSTAMP:20260420T141603Z
UID:c0b69289-5248-46c1-b0cf-ced051fe3054
DTSTART:20260505T153000
DTEND:20260505T163000
DESCRIPTION:
LOCATION:
SUMMARY:Red Raider Recovery
END:VEVENT
BEGIN:VEVENT
DTSTAMP:20260420T141603Z
UID:009aa763-f0b7-43fe-baed-b2e0d8c8c5b7
DTSTART:20260507T153000
DTEND:20260507T163000
DESCRIPTION:
LOCATION:
SUMMARY:Red Raider Recovery
END:VEVENT
BEGIN:VEVENT
DTSTAMP:20260420T141603Z
UID:23936f84-6689-4303-82aa-4d86ee4e7157
DTSTART:20260511T180000
DTEND:20260511T210000
DESCRIPTION:
LOCATION:
SUMMARY:FCA Meeting- MAIN GYM and CAFE
END:VEVENT
BEGIN:VEVENT
DTSTAMP:20260420T141603Z
UID:e316fe0a-8492-4f49-9581-aded7bfbb7aa
DTSTART:20260512T153000
DTEND:20260512T163000
DESCRIPTION:
LOCATION:
SUMMARY:Red Raider Recovery
END:VEVENT
BEGIN:VEVENT
DTSTAMP:20260420T141603Z
UID:0b371c39-ccbb-44f3-b915-49a1c3f2e9c2
DTSTART:20260514T153000
DTEND:20260514T163000
DESCRIPTION:
LOCATION:
SUMMARY:Red Raider Recovery
END:VEVENT
BEGIN:VEVENT
DTSTAMP:20260420T141603Z
UID:b6a496c1-8fbd-4b9a-bfd3-d13714192c73
DTSTART:20260518T180000
DTEND:20260518T210000
DESCRIPTION:
LOCATION:
SUMMARY:FCA Meeting- MAIN GYM and CAFE
END:VEVENT
BEGIN:VEVENT
DTSTAMP:20260420T141603Z
UID:39118823-88ba-41ea-8051-776d274331f0
DTSTART:20260519T153000
DTEND:20260519T163000
DESCRIPTION:
LOCATION:
SUMMARY:Red Raider Recovery
END:VEVENT
END:VCALENDAR
