BEGIN:VCALENDAR
VERSION:2.0
PRODID:icalendar-ruby
CALSCALE:GREGORIAN
BEGIN:VTIMEZONE
TZID:America/New_York
BEGIN:DAYLIGHT
DTSTART:20260308T030000
TZOFFSETFROM:-0500
TZOFFSETTO:-0400
RRULE:FREQ=YEARLY;BYDAY=2SU;BYMONTH=3
TZNAME:EDT
END:DAYLIGHT
BEGIN:STANDARD
DTSTART:20261101T010000
TZOFFSETFROM:-0400
TZOFFSETTO:-0500
RRULE:FREQ=YEARLY;BYDAY=1SU;BYMONTH=11
TZNAME:EST
END:STANDARD
END:VTIMEZONE
BEGIN:VEVENT
DTSTAMP:20260420T141603Z
UID:af822d87-8472-48a4-b9d7-dd544c172217
DTSTART;VALUE=DATE:20260422
DTEND;VALUE=DATE:20260423
DESCRIPTION:
LOCATION:
SUMMARY:Earth Day
END:VEVENT
BEGIN:VEVENT
DTSTAMP:20260420T141603Z
UID:e7b95cc2-ba4f-40f3-816c-3aca0d9dd5d5
DTSTART;VALUE=DATE:20260424
DTEND;VALUE=DATE:20260425
DESCRIPTION:<b>Elementary Spirit Day!</b><br>Dress like someone from the 19
 80s or 1990s!
LOCATION:Noxon Road Elementary School\, 4 Old Noxon Rd\, Poughkeepsie\, NY 
 12603\, USA
SUMMARY:80s or 90s Day!
END:VEVENT
BEGIN:VEVENT
DTSTAMP:20260420T141603Z
UID:2b6083d8-a753-4747-a346-6ce8691989b5
DTSTART;VALUE=DATE:20260424
DTEND;VALUE=DATE:20260425
DESCRIPTION:<p dir="ltr"><b>The kids have finished their artwork\, and it
 ’s so fun to see what they created—catalogs with ordering info have al
 ready come home.</b></p><p dir="ltr"><b>Turn your child’s art into some 
 really fun keepsakes and gifts (they also make great presents for family!)
 . Every order supports our school!</b></p><p dir="ltr"><b>Be sure to place
  your order by April 24. Thank you!</b></p><p dir="ltr"><a href="https://s
 hop.square1art.com/shop"><b><u>https://shop.square1art.com/shop</u></b></a
 ></p><p>This is a PTA sponsored event.  For more questions/more informati
 on contact noxonroadelempta@gmail.com.</p>
LOCATION:
SUMMARY:Square 1 Art Orders Due today
END:VEVENT
BEGIN:VEVENT
DTSTAMP:20260420T141603Z
UID:b4806e2d-6476-40d8-8038-6943baeab3a8
DTSTART:20260504T180000
DTEND:20260504T200000
DESCRIPTION:See the Noxon Road Elementary School's Grade 5 Advanced Band an
 d Advanced Orchestra perform.\n\nFor more information please contact Mrs. 
 Wemple\, lwemple@acsdny.org.
LOCATION:Arthur S May School\, 601 Dutchess Turnpike\, Poughkeepsie\, NY 12
 603\, USA
SUMMARY:Grade 5 Spring Concert
END:VEVENT
BEGIN:VEVENT
DTSTAMP:20260420T141603Z
UID:1801a7b8-64ed-4517-9404-dec0c69d04e5
DTSTART;VALUE=DATE:20260505
DTEND;VALUE=DATE:20260506
DESCRIPTION:
LOCATION:
SUMMARY:Cinco de Mayo
END:VEVENT
BEGIN:VEVENT
DTSTAMP:20260420T141603Z
UID:bfa4b141-a33e-4012-a6d0-8f13831847d4
DTSTART;VALUE=DATE:20260507
DTEND;VALUE=DATE:20260509
DESCRIPTION:Our Mother's Day Plant Sale is a wonderful opportunity to purch
 ase flowering plants and garden vegetables.\n\nThis is a PTA event.  For 
 more information contact noxonroadelempta@gmail.com.
LOCATION:Noxon Road Elementary School\, 4 Old Noxon Rd\, Poughkeepsie\, NY 
 12603\, USA
SUMMARY:Mother's Day Plant Sale!
END:VEVENT
BEGIN:VEVENT
DTSTAMP:20260420T141603Z
UID:64336dad-20d5-4b58-9ebc-a0ce26bb9dcb
DTSTART:20260507T200000
DTEND:20260507T210000
DESCRIPTION:\nPTA Meeting held via Google Meet.\nPlease refer to your Frida
 y Family Letter for the meeting link.
LOCATION:
SUMMARY:PTA Meeting (Virtual)
END:VEVENT
BEGIN:VEVENT
DTSTAMP:20260420T141603Z
UID:e541ca75-1a61-468b-a63f-5e87907ccf79
DTSTART;VALUE=DATE:20260510
DTEND;VALUE=DATE:20260511
DESCRIPTION:
LOCATION:
SUMMARY:Mother's Day!
END:VEVENT
BEGIN:VEVENT
DTSTAMP:20260420T141603Z
UID:81b39fa3-87b7-4f9c-9c8d-7914b5b2506e
DTSTART:20260512T190000
DTEND:20260512T210000
DESCRIPTION:
LOCATION:Noxon Road Elementary School\, 4 Old Noxon Rd\, Poughkeepsie\, NY 
 12603\, USA
SUMMARY:Board of Education Meeting at Noxon
END:VEVENT
BEGIN:VEVENT
DTSTAMP:20260420T141603Z
UID:46324e70-905f-4f04-8b2c-bb955e7279df
DTSTART:20260515T170000
DTEND:20260515T210000
DESCRIPTION:<b>Elementary School Dance!</b><br><p dir="ltr"><b>Lights\, cam
 era\, action!</b> 🎬</p><p dir="ltr">Our Spring Fling theme has been cho
 sen by the students.. </p><p dir="ltr">⭐️ <b><i>Hollywood Red Carpet<
 /i></b> ⭐️</p><p dir="ltr">Get ready to dress like a star and walk the
  red carpet for a night of glitz and glamour! </p><p dir="ltr">More info 
 &amp\; link to order tickets will be shared after Spring Break but in the 
 meantime SAVE THE DATE:</p><p dir="ltr"><b><i>Friday\, May 15th @ Noxon</i
 ></b></p><p dir="ltr">K - 2 GRADES ONLY ➡️ 5:30pm to 7pm</p><p dir="lt
 r">3 - 5 GRADES ONLY ➡️ 7:30pm to 9pm</p><p dir="ltr"><i>Friendly remi
 nder that this is a drop off event for current Noxon students only!</i></p
 >This is a PTA sponsored event.  Questions should be directed to the Noxo
 n PTA.  <a href="mailto:noxonroadelempta@gmail.com" target="_blank">noxon
 roadelempta@gmail.com</a>
LOCATION:Noxon Road Elementary School\, 4 Old Noxon Rd\, Poughkeepsie\, NY 
 12603\, USA
SUMMARY:Spring Fling Dance!
END:VEVENT
BEGIN:VEVENT
DTSTAMP:20260420T141603Z
UID:759d0244-d48b-4fb4-890c-06cec88990c3
DTSTART:20260519T053000
DTEND:20260519T210000
DESCRIPTION:Arlington Central School District residents vote on the budget 
 for the 2026-2027 school year.
LOCATION:Noxon Road Elementary School\, 4 Old Noxon Rd\, Poughkeepsie\, NY 
 12603\, USA
SUMMARY:District Budget Vote
END:VEVENT
BEGIN:VEVENT
DTSTAMP:20260420T141603Z
UID:c70eef2b-bba3-426f-9aae-a2fb21456675
DTSTART:20260520T180000
DTEND:20260520T200000
DESCRIPTION:See the Noxon Road Elementary School Grade 4 Beginning Band and
  Beginning Orchestra perform.\n\nFor more information please contact lwem
 ple@acsdny.org.
LOCATION:Arthur S May School\, 601 Dutchess Turnpike\, Poughkeepsie\, NY 12
 603\, USA
SUMMARY:Grade 4 Spring Concert
END:VEVENT
BEGIN:VEVENT
DTSTAMP:20260420T141603Z
UID:e445d3f7-7df6-4b8a-9ded-0411a0b03dfc
DTSTART;VALUE=DATE:20260525
DTEND;VALUE=DATE:20260526
DESCRIPTION:
LOCATION:
SUMMARY:Memorial Day
END:VEVENT
BEGIN:VEVENT
DTSTAMP:20260420T141603Z
UID:fba2e540-8c38-40d0-b66c-3d45103685d7
DTSTART;VALUE=DATE:20260525
DTEND;VALUE=DATE:20260526
DESCRIPTION:
LOCATION:
SUMMARY:Memorial Day - Schools Closed
END:VEVENT
BEGIN:VEVENT
DTSTAMP:20260420T141603Z
UID:5a9da6ea-37b0-40ee-b707-174a4e4d3a8f
DTSTART;VALUE=DATE:20260527
DTEND;VALUE=DATE:20260528
DESCRIPTION:
LOCATION:
SUMMARY:Eid al-Adha
END:VEVENT
BEGIN:VEVENT
DTSTAMP:20260420T141603Z
UID:ac1c2b84-e400-49c5-8c98-74b4f89b561b
DTSTART;VALUE=DATE:20260529
DTEND;VALUE=DATE:20260530
DESCRIPTION:<b>Elementary Spirit Day!</b><br>Wear a hat &amp\; sunglasses!
LOCATION:Noxon Road Elementary School\, 4 Old Noxon Rd\, Poughkeepsie\, NY 
 12603\, USA
SUMMARY:Hat & Sunglasses Day!
END:VEVENT
BEGIN:VEVENT
DTSTAMP:20260420T141603Z
UID:1a7d4981-c0a3-43d1-b761-8d9eae571fc0
DTSTART:20260531T090000
DTEND:20260531T110000
DESCRIPTION:More information to come when it is available.\n\nThis is a PTA
  sponsored event.  For more information contact noxonroadelempta@gmail.co
 m.
LOCATION:
SUMMARY:Color Fun Run!
END:VEVENT
BEGIN:VEVENT
DTSTAMP:20260420T141603Z
UID:8fe5164b-95c7-44d8-b60e-16f037a2c6df
DTSTART;VALUE=DATE:20260603
DTEND;VALUE=DATE:20260604
DESCRIPTION:To take place during the school day.\n\nThis is a PTA event.  
 For more information please contact noxonroadelempta@gmail.com.
LOCATION:Noxon Road Elementary School\, 4 Old Noxon Rd\, Poughkeepsie\, NY 
 12603\, USA
SUMMARY:5th Grade Chalk the Walk!
END:VEVENT
BEGIN:VEVENT
DTSTAMP:20260420T141603Z
UID:b49f793d-9d39-4183-9095-8a842332e865
DTSTART:20260604T180000
DTEND:20260604T190000
DESCRIPTION:In-person PTA Meeting to be held in the Noxon Road Elementary S
 chool library.\n\nFor more information\, contact the PTA noxonroadelempta@
 gmail.com.
LOCATION:Noxon Road Elementary School\, 4 Old Noxon Rd\, Poughkeepsie\, NY 
 12603\, USA
SUMMARY:PTA Meeting (in person)
END:VEVENT
BEGIN:VEVENT
DTSTAMP:20260420T141603Z
UID:bae9eab3-d5ce-4f56-88d2-782cd1b8c9c2
DTSTART:20260605T090000
DTEND:20260605T120000
DESCRIPTION:Rain date: June 11\, 2026\n\nMore information to come when avai
 lable.\n\nThis is a PTA sponsored event.  For more information contact no
 xonroadelempta@gmail.com
LOCATION:Noxon Road Elementary School\, 4 Old Noxon Rd\, Poughkeepsie\, NY 
 12603\, USA
SUMMARY:Noxon Field Day!
END:VEVENT
BEGIN:VEVENT
DTSTAMP:20260420T141603Z
UID:85e7c7c7-2fa0-4c69-a153-ac714d8ecd98
DTSTART:20260612T083000
DTEND:20260612T113000
DESCRIPTION:<p>Dismissal             11:15 AM</p><p>Parent Pick Up  
       11:15 AM</p><p>Buses depart Noxon        11:30 AM</p>
LOCATION:Noxon Road Elementary School\, 4 Old Noxon Rd\, Poughkeepsie\, NY 
 12603\, USA
SUMMARY:Elementary Schools Half Day - Dismiss 11:15am
END:VEVENT
BEGIN:VEVENT
DTSTAMP:20260420T141603Z
UID:0997d8aa-529d-4831-a0d5-5d509c26eb68
DTSTART:20260612T090000
DTEND:20260612T101500
DESCRIPTION:5th Grade Moving Up Ceremony and Awards presentations.\n\nMore 
 details will come directly from your 5th Grade teacher.
LOCATION:Noxon Road Elementary School\, 4 Old Noxon Rd\, Poughkeepsie\, NY 
 12603\, USA
SUMMARY:5th Grade Moving Up Ceremony!
END:VEVENT
BEGIN:VEVENT
DTSTAMP:20260420T141603Z
UID:3e1daf4b-cf7c-4b66-b4f2-57f83cb3c1e8
DTSTART;VALUE=DATE:20260614
DTEND;VALUE=DATE:20260615
DESCRIPTION:
LOCATION:
SUMMARY:Flag Day
END:VEVENT
BEGIN:VEVENT
DTSTAMP:20260420T141603Z
UID:7bc02ba1-1a54-491b-a927-0b1d10123dc3
DTSTART;VALUE=DATE:20260615
DTEND;VALUE=DATE:20260616
DESCRIPTION:<b>Elementary Spirit Day!</b><br>Wear Red\, White and Blue to c
 elebrate Flag Day!
LOCATION:Noxon Road Elementary School\, 4 Old Noxon Rd\, Poughkeepsie\, NY 
 12603\, USA
SUMMARY:Flag Day! Red\, White & Blue Day!
END:VEVENT
BEGIN:VEVENT
DTSTAMP:20260420T141603Z
UID:cf4c10d6-d694-4b31-8928-ab0aeebd9cc6
DTSTART;VALUE=DATE:20260619
DTEND;VALUE=DATE:20260620
DESCRIPTION:
LOCATION:
SUMMARY:Juneteenth - Schools Closed
END:VEVENT
BEGIN:VEVENT
DTSTAMP:20260420T141603Z
UID:cb1a6945-296f-4f9c-9aa0-bbe8d86484d3
DTSTART;VALUE=DATE:20260621
DTEND;VALUE=DATE:20260622
DESCRIPTION:
LOCATION:
SUMMARY:Father's Day!
END:VEVENT
BEGIN:VEVENT
DTSTAMP:20260420T141603Z
UID:059e9b7e-af91-4d63-80c7-2b101709d9c8
DTSTART:20260625T083000
DTEND:20260625T113000
DESCRIPTION:Middle Schools Dismiss 10am<br>Elementary Schools Dismiss 11:30
 am<br><br><p dir="ltr">Noxon Dismissal             11:15 PM</p><p di
 r="ltr">Noxon Parent Pick Up        11:15 PM</p><p dir="ltr">Noxon Bus
 es depart Noxon        11:30 PM</p>
LOCATION:Noxon Road Elementary School\, 4 Old Noxon Rd\, Poughkeepsie\, NY 
 12603\, USA
SUMMARY:Last Day of School for Elem./MS - Half Day
END:VEVENT
BEGIN:VEVENT
DTSTAMP:20260420T141603Z
UID:8db95ff4-0f9f-4210-982b-13185de389f1
DTSTART;VALUE=DATE:20260626
DTEND;VALUE=DATE:20260627
DESCRIPTION:
LOCATION:
SUMMARY:Ashura
END:VEVENT
BEGIN:VEVENT
DTSTAMP:20260420T141603Z
UID:81aba1b3-e6c8-41df-8a2a-59ac0345588f
DTSTART;VALUE=DATE:20260703
DTEND;VALUE=DATE:20260704
DESCRIPTION:
LOCATION:
SUMMARY:Independence Day (observed)
END:VEVENT
BEGIN:VEVENT
DTSTAMP:20260420T141603Z
UID:55378e97-d599-41e7-a0d9-383f6a07a03c
DTSTART;VALUE=DATE:20260704
DTEND;VALUE=DATE:20260705
DESCRIPTION:
LOCATION:
SUMMARY:Independence Day
END:VEVENT
BEGIN:VEVENT
DTSTAMP:20260420T141603Z
UID:8d34542e-9b3f-4d43-9608-421315938073
DTSTART:20260717T173000
DTEND:20260717T190000
DESCRIPTION:Join us for a family Music BINGO Night! Instead of numbers\, BI
 NGO cards feature music titles and artists.  Listen\, mark your card and 
 call out when you have BINGO!<br><ul><li><p>Cost is $5 a player for 4 game
 s. Payment will be collected the night of\, before the first game starts.<
 /p></li><li><p>Since the weather is unpredictable in February we have a sc
 heduled date of Friday\, February 20th but an inclement weather date set f
 or Friday\, February 27th. <b>Pre-registration is required and we ask that
  you RSVP for both dates by February 14th.. just in case! </b></p></li></
 ul><br>Adults must stay with students.  <b>This is NOT a drop-off event.<
 /b><br><br>  Kid-friendly music and themes<br>  Small prized for winners
 <br>  Laughs\, dancing and fun!<br><br>Snacks &amp\; refreshments availab
 le for purchase.<br> <br>Music provided by Hudson Valley Event Group.<br>
 <br><b>Pre-registration is required by February 14\, 2026.</b>  QR code o
 n the PTA page of the Friday Family Letter or <b>Register/RSVP here: </b>
 <a href="https://docs.google.com/spreadsheets/d/1l_iO3TTDl_4sE9QIk69yaDVXf
 0i479ixZSKgoUx8cqY/edit?usp=drivesdk" class="pastedDriveLink-0"><u>https:/
 /docs.google.com/spreadsheets/d/1l_iO3TTDl_4sE9QIk69yaDVXf0i479ixZSKgoUx8c
 qY/edit?usp=drivesdk</u></a><p dir="ltr"><b>Link to donate concession item
 s (thank you!) here: </b><a href="https://www.signupgenius.com/go/10C0A4AA
 BA923A6F5C16-61450226-winter"><u>https://www.signupgenius.com/go/10C0A4AAB
 A923A6F5C16-61450226-winter</u></a> </p><br><br>This is a PTA event.  If
  you have any questions please contact <a href="mailto:noxonroadelempta@gm
 ail.com" target="_blank">noxonroadelempta@gmail.com</a>.
LOCATION:Noxon Road Elementary School\, 4 Old Noxon Rd\, Poughkeepsie\, NY 
 12603\, USA
SUMMARY:Music BINGO!
END:VEVENT
END:VCALENDAR
