BEGIN:VCALENDAR
VERSION:2.0
PRODID:icalendar-ruby
CALSCALE:GREGORIAN
BEGIN:VTIMEZONE
TZID:America/New_York
BEGIN:DAYLIGHT
DTSTART:20260308T030000
TZOFFSETFROM:-0500
TZOFFSETTO:-0400
RRULE:FREQ=YEARLY;BYDAY=2SU;BYMONTH=3
TZNAME:EDT
END:DAYLIGHT
BEGIN:STANDARD
DTSTART:20261101T010000
TZOFFSETFROM:-0400
TZOFFSETTO:-0500
RRULE:FREQ=YEARLY;BYDAY=1SU;BYMONTH=11
TZNAME:EST
END:STANDARD
END:VTIMEZONE
BEGIN:VEVENT
DTSTAMP:20260422T194725Z
UID:5284c0f8-6222-41a1-b174-4feadb1b7e61
DTSTART:20260422T180000
DTEND:20260422T190000
DESCRIPTION:
LOCATION:200 Clay St\, 200 Clay St\, Dayton\, Kentucky\, 41074
SUMMARY:School Board Meeting
END:VEVENT
BEGIN:VEVENT
DTSTAMP:20260422T194725Z
UID:d578d812-d3cf-4814-b8d4-a5551282a911
DTSTART:20260423T133000
DTEND:20260423T143000
DESCRIPTION:<html><head><meta http-equiv="Content-Type" content="text/html\
 ; charset=utf-8"><meta name="Generator" content="Microsoft Word 15 (filter
 ed medium)"><style><!--@font-face	{font-family:"Cambria Math"}@font-face	{
 font-family:Aptos}p.MsoNormal\, li.MsoNormal\, div.MsoNormal	{margin:0in\;
 	font-size:12.0pt\;	font-family:"Aptos"\,sans-serif}span.EmailStyle17	{fon
 t-family:"Aptos"\,sans-serif\;	color:windowtext}.MsoChpDefault	{}@page Wor
 dSection1	{margin:1.0in 1.0in 1.0in 1.0in}div.WordSection1	{}--></style></
 head><body lang="EN-US" link="#467886" vlink="#96607D" style="word-wrap:br
 eak-word"><div class="WordSection1"><p class="MsoNormal">&nbsp\;</p></div>
 </body></html>
LOCATION:DHS Gymnasium
SUMMARY:DHS Senior Signing Day 
END:VEVENT
BEGIN:VEVENT
DTSTAMP:20260422T194725Z
UID:ec1765ca-6ee4-4ab9-ba4e-e683bdf5c4ac
DTSTART:20260424T180000
DTEND:20260424T230000
DESCRIPTION:<html><head><meta http-equiv="Content-Type" content="text/html\
 ; charset=utf-8"><meta name="Generator" content="Microsoft Word 15 (filter
 ed medium)"><style><!--@font-face	{font-family:"Cambria Math"}@font-face	{
 font-family:Aptos}p.MsoNormal\, li.MsoNormal\, div.MsoNormal	{margin:0in\;
 	font-size:12.0pt\;	font-family:"Aptos"\,sans-serif}span.EmailStyle17	{fon
 t-family:"Aptos"\,sans-serif\;	color:windowtext}.MsoChpDefault	{}@page Wor
 dSection1	{margin:1.0in 1.0in 1.0in 1.0in}div.WordSection1	{}--></style></
 head><body lang="EN-US" link="#467886" vlink="#96607D" style="word-wrap:br
 eak-word"><div class="WordSection1"><p class="MsoNormal">&nbsp\;</p></div>
 </body></html>
LOCATION:Radisson Hotel Cincinnati Riverfront\, 668 W 5th St\, Covington\, 
 KY\, 41011
SUMMARY:DHS Prom
END:VEVENT
BEGIN:VEVENT
DTSTAMP:20260422T194725Z
UID:649bc823-675d-4023-bd28-65ed5eddc86b
DTSTART:20260501T110000
DTEND:20260501T130000
DESCRIPTION:<html><head><meta http-equiv="Content-Type" content="text/html\
 ; charset=utf-8"><meta name="Generator" content="Microsoft Word 15 (filter
 ed medium)"><style><!--@font-face	{font-family:"Cambria Math"}@font-face	{
 font-family:Aptos}p.MsoNormal\, li.MsoNormal\, div.MsoNormal	{margin:0in\;
 	font-size:12.0pt\;	font-family:"Aptos"\,sans-serif}span.EmailStyle17	{fon
 t-family:"Aptos"\,sans-serif\;	color:windowtext}.MsoChpDefault	{}@page Wor
 dSection1	{margin:1.0in 1.0in 1.0in 1.0in}div.WordSection1	{}--></style></
 head><body lang="EN-US" link="#467886" vlink="#96607D" style="word-wrap:br
 eak-word"><div class="WordSection1"><p class="MsoNormal">&nbsp\;</p></div>
 </body></html>
LOCATION:Dayton City Building
SUMMARY:DHS Wall of Distinction Ceremony
END:VEVENT
BEGIN:VEVENT
DTSTAMP:20260422T194725Z
UID:d8d064e5-da02-470a-8589-f31795f09c2c
DTSTART:20260501T133000
DTEND:20260501T143000
DESCRIPTION:<html><head><meta http-equiv="Content-Type" content="text/html\
 ; charset=utf-8"><meta name="Generator" content="Microsoft Word 15 (filter
 ed medium)"><style><!--@font-face	{font-family:"Cambria Math"}@font-face	{
 font-family:Aptos}p.MsoNormal\, li.MsoNormal\, div.MsoNormal	{margin:0in\;
 	font-size:12.0pt\;	font-family:"Aptos"\,sans-serif}span.EmailStyle17	{fon
 t-family:"Aptos"\,sans-serif\;	color:windowtext}.MsoChpDefault	{}@page Wor
 dSection1	{margin:1.0in 1.0in 1.0in 1.0in}div.WordSection1	{}--></style></
 head><body lang="EN-US" link="#467886" vlink="#96607D" style="word-wrap:br
 eak-word"><div class="WordSection1"><p class="MsoNormal">&nbsp\;</p></div>
 </body></html>
LOCATION:DHS Gymnasium
SUMMARY:DHS Wall of Distinction School Celebration
END:VEVENT
BEGIN:VEVENT
DTSTAMP:20260422T194725Z
UID:8af386ea-5659-46d4-8f62-3366eef72ffb
DTSTART;VALUE=DATE:20260504
DTEND;VALUE=DATE:20260505
DESCRIPTION:<html><head><meta http-equiv="Content-Type" content="text/html\
 ; charset=utf-8"><meta name="Generator" content="Microsoft Word 15 (filter
 ed medium)"><style><!--@font-face	{font-family:"Cambria Math"}@font-face	{
 font-family:Aptos}p.MsoNormal\, li.MsoNormal\, div.MsoNormal	{margin:0in\;
 	font-size:12.0pt\;	font-family:"Aptos"\,sans-serif}span.EmailStyle17	{fon
 t-family:"Aptos"\,sans-serif\;	color:windowtext}.MsoChpDefault	{}@page Wor
 dSection1	{margin:1.0in 1.0in 1.0in 1.0in}div.WordSection1	{}--></style></
 head><body lang="EN-US" link="#467886" vlink="#96607D" style="word-wrap:br
 eak-word"><div class="WordSection1"><p class="MsoNormal">&nbsp\;</p></div>
 </body></html>
LOCATION:LES and DHS
SUMMARY:First Day of KSA Testing (Tentative)
END:VEVENT
BEGIN:VEVENT
DTSTAMP:20260422T194725Z
UID:be1eaff2-8d0b-42b1-b985-5b8e6dc4409b
DTSTART:20260513T180000
DTEND:20260513T190000
DESCRIPTION:
LOCATION:200 Clay St\, 200 Clay St\, Dayton\, Kentucky\, 41074
SUMMARY:School Board Meeting
END:VEVENT
BEGIN:VEVENT
DTSTAMP:20260422T194725Z
UID:1dce9f4a-fdf8-4ed2-aae2-6b1534225f07
DTSTART:20260514T180000
DTEND:20260514T200000
DESCRIPTION:<html><head><meta http-equiv="Content-Type" content="text/html\
 ; charset=utf-8"><meta name="Generator" content="Microsoft Word 15 (filter
 ed medium)"><style><!--@font-face	{font-family:"Cambria Math"}@font-face	{
 font-family:Aptos}p.MsoNormal\, li.MsoNormal\, div.MsoNormal	{margin:0in\;
 	font-size:12.0pt\;	font-family:"Aptos"\,sans-serif}span.EmailStyle17	{fon
 t-family:"Aptos"\,sans-serif\;	color:windowtext}.MsoChpDefault	{}@page Wor
 dSection1	{margin:1.0in 1.0in 1.0in 1.0in}div.WordSection1	{}--></style></
 head><body lang="EN-US" link="#467886" vlink="#96607D" style="word-wrap:br
 eak-word"><div class="WordSection1"><p class="MsoNormal">&nbsp\;</p></div>
 </body></html>
LOCATION:LES Gymnasium
SUMMARY:Intermediate Awards Night - 4th/5th at 6:00 - 6th at 7:00
END:VEVENT
BEGIN:VEVENT
DTSTAMP:20260422T194725Z
UID:624c933a-c983-4455-8011-2b89d527dec8
DTSTART;VALUE=DATE:20260515
DTEND;VALUE=DATE:20260516
DESCRIPTION:<html><head><meta http-equiv="Content-Type" content="text/html\
 ; charset=utf-8"><meta name="Generator" content="Microsoft Word 15 (filter
 ed medium)"><style><!--@font-face	{font-family:"Cambria Math"}@font-face	{
 font-family:Aptos}p.MsoNormal\, li.MsoNormal\, div.MsoNormal	{margin:0in\;
 	font-size:12.0pt\;	font-family:"Aptos"\,sans-serif}span.EmailStyle17	{fon
 t-family:"Aptos"\,sans-serif\;	color:windowtext}.MsoChpDefault	{}@page Wor
 dSection1	{margin:1.0in 1.0in 1.0in 1.0in}div.WordSection1	{}--></style></
 head><body lang="EN-US" link="#467886" vlink="#96607D" style="word-wrap:br
 eak-word"><div class="WordSection1"><p class="MsoNormal">&nbsp\;</p></div>
 </body></html>
LOCATION:DHS Gymnasium
SUMMARY:DHS Underclassmen Awards - Time TBA
END:VEVENT
BEGIN:VEVENT
DTSTAMP:20260422T194725Z
UID:977129d1-cea4-4157-9af5-bccdabb3d7b7
DTSTART:20260515T090000
DTEND:20260515T100000
DESCRIPTION:<html><head><meta http-equiv="Content-Type" content="text/html\
 ; charset=utf-8"><meta name="Generator" content="Microsoft Word 15 (filter
 ed medium)"><style><!--@font-face	{font-family:"Cambria Math"}@font-face	{
 font-family:Aptos}p.MsoNormal\, li.MsoNormal\, div.MsoNormal	{margin:0in\;
 	font-size:12.0pt\;	font-family:"Aptos"\,sans-serif}span.EmailStyle17	{fon
 t-family:"Aptos"\,sans-serif\;	color:windowtext}.MsoChpDefault	{}@page Wor
 dSection1	{margin:1.0in 1.0in 1.0in 1.0in}div.WordSection1	{}--></style></
 head><body lang="EN-US" link="#467886" vlink="#96607D" style="word-wrap:br
 eak-word"><div class="WordSection1"><p class="MsoNormal">&nbsp\;</p></div>
 </body></html>
LOCATION:LES Gymnasium
SUMMARY:Preschool Celebration - AM
END:VEVENT
BEGIN:VEVENT
DTSTAMP:20260422T194725Z
UID:6104f4a6-0dc7-47f0-a421-1da54365b3ab
DTSTART:20260515T130000
DTEND:20260515T140000
DESCRIPTION:<html><head><meta http-equiv="Content-Type" content="text/html\
 ; charset=utf-8"><meta name="Generator" content="Microsoft Word 15 (filter
 ed medium)"><style><!--@font-face	{font-family:"Cambria Math"}@font-face	{
 font-family:Aptos}p.MsoNormal\, li.MsoNormal\, div.MsoNormal	{margin:0in\;
 	font-size:12.0pt\;	font-family:"Aptos"\,sans-serif}span.EmailStyle17	{fon
 t-family:"Aptos"\,sans-serif\;	color:windowtext}.MsoChpDefault	{}@page Wor
 dSection1	{margin:1.0in 1.0in 1.0in 1.0in}div.WordSection1	{}--></style></
 head><body lang="EN-US" link="#467886" vlink="#96607D" style="word-wrap:br
 eak-word"><div class="WordSection1"><p class="MsoNormal">&nbsp\;</p></div>
 </body></html>
LOCATION:LES Gymnasium
SUMMARY:Preschool Celebration - PM
END:VEVENT
BEGIN:VEVENT
DTSTAMP:20260422T194725Z
UID:4bec1990-c8ae-4074-88a8-42dc2578aac1
DTSTART:20260518T120000
DTEND:20260518T143000
DESCRIPTION:<html><head><meta http-equiv="Content-Type" content="text/html\
 ; charset=utf-8"><meta name="Generator" content="Microsoft Word 15 (filter
 ed medium)"><style><!--@font-face	{font-family:"Cambria Math"}@font-face	{
 font-family:Aptos}p.MsoNormal\, li.MsoNormal\, div.MsoNormal	{margin:0in\;
 	font-size:12.0pt\;	font-family:"Aptos"\,sans-serif}span.EmailStyle17	{fon
 t-family:"Aptos"\,sans-serif\;	color:windowtext}.MsoChpDefault	{}@page Wor
 dSection1	{margin:1.0in 1.0in 1.0in 1.0in}div.WordSection1	{}--></style></
 head><body lang="EN-US" link="#467886" vlink="#96607D" style="word-wrap:br
 eak-word"><div class="WordSection1"><p class="MsoNormal">&nbsp\;</p></div>
 </body></html>
LOCATION:LES Gymnasium
SUMMARY:Primary Awards Ceremony - 12:00 and 1:30
END:VEVENT
BEGIN:VEVENT
DTSTAMP:20260422T194725Z
UID:d5ee6c8c-1ed0-40f7-ab49-d77a271acbc0
DTSTART:20260522T190000
DTEND:20260522T203000
DESCRIPTION:<html><head><meta http-equiv="Content-Type" content="text/html\
 ; charset=utf-8"><meta name="Generator" content="Microsoft Word 15 (filter
 ed medium)"><style><!--@font-face	{font-family:"Cambria Math"}@font-face	{
 font-family:Aptos}p.MsoNormal\, li.MsoNormal\, div.MsoNormal	{margin:0in\;
 	font-size:12.0pt\;	font-family:"Aptos"\,sans-serif}span.EmailStyle17	{fon
 t-family:"Aptos"\,sans-serif\;	color:windowtext}.MsoChpDefault	{}@page Wor
 dSection1	{margin:1.0in 1.0in 1.0in 1.0in}div.WordSection1	{}--></style></
 head><body lang="EN-US" link="#467886" vlink="#96607D" style="word-wrap:br
 eak-word"><div class="WordSection1"><p class="MsoNormal">&nbsp\;</p></div>
 </body></html>
LOCATION:Greendevil Stadium
SUMMARY:High School Graduation - DHS
END:VEVENT
BEGIN:VEVENT
DTSTAMP:20260422T194725Z
UID:23a98737-26f3-4f71-8e3e-106389d25122
DTSTART:20260609T180000
DTEND:20260609T190000
DESCRIPTION:
LOCATION:200 Clay St\, 200 Clay St\, Dayton\, Kentucky\, 41074
SUMMARY:School Board Meeting
END:VEVENT
BEGIN:VEVENT
DTSTAMP:20260422T194725Z
UID:aba68abf-58fc-4072-81fe-c80e98fd7b80
DTSTART:20260722T180000
DTEND:20260722T190000
DESCRIPTION:
LOCATION:200 Clay St\, 200 Clay St\, Dayton\, Kentucky\, 41074
SUMMARY:School Board Meeting
END:VEVENT
BEGIN:VEVENT
DTSTAMP:20260422T194725Z
UID:551fbca6-d07c-47fc-aaed-6b8ec20fb1c6
DTSTART:20260826T180000
DTEND:20260826T190000
DESCRIPTION:
LOCATION:200 Clay St\, 200 Clay St\, Dayton\, Kentucky\, 41074
SUMMARY:School Board Meeting
END:VEVENT
BEGIN:VEVENT
DTSTAMP:20260422T194725Z
UID:a680ed95-9e30-42c8-b474-071148c6144d
DTSTART:20260923T180000
DTEND:20260923T190000
DESCRIPTION:
LOCATION:200 Clay St\, 200 Clay St\, Dayton\, Kentucky\, 41074
SUMMARY:School Board Meeting
END:VEVENT
BEGIN:VEVENT
DTSTAMP:20260422T194725Z
UID:400fa492-8891-4e1c-9a2f-972bedea815d
DTSTART:20261028T180000
DTEND:20261028T190000
DESCRIPTION:
LOCATION:200 Clay St\, 200 Clay St\, Dayton\, Kentucky\, 41074
SUMMARY:School Board Meeting
END:VEVENT
BEGIN:VEVENT
DTSTAMP:20260422T194725Z
UID:30b51876-388d-4304-9e31-bfc76a33d03e
DTSTART:20261118T180000
DTEND:20261118T190000
DESCRIPTION:
LOCATION:200 Clay St\, 200 Clay St\, Dayton\, Kentucky\, 41074
SUMMARY:School Board Meeting
END:VEVENT
END:VCALENDAR
