BEGIN:VCALENDAR
VERSION:2.0
PRODID:icalendar-ruby
CALSCALE:GREGORIAN
BEGIN:VTIMEZONE
TZID:America/Denver
BEGIN:DAYLIGHT
DTSTART:20260308T030000
TZOFFSETFROM:-0700
TZOFFSETTO:-0600
RRULE:FREQ=YEARLY;BYDAY=2SU;BYMONTH=3
TZNAME:MDT
END:DAYLIGHT
BEGIN:STANDARD
DTSTART:20261101T010000
TZOFFSETFROM:-0600
TZOFFSETTO:-0700
RRULE:FREQ=YEARLY;BYDAY=1SU;BYMONTH=11
TZNAME:MST
END:STANDARD
END:VTIMEZONE
BEGIN:VEVENT
DTSTAMP:20260423T142501Z
UID:1abe386c-5d24-4ce1-830d-f42bae9ca8d8
DTSTART;VALUE=DATE:20260505
DTEND;VALUE=DATE:20260506
DESCRIPTION:
LOCATION:
SUMMARY:Spring Map Testing
END:VEVENT
BEGIN:VEVENT
DTSTAMP:20260423T142501Z
UID:74ef58f1-5136-467a-b98c-35abbc0f5fde
DTSTART;VALUE=DATE:20260506
DTEND;VALUE=DATE:20260507
DESCRIPTION:
LOCATION:
SUMMARY:Spring Map Testing
END:VEVENT
BEGIN:VEVENT
DTSTAMP:20260423T142501Z
UID:54d2ee31-fac6-4302-b805-d460b5217c2e
DTSTART:20260507T143000
DTEND:20260507T154500
DESCRIPTION:
LOCATION:
SUMMARY:8th Grade Final Projects Presentations
END:VEVENT
BEGIN:VEVENT
DTSTAMP:20260423T142501Z
UID:82c454f4-8e8d-4c1d-8c5e-e4059bc0f183
DTSTART:20260521T100000
DTEND:20260521T110000
DESCRIPTION:
LOCATION:Salida SteamPlant Theater and Event Center\, 220 W Sackett Ave\, S
 alida\, CO 81201\, USA
SUMMARY:8th Grade Continuation Ceremony
END:VEVENT
BEGIN:VEVENT
DTSTAMP:20260423T142501Z
UID:f2e7d95f-1fb5-4872-b49e-b63e3569363b
DTSTART;VALUE=DATE:20260812
DTEND;VALUE=DATE:20260813
DESCRIPTION:
LOCATION:
SUMMARY:First Day of School
END:VEVENT
BEGIN:VEVENT
DTSTAMP:20260423T142501Z
UID:0b6268a1-9fdc-4108-a25b-8e8b80911296
DTSTART:20260903T083000
DTEND:20260903T113000
DESCRIPTION:
LOCATION:
SUMMARY:CREST:  PICTURE DAY
END:VEVENT
BEGIN:VEVENT
DTSTAMP:20260423T142501Z
UID:8ea4897c-153e-499c-8cde-fe7d7148da75
DTSTART;VALUE=DATE:20260907
DTEND;VALUE=DATE:20260908
DESCRIPTION:
LOCATION:
SUMMARY:Labor Day\, No School
END:VEVENT
BEGIN:VEVENT
DTSTAMP:20260423T142501Z
UID:8c8bb693-330d-458f-be8a-69dd4bef4779
DTSTART;VALUE=DATE:20260908
DTEND;VALUE=DATE:20260910
DESCRIPTION:
LOCATION:
SUMMARY:Fall MAP Testing
END:VEVENT
BEGIN:VEVENT
DTSTAMP:20260423T142501Z
UID:a05cf6e9-dbae-4afc-bb02-d21ef0946f89
DTSTART;VALUE=DATE:20260910
DTEND;VALUE=DATE:20260911
DESCRIPTION:
LOCATION:
SUMMARY:Reunification Drill for 5th Grade\, Early dismissal for 6-8 - Detai
 ls to follow
END:VEVENT
BEGIN:VEVENT
DTSTAMP:20260423T142501Z
UID:bf6e5f08-cf15-4ead-a88e-059bbc933aa8
DTSTART;VALUE=DATE:20261123
DTEND;VALUE=DATE:20261127
DESCRIPTION:
LOCATION:
SUMMARY:Thanksgiving Break - No School
END:VEVENT
BEGIN:VEVENT
DTSTAMP:20260423T142501Z
UID:287b9a8c-af40-4462-abea-f100569333ac
DTSTART;VALUE=DATE:20261221
DTEND;VALUE=DATE:20270104
DESCRIPTION:
LOCATION:
SUMMARY:Winter Break
END:VEVENT
BEGIN:VEVENT
DTSTAMP:20260423T142501Z
UID:6b6a2def-3640-4b05-bf01-30285e6db87c
DTSTART;VALUE=DATE:20270201
DTEND;VALUE=DATE:20270202
DESCRIPTION:
LOCATION:
SUMMARY:FUNruary begins!
END:VEVENT
BEGIN:VEVENT
DTSTAMP:20260423T142501Z
UID:5a58675f-c76b-4cf9-96c2-0cc202b5706c
DTSTART;VALUE=DATE:20270315
DTEND;VALUE=DATE:20270319
DESCRIPTION:
LOCATION:
SUMMARY:Spring Break
END:VEVENT
BEGIN:VEVENT
DTSTAMP:20260423T142501Z
UID:e6516d98-ff53-4020-b20b-c866859f071f
DTSTART;VALUE=DATE:20270405
DTEND;VALUE=DATE:20270408
DESCRIPTION:
LOCATION:
SUMMARY:CMAS Testing - ELA/Math
END:VEVENT
BEGIN:VEVENT
DTSTAMP:20260423T142501Z
UID:13d9fe85-739a-4c3a-8c40-faf743584aff
DTSTART;VALUE=DATE:20270412
DTEND;VALUE=DATE:20270415
DESCRIPTION:
LOCATION:
SUMMARY:CMAS Testing -5/8 Science
END:VEVENT
END:VCALENDAR
