BEGIN:VCALENDAR
VERSION:2.0
PRODID:icalendar-ruby
CALSCALE:GREGORIAN
BEGIN:VTIMEZONE
TZID:America/Denver
BEGIN:DAYLIGHT
DTSTART:20260308T030000
TZOFFSETFROM:-0700
TZOFFSETTO:-0600
RRULE:FREQ=YEARLY;BYDAY=2SU;BYMONTH=3
TZNAME:MDT
END:DAYLIGHT
BEGIN:STANDARD
DTSTART:20261101T010000
TZOFFSETFROM:-0600
TZOFFSETTO:-0700
RRULE:FREQ=YEARLY;BYDAY=1SU;BYMONTH=11
TZNAME:MST
END:STANDARD
END:VTIMEZONE
BEGIN:VEVENT
DTSTAMP:20260423T105146Z
UID:8f548ce3-53f4-4459-a7db-582fc208cacb
DTSTART:20260428T140000
DTEND:20260428T153000
DESCRIPTION:
LOCATION:
SUMMARY:PM Home Based Socialization 
END:VEVENT
BEGIN:VEVENT
DTSTAMP:20260423T105146Z
UID:aac37e32-1c1e-413b-94a5-e14577e61322
DTSTART;VALUE=DATE:20260429
DTEND;VALUE=DATE:20260430
DESCRIPTION:
LOCATION:
SUMMARY:Hop Into Kindergarten @ Longfellow
END:VEVENT
BEGIN:VEVENT
DTSTAMP:20260423T105146Z
UID:bffc1f02-1d6c-4fe7-baf9-1d03c8095717
DTSTART:20260429T150000
DTEND:20260429T160000
DESCRIPTION:
LOCATION:
SUMMARY:Bookmobile Visit! 
END:VEVENT
BEGIN:VEVENT
DTSTAMP:20260423T105146Z
UID:8c05c601-ae01-4494-b04f-8efdf3b3a80b
DTSTART;VALUE=DATE:20260506
DTEND;VALUE=DATE:20260507
DESCRIPTION:
LOCATION:
SUMMARY:Family Conferences 
END:VEVENT
BEGIN:VEVENT
DTSTAMP:20260423T105146Z
UID:00153467-9489-4c21-8ead-aa0c63e7f44f
DTSTART:20260506T083000
DTEND:20260506T093000
DESCRIPTION:
LOCATION:
SUMMARY:Policy Council Meeting
END:VEVENT
BEGIN:VEVENT
DTSTAMP:20260423T105146Z
UID:fc2e03c7-8e38-43c2-8e59-23c71617fc0b
DTSTART:20260506T150000
DTEND:20260506T160000
DESCRIPTION:
LOCATION:
SUMMARY:Bookmobile Visit! 
END:VEVENT
BEGIN:VEVENT
DTSTAMP:20260423T105146Z
UID:27e3e4f7-e684-47aa-9ed9-c16f86712b88
DTSTART;VALUE=DATE:20260507
DTEND;VALUE=DATE:20260508
DESCRIPTION:
LOCATION:
SUMMARY:Family Conferences 
END:VEVENT
BEGIN:VEVENT
DTSTAMP:20260423T105146Z
UID:cecb50ac-8e00-44be-bfab-a9651c029944
DTSTART:20260512T083000
DTEND:20260512T100000
DESCRIPTION:
LOCATION:
SUMMARY:AM Home Based Socialization 
END:VEVENT
BEGIN:VEVENT
DTSTAMP:20260423T105146Z
UID:fb24225a-013e-498b-82de-178676e38c84
DTSTART:20260513T150000
DTEND:20260513T160000
DESCRIPTION:
LOCATION:
SUMMARY:Bookmobile Visit! 
END:VEVENT
BEGIN:VEVENT
DTSTAMP:20260423T105146Z
UID:9408be98-e9a9-4477-9297-70c7f973c6b5
DTSTART;VALUE=DATE:20260515
DTEND;VALUE=DATE:20260516
DESCRIPTION:
LOCATION:
SUMMARY:End of Year Party! 
END:VEVENT
BEGIN:VEVENT
DTSTAMP:20260423T105146Z
UID:591c38a6-481f-4df6-9150-5351049bdacf
DTSTART;VALUE=DATE:20260520
DTEND;VALUE=DATE:20260521
DESCRIPTION:
LOCATION:
SUMMARY:Last Day of School!
END:VEVENT
BEGIN:VEVENT
DTSTAMP:20260423T105146Z
UID:943e2fb6-a8c1-4e3c-9344-1d1d1101436d
DTSTART:20260520T150000
DTEND:20260520T160000
DESCRIPTION:
LOCATION:
SUMMARY:Bookmobile Visit! 
END:VEVENT
BEGIN:VEVENT
DTSTAMP:20260423T105146Z
UID:b16d6b02-2505-4c16-840f-f980e4826030
DTSTART;VALUE=DATE:20260601
DTEND;VALUE=DATE:20260602
DESCRIPTION:
LOCATION:
SUMMARY:Summer Home Based Programming Begins 
END:VEVENT
BEGIN:VEVENT
DTSTAMP:20260423T105146Z
UID:bf6933ec-ad56-4ca8-9559-877f79b14a27
DTSTART;VALUE=DATE:20260731
DTEND;VALUE=DATE:20260801
DESCRIPTION:
LOCATION:
SUMMARY:Last Day of Summer Home Visiting Program 
END:VEVENT
END:VCALENDAR
