BEGIN:VCALENDAR
VERSION:2.0
PRODID:icalendar-ruby
CALSCALE:GREGORIAN
BEGIN:VTIMEZONE
TZID:America/Denver
BEGIN:DAYLIGHT
DTSTART:20260308T030000
TZOFFSETFROM:-0700
TZOFFSETTO:-0600
RRULE:FREQ=YEARLY;BYDAY=2SU;BYMONTH=3
TZNAME:MDT
END:DAYLIGHT
BEGIN:STANDARD
DTSTART:20261101T010000
TZOFFSETFROM:-0600
TZOFFSETTO:-0700
RRULE:FREQ=YEARLY;BYDAY=1SU;BYMONTH=11
TZNAME:MST
END:STANDARD
END:VTIMEZONE
BEGIN:VEVENT
DTSTAMP:20260423T105054Z
UID:0009c157-05ad-4b61-bf20-7cd6cc36d4ba
DTSTART:20260430T163000
DTEND:20260430T173000
DESCRIPTION:
LOCATION:
SUMMARY:Spring Walkabout Night 
END:VEVENT
BEGIN:VEVENT
DTSTAMP:20260423T105054Z
UID:fb6c1dbb-15f9-4781-8095-a4d0b066fbc9
DTSTART;VALUE=DATE:20260504
DTEND;VALUE=DATE:20260505
DESCRIPTION:
LOCATION:
SUMMARY:Spring MAP Testing
END:VEVENT
BEGIN:VEVENT
DTSTAMP:20260423T105054Z
UID:69bc1d16-e4cb-4182-84e3-702212f0ade6
DTSTART;VALUE=DATE:20260506
DTEND;VALUE=DATE:20260508
DESCRIPTION:
LOCATION:
SUMMARY:Spring Map Testing
END:VEVENT
BEGIN:VEVENT
DTSTAMP:20260423T105054Z
UID:3aa776a7-7978-4848-a9bc-b7fc0865c31c
DTSTART:20260507T163000
DTEND:20260507T173000
DESCRIPTION:Previously Walkabout Night\, Showcase will highlight student pr
 ojects.
LOCATION:
SUMMARY:HEA SHOWCASE
END:VEVENT
BEGIN:VEVENT
DTSTAMP:20260423T105054Z
UID:48734ee6-dc68-48ba-89d1-79e0e4d180e6
DTSTART:20260515T173000
DTEND:20260515T200000
DESCRIPTION:Doors open at 5:30\, ceremony starts at 6 pm.
LOCATION:Salida SteamPlant Theater and Event Center\, 220 W Sackett Ave\, S
 alida\, CO 81201\, USA
SUMMARY:Graduation!  at Steamplant
END:VEVENT
BEGIN:VEVENT
DTSTAMP:20260423T105054Z
UID:568c3bdb-de37-4af6-9061-7c8c7ff15fd6
DTSTART;VALUE=DATE:20260521
DTEND;VALUE=DATE:20260522
DESCRIPTION:
LOCATION:
SUMMARY:End of Year Float Trip and Last Day of School
END:VEVENT
BEGIN:VEVENT
DTSTAMP:20260423T105054Z
UID:4f688034-82a4-4433-a2e7-fa450a47712e
DTSTART:20260902T130000
DTEND:20260902T154500
DESCRIPTION:
LOCATION:
SUMMARY:HEA: PICTURE DAY
END:VEVENT
END:VCALENDAR
