BEGIN:VCALENDAR
VERSION:2.0
PRODID:icalendar-ruby
CALSCALE:GREGORIAN
BEGIN:VTIMEZONE
TZID:America/New_York
BEGIN:DAYLIGHT
DTSTART:20260308T030000
TZOFFSETFROM:-0500
TZOFFSETTO:-0400
RRULE:FREQ=YEARLY;BYDAY=2SU;BYMONTH=3
TZNAME:EDT
END:DAYLIGHT
BEGIN:STANDARD
DTSTART:20261101T010000
TZOFFSETFROM:-0400
TZOFFSETTO:-0500
RRULE:FREQ=YEARLY;BYDAY=1SU;BYMONTH=11
TZNAME:EST
END:STANDARD
END:VTIMEZONE
BEGIN:VEVENT
DTSTAMP:20260425T115700Z
UID:cf494242-1e50-46d9-8021-76f72a647b8c
DTSTART;VALUE=DATE:20260428
DTEND;VALUE=DATE:20260429
DESCRIPTION:
LOCATION:
SUMMARY:5th OST Science Part 1
END:VEVENT
BEGIN:VEVENT
DTSTAMP:20260425T115700Z
UID:2de321cc-159e-4b6c-aed6-9469538b6a56
DTSTART;VALUE=DATE:20260429
DTEND;VALUE=DATE:20260430
DESCRIPTION:
LOCATION:
SUMMARY:5th OST Science Part 2
END:VEVENT
BEGIN:VEVENT
DTSTAMP:20260425T115700Z
UID:31b9ccb3-1e88-4c3f-bd39-59e774f95356
DTSTART:20260430T173000
DTEND:20260430T183000
DESCRIPTION:
LOCATION:
SUMMARY:PK-5 Academic Showcase
END:VEVENT
BEGIN:VEVENT
DTSTAMP:20260425T115700Z
UID:acf71211-34f3-4596-8555-bab87179a80c
DTSTART:20260501T150000
DTEND:20260501T153000
DESCRIPTION:
LOCATION:
SUMMARY:Student Council Meetings
END:VEVENT
BEGIN:VEVENT
DTSTAMP:20260425T115700Z
UID:1c03d6f3-cd2f-4a3c-ae59-04cacb9d55d5
DTSTART;VALUE=DATE:20260507
DTEND;VALUE=DATE:20260508
DESCRIPTION:
LOCATION:
SUMMARY:PK to K Experience Day
END:VEVENT
BEGIN:VEVENT
DTSTAMP:20260425T115700Z
UID:ddddccb6-0fbe-4879-9d84-82685cebb46d
DTSTART;VALUE=DATE:20260513
DTEND;VALUE=DATE:20260514
DESCRIPTION:
LOCATION:
SUMMARY:5th Grade CMS Experience Day 
END:VEVENT
BEGIN:VEVENT
DTSTAMP:20260425T115700Z
UID:728f3ff6-19c0-4ee3-916c-6105f1f28dee
DTSTART;VALUE=DATE:20260514
DTEND;VALUE=DATE:20260515
DESCRIPTION:
LOCATION:
SUMMARY:When I Grow Up Day
END:VEVENT
BEGIN:VEVENT
DTSTAMP:20260425T115700Z
UID:22af61cc-6d6f-4656-abb3-4e9c682ad045
DTSTART;VALUE=DATE:20260518
DTEND;VALUE=DATE:20260519
DESCRIPTION:
LOCATION:
SUMMARY:Kindergarten Recognition
END:VEVENT
BEGIN:VEVENT
DTSTAMP:20260425T115700Z
UID:99769a0f-c093-47b5-a0cf-60c05e87b9fc
DTSTART;VALUE=DATE:20260519
DTEND;VALUE=DATE:20260520
DESCRIPTION:
LOCATION:
SUMMARY:5th Grade Graduation
END:VEVENT
BEGIN:VEVENT
DTSTAMP:20260425T115700Z
UID:a5d4b003-0e53-401a-ac0a-f9c63818917a
DTSTART;VALUE=DATE:20260520
DTEND;VALUE=DATE:20260521
DESCRIPTION:
LOCATION:
SUMMARY:K and 3rd Fun Day
END:VEVENT
BEGIN:VEVENT
DTSTAMP:20260425T115700Z
UID:921f8ed8-6b1f-4359-94c5-950d4927d387
DTSTART;VALUE=DATE:20260521
DTEND;VALUE=DATE:20260522
DESCRIPTION:
LOCATION:
SUMMARY:1st and 4th Fun Day
END:VEVENT
BEGIN:VEVENT
DTSTAMP:20260425T115700Z
UID:e371c143-8272-4a6f-a178-f321c6b9f2ac
DTSTART;VALUE=DATE:20260522
DTEND;VALUE=DATE:20260523
DESCRIPTION:
LOCATION:
SUMMARY:2nd and 5th Fun Day
END:VEVENT
BEGIN:VEVENT
DTSTAMP:20260425T115700Z
UID:da17ca6c-3616-4484-b1f5-7dca8dd9db0e
DTSTART;VALUE=DATE:20260522
DTEND;VALUE=DATE:20260523
DESCRIPTION:
LOCATION:
SUMMARY:Last Day of School
END:VEVENT
BEGIN:VEVENT
DTSTAMP:20260425T115700Z
UID:fea4e11f-3851-40be-b2c8-2427f32d8ce6
DTSTART:20260605T150000
DTEND:20260605T153000
DESCRIPTION:
LOCATION:
SUMMARY:Student Council Meetings
END:VEVENT
END:VCALENDAR
