BEGIN:VCALENDAR
VERSION:2.0
PRODID:icalendar-ruby
CALSCALE:GREGORIAN
BEGIN:VTIMEZONE
TZID:America/Denver
BEGIN:DAYLIGHT
DTSTART:20260308T030000
TZOFFSETFROM:-0700
TZOFFSETTO:-0600
RRULE:FREQ=YEARLY;BYDAY=2SU;BYMONTH=3
TZNAME:MDT
END:DAYLIGHT
BEGIN:STANDARD
DTSTART:20261101T010000
TZOFFSETFROM:-0600
TZOFFSETTO:-0700
RRULE:FREQ=YEARLY;BYDAY=1SU;BYMONTH=11
TZNAME:MST
END:STANDARD
END:VTIMEZONE
BEGIN:VEVENT
DTSTAMP:20260423T084303Z
UID:4cbd9334-02e4-4677-a87a-ab9d184b9f4f
DTSTART:20260423T080000
DTEND:20260423T160000
DESCRIPTION:The Collaborative Bargaining Team (CBT) is a representative gro
 up from all school staff sectors.  It includes Board members\, leaders\, 
 teachers\, bus drivers\, cooks\, para-professionals and custodians.  Usin
 g an Interest Based Bargaining (IBB) process the team addresses policies t
 hat guide working conditions and compensation. A consensus model for decis
 ions is used to ensure that any individual voice is as strong as the major
 ity.  The CBT uses the process to identify the most pressing issues and s
 eek the best possible solution for that issue. <br><br>To learn more abou
 t the CBT process and for updated dates and team members visit the <a hre
 f="https://www.salidaschools.com/page/collaborative-bargaining-team"><u>Co
 llaborative Bargaining Team page</u></a> on the website
LOCATION:
SUMMARY:CBT - Meeting #3
END:VEVENT
BEGIN:VEVENT
DTSTAMP:20260423T084303Z
UID:933bc57c-322e-4ebf-9519-ccad28b0983f
DTSTART:20260501T080000
DTEND:20260501T160000
DESCRIPTION:The Collaborative Bargaining Team (CBT) is a representative gro
 up from all school staff sectors.  It includes Board members\, leaders\, 
 teachers\, bus drivers\, cooks\, para-professionals and custodians.  Usin
 g an Interest Based Bargaining (IBB) process the team addresses policies t
 hat guide working conditions and compensation. A consensus model for decis
 ions is used to ensure that any individual voice is as strong as the major
 ity.  The CBT uses the process to identify the most pressing issues and s
 eek the best possible solution for that issue. <br><br>To learn more abou
 t the CBT process and for updated dates and team members visit the <a href
 ="https://www.salidaschools.com/page/collaborative-bargaining-team">Collab
 orative Bargaining Team page</a> on the website
LOCATION:
SUMMARY:CBT - Meeting #4
END:VEVENT
BEGIN:VEVENT
DTSTAMP:20260423T084303Z
UID:d4c41494-1d6d-46f7-870f-e0ab55cd502e
DTSTART:20260512T180000
DTEND:20260512T210000
DESCRIPTION:Visit the <a href="https://www.salidaschools.com/o/ssd/page/bo
 ard-of-education" target="_blank"><u>Salida School Board Website</u></a> 
 for information about the board members\, guiding documents\, and any lega
 l notices. Agendas\, minutes from previous meetings\, and information abou
 t streaming and meeting protocol can be found on the <a href="https://www
 .salidaschools.com/o/ssd/page/board-of-education" target="_blank"><u>Agend
 as and Minutes</u></a> website.
LOCATION:2nd Floor Conference Room\, 627 Oak St\, Salida\, CO 81201\, USA
SUMMARY:Regular School Board Meeting
END:VEVENT
BEGIN:VEVENT
DTSTAMP:20260423T084303Z
UID:26c85e3e-3951-4ecf-a3c3-b46bf2693600
DTSTART;VALUE=DATE:20260525
DTEND;VALUE=DATE:20260526
DESCRIPTION:
LOCATION:
SUMMARY:Memorial Day - All School and Admin Offices Closed
END:VEVENT
BEGIN:VEVENT
DTSTAMP:20260423T084303Z
UID:02703421-268e-4ad5-ba12-c52145cc5af3
DTSTART;VALUE=DATE:20260529
DTEND;VALUE=DATE:20260530
DESCRIPTION:
LOCATION:
SUMMARY:Last Day School Offices Open for 25-26 School Year
END:VEVENT
BEGIN:VEVENT
DTSTAMP:20260423T084303Z
UID:8ffb8cb2-33e7-4e4d-a953-f48da2497cab
DTSTART:20260609T180000
DTEND:20260609T210000
DESCRIPTION:Visit the <a href="https://www.salidaschools.com/o/ssd/page/bo
 ard-of-education" target="_blank"><u>Salida School Board Website</u></a> 
 for information about the board members\, guiding documents\, and any lega
 l notices. Agendas\, minutes from previous meetings\, and information abou
 t streaming and meeting protocol can be found on the <a href="https://www
 .salidaschools.com/o/ssd/page/board-of-education" target="_blank"><u>Agend
 as and Minutes</u></a> website.
LOCATION:2nd Floor Conference Room\, 627 Oak St\, Salida\, CO 81201\, USA
SUMMARY:Regular School Board Meeting
END:VEVENT
BEGIN:VEVENT
DTSTAMP:20260423T084303Z
UID:d03205aa-649f-4bdd-883a-9ceb18b10e0c
DTSTART:20260714T180000
DTEND:20260714T210000
DESCRIPTION:Visit the <a href="https://www.salidaschools.com/o/ssd/page/bo
 ard-of-education" target="_blank"><u>Salida School Board Website</u></a> 
 for information about the board members\, guiding documents\, and any lega
 l notices. Agendas\, minutes from previous meetings\, and information abou
 t streaming and meeting protocol can be found on the <a href="https://www
 .salidaschools.com/o/ssd/page/board-of-education" target="_blank"><u>Agend
 as and Minutes</u></a> website.
LOCATION:2nd Floor Conference Room\, 627 Oak St\, Salida\, CO 81201\, USA
SUMMARY:Regular School Board Meeting
END:VEVENT
BEGIN:VEVENT
DTSTAMP:20260423T084303Z
UID:4a9368d3-6d71-49f8-8dca-cb734bde1a13
DTSTART:20260811T180000
DTEND:20260811T210000
DESCRIPTION:Visit the <a href="https://www.salidaschools.com/o/ssd/page/bo
 ard-of-education" target="_blank"><u>Salida School Board Website</u></a> 
 for information about the board members\, guiding documents\, and any lega
 l notices. Agendas\, minutes from previous meetings\, and information abou
 t streaming and meeting protocol can be found on the <a href="https://www
 .salidaschools.com/o/ssd/page/board-of-education" target="_blank"><u>Agend
 as and Minutes</u></a> website.
LOCATION:2nd Floor Conference Room\, 627 Oak St\, Salida\, CO 81201\, USA
SUMMARY:Regular School Board Meeting
END:VEVENT
BEGIN:VEVENT
DTSTAMP:20260423T084303Z
UID:ac6d55af-4ba3-4ad8-b453-a86e5029536b
DTSTART:20260908T180000
DTEND:20260908T210000
DESCRIPTION:Visit the <a href="https://www.salidaschools.com/o/ssd/page/bo
 ard-of-education" target="_blank"><u>Salida School Board Website</u></a> 
 for information about the board members\, guiding documents\, and any lega
 l notices. Agendas\, minutes from previous meetings\, and information abou
 t streaming and meeting protocol can be found on the <a href="https://www
 .salidaschools.com/o/ssd/page/board-of-education" target="_blank"><u>Agend
 as and Minutes</u></a> website.
LOCATION:2nd Floor Conference Room\, 627 Oak St\, Salida\, CO 81201\, USA
SUMMARY:Regular School Board Meeting
END:VEVENT
BEGIN:VEVENT
DTSTAMP:20260423T084303Z
UID:f2e84c85-48d5-48cd-af12-8ddcd148a306
DTSTART:20261013T180000
DTEND:20261013T210000
DESCRIPTION:Visit the <a href="https://www.salidaschools.com/o/ssd/page/bo
 ard-of-education" target="_blank"><u>Salida School Board Website</u></a> 
 for information about the board members\, guiding documents\, and any lega
 l notices. Agendas\, minutes from previous meetings\, and information abou
 t streaming and meeting protocol can be found on the <a href="https://www
 .salidaschools.com/o/ssd/page/board-of-education" target="_blank"><u>Agend
 as and Minutes</u></a> website.
LOCATION:2nd Floor Conference Room\, 627 Oak St\, Salida\, CO 81201\, USA
SUMMARY:Regular School Board Meeting
END:VEVENT
BEGIN:VEVENT
DTSTAMP:20260423T084303Z
UID:9794a1f5-daa6-4b24-9ebe-447ec78b9eb9
DTSTART:20261110T180000
DTEND:20261110T210000
DESCRIPTION:Visit the <a href="https://www.salidaschools.com/o/ssd/page/bo
 ard-of-education" target="_blank"><u>Salida School Board Website</u></a> 
 for information about the board members\, guiding documents\, and any lega
 l notices. Agendas\, minutes from previous meetings\, and information abou
 t streaming and meeting protocol can be found on the <a href="https://www
 .salidaschools.com/o/ssd/page/board-of-education" target="_blank"><u>Agend
 as and Minutes</u></a> website.
LOCATION:2nd Floor Conference Room\, 627 Oak St\, Salida\, CO 81201\, USA
SUMMARY:Regular School Board Meeting
END:VEVENT
BEGIN:VEVENT
DTSTAMP:20260423T084303Z
UID:41107f57-6f3b-4e9f-a5c6-288941794cd2
DTSTART:20261208T180000
DTEND:20261208T210000
DESCRIPTION:Visit the <a href="https://www.salidaschools.com/o/ssd/page/bo
 ard-of-education" target="_blank"><u>Salida School Board Website</u></a> 
 for information about the board members\, guiding documents\, and any lega
 l notices. Agendas\, minutes from previous meetings\, and information abou
 t streaming and meeting protocol can be found on the <a href="https://www
 .salidaschools.com/o/ssd/page/board-of-education" target="_blank"><u>Agend
 as and Minutes</u></a> website.
LOCATION:2nd Floor Conference Room\, 627 Oak St\, Salida\, CO 81201\, USA
SUMMARY:Regular School Board Meeting
END:VEVENT
BEGIN:VEVENT
DTSTAMP:20260423T084303Z
UID:ebbf8ac9-bd23-4316-a707-17bcfaeb8a10
DTSTART:20270112T180000
DTEND:20270112T210000
DESCRIPTION:Visit the <a href="https://www.salidaschools.com/o/ssd/page/bo
 ard-of-education" target="_blank"><u>Salida School Board Website</u></a> 
 for information about the board members\, guiding documents\, and any lega
 l notices. Agendas\, minutes from previous meetings\, and information abou
 t streaming and meeting protocol can be found on the <a href="https://www
 .salidaschools.com/o/ssd/page/board-of-education" target="_blank"><u>Agend
 as and Minutes</u></a> website.
LOCATION:2nd Floor Conference Room\, 627 Oak St\, Salida\, CO 81201\, USA
SUMMARY:Regular School Board Meeting
END:VEVENT
BEGIN:VEVENT
DTSTAMP:20260423T084303Z
UID:40fd7f62-5a72-4c6d-80bd-a7debc8ffa85
DTSTART:20270209T180000
DTEND:20270209T210000
DESCRIPTION:Visit the <a href="https://www.salidaschools.com/o/ssd/page/bo
 ard-of-education" target="_blank"><u>Salida School Board Website</u></a> 
 for information about the board members\, guiding documents\, and any lega
 l notices. Agendas\, minutes from previous meetings\, and information abou
 t streaming and meeting protocol can be found on the <a href="https://www
 .salidaschools.com/o/ssd/page/board-of-education" target="_blank"><u>Agend
 as and Minutes</u></a> website.
LOCATION:2nd Floor Conference Room\, 627 Oak St\, Salida\, CO 81201\, USA
SUMMARY:Regular School Board Meeting
END:VEVENT
BEGIN:VEVENT
DTSTAMP:20260423T084303Z
UID:6d76625b-1b6b-48a9-b5a8-a396d6b89072
DTSTART:20270309T180000
DTEND:20270309T210000
DESCRIPTION:Visit the <a href="https://www.salidaschools.com/o/ssd/page/bo
 ard-of-education" target="_blank"><u>Salida School Board Website</u></a> 
 for information about the board members\, guiding documents\, and any lega
 l notices. Agendas\, minutes from previous meetings\, and information abou
 t streaming and meeting protocol can be found on the <a href="https://www
 .salidaschools.com/o/ssd/page/board-of-education" target="_blank"><u>Agend
 as and Minutes</u></a> website.
LOCATION:2nd Floor Conference Room\, 627 Oak St\, Salida\, CO 81201\, USA
SUMMARY:Regular School Board Meeting
END:VEVENT
BEGIN:VEVENT
DTSTAMP:20260423T084303Z
UID:29553caf-a4a3-429b-b8be-185c14cabc9e
DTSTART:20270413T180000
DTEND:20270413T210000
DESCRIPTION:Visit the <a href="https://www.salidaschools.com/o/ssd/page/bo
 ard-of-education" target="_blank"><u>Salida School Board Website</u></a> 
 for information about the board members\, guiding documents\, and any lega
 l notices. Agendas\, minutes from previous meetings\, and information abou
 t streaming and meeting protocol can be found on the <a href="https://www
 .salidaschools.com/o/ssd/page/board-of-education" target="_blank"><u>Agend
 as and Minutes</u></a> website.
LOCATION:2nd Floor Conference Room\, 627 Oak St\, Salida\, CO 81201\, USA
SUMMARY:Regular School Board Meeting
END:VEVENT
BEGIN:VEVENT
DTSTAMP:20260423T084303Z
UID:cdf8843a-3f92-4768-b2b1-e851b4a10964
DTSTART:20270511T180000
DTEND:20270511T210000
DESCRIPTION:Visit the <a href="https://www.salidaschools.com/o/ssd/page/bo
 ard-of-education" target="_blank"><u>Salida School Board Website</u></a> 
 for information about the board members\, guiding documents\, and any lega
 l notices. Agendas\, minutes from previous meetings\, and information abou
 t streaming and meeting protocol can be found on the <a href="https://www
 .salidaschools.com/o/ssd/page/board-of-education" target="_blank"><u>Agend
 as and Minutes</u></a> website.
LOCATION:2nd Floor Conference Room\, 627 Oak St\, Salida\, CO 81201\, USA
SUMMARY:Regular School Board Meeting
END:VEVENT
BEGIN:VEVENT
DTSTAMP:20260423T084303Z
UID:3dc23294-274f-412a-8b42-d31f3c7104d6
DTSTART:20270608T180000
DTEND:20270608T210000
DESCRIPTION:Visit the <a href="https://www.salidaschools.com/o/ssd/page/bo
 ard-of-education" target="_blank"><u>Salida School Board Website</u></a> 
 for information about the board members\, guiding documents\, and any lega
 l notices. Agendas\, minutes from previous meetings\, and information abou
 t streaming and meeting protocol can be found on the <a href="https://www
 .salidaschools.com/o/ssd/page/board-of-education" target="_blank"><u>Agend
 as and Minutes</u></a> website.
LOCATION:2nd Floor Conference Room\, 627 Oak St\, Salida\, CO 81201\, USA
SUMMARY:Regular School Board Meeting
END:VEVENT
END:VCALENDAR
