BEGIN:VCALENDAR
VERSION:2.0
PRODID:icalendar-ruby
CALSCALE:GREGORIAN
BEGIN:VTIMEZONE
TZID:America/New_York
BEGIN:DAYLIGHT
DTSTART:20260308T030000
TZOFFSETFROM:-0500
TZOFFSETTO:-0400
RRULE:FREQ=YEARLY;BYDAY=2SU;BYMONTH=3
TZNAME:EDT
END:DAYLIGHT
BEGIN:STANDARD
DTSTART:20261101T010000
TZOFFSETFROM:-0400
TZOFFSETTO:-0500
RRULE:FREQ=YEARLY;BYDAY=1SU;BYMONTH=11
TZNAME:EST
END:STANDARD
END:VTIMEZONE
BEGIN:VEVENT
DTSTAMP:20260425T104405Z
UID:858d9497-d0eb-41c8-be85-ebdfb8f8775f
DTSTART:20260501T150000
DTEND:20260501T153000
DESCRIPTION:
LOCATION:
SUMMARY:Student Council Meetings
END:VEVENT
BEGIN:VEVENT
DTSTAMP:20260425T104405Z
UID:b6a0e3ca-bffc-4568-beb0-6f3f0bb6c141
DTSTART:20260605T150000
DTEND:20260605T153000
DESCRIPTION:
LOCATION:
SUMMARY:Student Council Meetings
END:VEVENT
END:VCALENDAR
