BEGIN:VCALENDAR
VERSION:2.0
PRODID:icalendar-ruby
CALSCALE:GREGORIAN
BEGIN:VTIMEZONE
TZID:America/Chicago
BEGIN:DAYLIGHT
DTSTART:20260308T030000
TZOFFSETFROM:-0600
TZOFFSETTO:-0500
RRULE:FREQ=YEARLY;BYDAY=2SU;BYMONTH=3
TZNAME:CDT
END:DAYLIGHT
BEGIN:STANDARD
DTSTART:20261101T010000
TZOFFSETFROM:-0500
TZOFFSETTO:-0600
RRULE:FREQ=YEARLY;BYDAY=1SU;BYMONTH=11
TZNAME:CST
END:STANDARD
END:VTIMEZONE
BEGIN:VEVENT
DTSTAMP:20260423T103412Z
UID:e80753a7-e33b-4548-9632-10c6e16fcf37
DTSTART;VALUE=DATE:20260420
DTEND;VALUE=DATE:20260425
DESCRIPTION:
LOCATION:
SUMMARY:Kindergarten Readiness Assessment
END:VEVENT
BEGIN:VEVENT
DTSTAMP:20260423T103412Z
UID:4f0756fe-6410-4c25-8127-c20ef2c4994d
DTSTART;VALUE=DATE:20260424
DTEND;VALUE=DATE:20260425
DESCRIPTION:
LOCATION:
SUMMARY:Pre-K Fieldtrip: Zoo
END:VEVENT
BEGIN:VEVENT
DTSTAMP:20260423T103412Z
UID:15556e7d-3fa9-4a6e-a1d1-5dd698f9aa8f
DTSTART;VALUE=DATE:20260424
DTEND;VALUE=DATE:20260425
DESCRIPTION:
LOCATION:
SUMMARY:5th Grade Tours CHMS
END:VEVENT
BEGIN:VEVENT
DTSTAMP:20260423T103412Z
UID:f4e4f56f-2524-46cb-97e4-e2a099d9f754
DTSTART:20260424T075500
DTEND:20260424T082000
DESCRIPTION:
LOCATION:
SUMMARY:Snack  Shack 
END:VEVENT
BEGIN:VEVENT
DTSTAMP:20260423T103412Z
UID:e7687940-1433-43ad-bda4-a59df129f22c
DTSTART;VALUE=DATE:20260427
DTEND;VALUE=DATE:20260502
DESCRIPTION:
LOCATION:
SUMMARY:Teacher Appreciation Week 
END:VEVENT
BEGIN:VEVENT
DTSTAMP:20260423T103412Z
UID:163348ed-0fb9-43cc-806d-158748345fe6
DTSTART:20260427T152500
DTEND:20260427T162500
DESCRIPTION:
LOCATION:
SUMMARY:Good News Club
END:VEVENT
BEGIN:VEVENT
DTSTAMP:20260423T103412Z
UID:e85bc9c5-54b7-4834-b4eb-4ff0df106389
DTSTART;VALUE=DATE:20260430
DTEND;VALUE=DATE:20260501
DESCRIPTION:
LOCATION:
SUMMARY:3rd Grade State Test- Math
END:VEVENT
BEGIN:VEVENT
DTSTAMP:20260423T103412Z
UID:1f445021-3b1e-4b38-9b35-8db4a8670908
DTSTART;VALUE=DATE:20260501
DTEND;VALUE=DATE:20260502
DESCRIPTION:
LOCATION:
SUMMARY:School Lunch Hero Day
END:VEVENT
BEGIN:VEVENT
DTSTAMP:20260423T103412Z
UID:596ab93e-36ca-495d-9b81-b8489672fbcd
DTSTART;VALUE=DATE:20260501
DTEND;VALUE=DATE:20260502
DESCRIPTION:
LOCATION:
SUMMARY:School Principal's Day
END:VEVENT
BEGIN:VEVENT
DTSTAMP:20260423T103412Z
UID:93e4bbd9-6669-41a7-ae35-7701fb800d92
DTSTART:20260501T075500
DTEND:20260501T082000
DESCRIPTION:
LOCATION:
SUMMARY:Snack  Shack 
END:VEVENT
BEGIN:VEVENT
DTSTAMP:20260423T103412Z
UID:60768f1b-e3d7-480d-87fc-54fc7f10c986
DTSTART:20260501T103000
DTEND:20260501T133000
DESCRIPTION:
LOCATION:
SUMMARY:Southern Taco Bar Food Truck-Staff Only 
END:VEVENT
BEGIN:VEVENT
DTSTAMP:20260423T103412Z
UID:911eb824-7c99-49e9-b007-03d4f1927662
DTSTART:20260504T152500
DTEND:20260504T162500
DESCRIPTION:
LOCATION:
SUMMARY:Good News Club
END:VEVENT
BEGIN:VEVENT
DTSTAMP:20260423T103412Z
UID:22cfc5f9-25b9-41a7-8660-7564983d3c3a
DTSTART;VALUE=DATE:20260505
DTEND;VALUE=DATE:20260506
DESCRIPTION:
LOCATION:
SUMMARY:4th/5th Grade Reading Test
END:VEVENT
BEGIN:VEVENT
DTSTAMP:20260423T103412Z
UID:f3583501-5537-4cf3-bb42-009708e949b5
DTSTART:20260505T180000
DTEND:20260505T190000
DESCRIPTION:
LOCATION:
SUMMARY:OES & CHES choir concert at CHES
END:VEVENT
BEGIN:VEVENT
DTSTAMP:20260423T103412Z
UID:84830759-c52b-4435-affb-9b73290fba09
DTSTART;VALUE=DATE:20260506
DTEND;VALUE=DATE:20260507
DESCRIPTION:
LOCATION:
SUMMARY:5th Grade Writing Test
END:VEVENT
BEGIN:VEVENT
DTSTAMP:20260423T103412Z
UID:24abb48f-9245-4bf4-ade0-b3e511c386bd
DTSTART;VALUE=DATE:20260506
DTEND;VALUE=DATE:20260507
DESCRIPTION:
LOCATION:
SUMMARY:School Nurse Day
END:VEVENT
BEGIN:VEVENT
DTSTAMP:20260423T103412Z
UID:29b3ac23-ac6b-4d55-acd8-f6b016bfca8c
DTSTART;VALUE=DATE:20260507
DTEND;VALUE=DATE:20260508
DESCRIPTION:
LOCATION:
SUMMARY:Mental Health Awareness Day: Wear Green
END:VEVENT
BEGIN:VEVENT
DTSTAMP:20260423T103412Z
UID:dc9894d7-7867-4d42-8424-7ca05b479a48
DTSTART;VALUE=DATE:20260508
DTEND;VALUE=DATE:20260509
DESCRIPTION:
LOCATION:
SUMMARY:5th Grade Science Test
END:VEVENT
BEGIN:VEVENT
DTSTAMP:20260423T103412Z
UID:47dd3cd0-2a20-4ac1-aa71-c3a82f4c106f
DTSTART:20260508T075500
DTEND:20260508T082000
DESCRIPTION:
LOCATION:
SUMMARY:Snack  Shack 
END:VEVENT
BEGIN:VEVENT
DTSTAMP:20260423T103412Z
UID:f8a128b1-ab24-4bc1-b8ee-65067cae98a6
DTSTART;VALUE=DATE:20260511
DTEND;VALUE=DATE:20260512
DESCRIPTION:
LOCATION:
SUMMARY:PreK Water Day 
END:VEVENT
BEGIN:VEVENT
DTSTAMP:20260423T103412Z
UID:35e10dae-a7e9-4316-8f66-1da7a3326e46
DTSTART:20260511T083000
DTEND:20260511T103000
DESCRIPTION:
LOCATION:
SUMMARY:3rd Grade Bowling Reward Trip
END:VEVENT
BEGIN:VEVENT
DTSTAMP:20260423T103412Z
UID:59f879ad-022d-409b-9ac3-64bd3788ac26
DTSTART:20260511T152500
DTEND:20260511T162500
DESCRIPTION:
LOCATION:
SUMMARY:Good News Club
END:VEVENT
BEGIN:VEVENT
DTSTAMP:20260423T103412Z
UID:e4d18368-6287-4422-9709-4205f9523316
DTSTART;VALUE=DATE:20260512
DTEND;VALUE=DATE:20260513
DESCRIPTION:
LOCATION:
SUMMARY:4th/5th Grade Math Test
END:VEVENT
BEGIN:VEVENT
DTSTAMP:20260423T103412Z
UID:e425ac21-40df-45c9-b4fb-0e3792c7be0e
DTSTART:20260512T180000
DTEND:20260512T190000
DESCRIPTION:
LOCATION:
SUMMARY:Kindergarten Informational Meeting
END:VEVENT
BEGIN:VEVENT
DTSTAMP:20260423T103412Z
UID:47f899dd-3957-4a00-a219-5e3d99e880a0
DTSTART;VALUE=DATE:20260513
DTEND;VALUE=DATE:20260514
DESCRIPTION:
LOCATION:
SUMMARY:3rd Grade re-test
END:VEVENT
BEGIN:VEVENT
DTSTAMP:20260423T103412Z
UID:13763004-87b6-477b-8788-745426d6263f
DTSTART;VALUE=DATE:20260513
DTEND;VALUE=DATE:20260515
DESCRIPTION:
LOCATION:
SUMMARY:Reading Horizons Assessment for 5th grade
END:VEVENT
BEGIN:VEVENT
DTSTAMP:20260423T103412Z
UID:3b7e0b8c-54b5-414f-8451-cd609d7ebd90
DTSTART;VALUE=DATE:20260514
DTEND;VALUE=DATE:20260515
DESCRIPTION:
LOCATION:
SUMMARY:4th Grade Fieldtrip: Redbirds Game
END:VEVENT
BEGIN:VEVENT
DTSTAMP:20260423T103412Z
UID:25aa708d-8ed0-46e7-9fe8-876f8d9ed1e0
DTSTART:20260514T173000
DTEND:20260514T183000
DESCRIPTION:
LOCATION:
SUMMARY:Pre-K program in Library
END:VEVENT
BEGIN:VEVENT
DTSTAMP:20260423T103412Z
UID:e8e49d2b-9001-4ed4-aa76-da554136e170
DTSTART;VALUE=DATE:20260515
DTEND;VALUE=DATE:20260516
DESCRIPTION:
LOCATION:
SUMMARY:Awards Day
END:VEVENT
BEGIN:VEVENT
DTSTAMP:20260423T103412Z
UID:4dee24aa-d3eb-4c40-9864-d738c914e3b2
DTSTART;VALUE=DATE:20260515
DTEND;VALUE=DATE:20260516
DESCRIPTION:
LOCATION:
SUMMARY:Field Day
END:VEVENT
BEGIN:VEVENT
DTSTAMP:20260423T103412Z
UID:a7a50500-31c2-47df-9f42-7a0ec1e110a2
DTSTART:20260515T075500
DTEND:20260515T082000
DESCRIPTION:
LOCATION:
SUMMARY:Snack  Shack 
END:VEVENT
BEGIN:VEVENT
DTSTAMP:20260423T103412Z
UID:50d1c433-1892-4b44-b7f2-b02cf646bd85
DTSTART:20260518T090000
DTEND:20260518T090000
DESCRIPTION:
LOCATION:
SUMMARY:Kinder Cafe
END:VEVENT
BEGIN:VEVENT
DTSTAMP:20260423T103412Z
UID:3bde6e8b-e797-42b5-9f10-c6bd1805018f
DTSTART:20260518T152500
DTEND:20260518T162500
DESCRIPTION:
LOCATION:
SUMMARY:Good News Club
END:VEVENT
BEGIN:VEVENT
DTSTAMP:20260423T103412Z
UID:388264e4-1b47-49fc-91f4-ee22b1994562
DTSTART;VALUE=DATE:20260519
DTEND;VALUE=DATE:20260520
DESCRIPTION:
LOCATION:
SUMMARY:Yearbook Signing Day
END:VEVENT
BEGIN:VEVENT
DTSTAMP:20260423T103412Z
UID:2079def3-46b8-4c2b-9963-230b7c019b3f
DTSTART;VALUE=DATE:20260520
DTEND;VALUE=DATE:20260521
DESCRIPTION:
LOCATION:
SUMMARY:Game Day - PBIS 
END:VEVENT
BEGIN:VEVENT
DTSTAMP:20260423T103412Z
UID:2c1773d7-c0fa-4e7a-85df-98c9418ae9ed
DTSTART;VALUE=DATE:20260521
DTEND;VALUE=DATE:20260523
DESCRIPTION:
LOCATION:
SUMMARY:60% Day
END:VEVENT
BEGIN:VEVENT
DTSTAMP:20260423T103412Z
UID:ed58212a-42f1-40a8-8f8e-b4df458397e3
DTSTART;VALUE=DATE:20260522
DTEND;VALUE=DATE:20260523
DESCRIPTION:
LOCATION:
SUMMARY:Students' Last Day
END:VEVENT
BEGIN:VEVENT
DTSTAMP:20260423T103412Z
UID:21853001-1a0b-490b-81df-171a810a52e6
DTSTART;VALUE=DATE:20260522
DTEND;VALUE=DATE:20260523
DESCRIPTION:
LOCATION:
SUMMARY:End of 4th nine weeks 
END:VEVENT
BEGIN:VEVENT
DTSTAMP:20260423T103412Z
UID:665468eb-bd0a-4c57-b60f-8b4c024faa92
DTSTART:20260522T082500
DTEND:20260522T152500
DESCRIPTION:
LOCATION:
SUMMARY:Students Last Day of School
END:VEVENT
BEGIN:VEVENT
DTSTAMP:20260423T103412Z
UID:8fe8cb5f-2953-45b6-8a83-da311af98dbb
DTSTART;VALUE=DATE:20260525
DTEND;VALUE=DATE:20260526
DESCRIPTION:
LOCATION:
SUMMARY:Memorial Day Holiday (All)
END:VEVENT
BEGIN:VEVENT
DTSTAMP:20260423T103412Z
UID:35f536e2-0b34-4495-9229-c395e33ee5d1
DTSTART;VALUE=DATE:20260525
DTEND;VALUE=DATE:20260526
DESCRIPTION:
LOCATION:
SUMMARY:Memorial Day Holiday
END:VEVENT
BEGIN:VEVENT
DTSTAMP:20260423T103412Z
UID:554144d5-76d2-4a38-a206-51d0c887498a
DTSTART;VALUE=DATE:20260527
DTEND;VALUE=DATE:20260528
DESCRIPTION:
LOCATION:
SUMMARY:Teachers' Last Day
END:VEVENT
BEGIN:VEVENT
DTSTAMP:20260423T103412Z
UID:aa38a7ee-3f3e-46c5-b133-865a24778015
DTSTART;VALUE=DATE:20260527
DTEND;VALUE=DATE:20260528
DESCRIPTION:
LOCATION:
SUMMARY:Teachers Last Day
END:VEVENT
BEGIN:VEVENT
DTSTAMP:20260423T103412Z
UID:d4aaf7f1-d77d-452d-9c8f-7da45e3e00cb
DTSTART;VALUE=DATE:20260728
DTEND;VALUE=DATE:20260729
DESCRIPTION:
LOCATION:
SUMMARY:Teachers' First Day
END:VEVENT
BEGIN:VEVENT
DTSTAMP:20260423T103412Z
UID:e3c98fd6-8c74-495e-9ccb-c3dba4f46d62
DTSTART;VALUE=DATE:20260803
DTEND;VALUE=DATE:20260804
DESCRIPTION:
LOCATION:
SUMMARY:Students First Day
END:VEVENT
BEGIN:VEVENT
DTSTAMP:20260423T103412Z
UID:c8be79a5-ae88-4d5f-ad45-30de4added19
DTSTART;VALUE=DATE:20260907
DTEND;VALUE=DATE:20260908
DESCRIPTION:
LOCATION:
SUMMARY:Labor Day Holiday (All)
END:VEVENT
BEGIN:VEVENT
DTSTAMP:20260423T103412Z
UID:06567144-2a16-498f-893f-2ae4bff7b6af
DTSTART;VALUE=DATE:20261005
DTEND;VALUE=DATE:20261010
DESCRIPTION:
LOCATION:
SUMMARY:Fall Break
END:VEVENT
BEGIN:VEVENT
DTSTAMP:20260423T103412Z
UID:0efbf642-cdf5-4f63-afd5-ce4530e097dd
DTSTART;VALUE=DATE:20261123
DTEND;VALUE=DATE:20261128
DESCRIPTION:
LOCATION:
SUMMARY:Thanksgiving Holidays (All)
END:VEVENT
BEGIN:VEVENT
DTSTAMP:20260423T103412Z
UID:e025e94c-12db-4f55-a49c-c5380b7143fe
DTSTART;VALUE=DATE:20261214
DTEND;VALUE=DATE:20270102
DESCRIPTION:
LOCATION:
SUMMARY:Christmas Break
END:VEVENT
BEGIN:VEVENT
DTSTAMP:20260423T103412Z
UID:a20b61d3-2ae5-4ae4-9593-42f17af127f0
DTSTART;VALUE=DATE:20261218
DTEND;VALUE=DATE:20261219
DESCRIPTION:
LOCATION:
SUMMARY:60% Day/Last Day of 1st Semester
END:VEVENT
BEGIN:VEVENT
DTSTAMP:20260423T103412Z
UID:e61ae855-d66f-42fd-ba3e-d74a1aee4f66
DTSTART;VALUE=DATE:20270104
DTEND;VALUE=DATE:20270105
DESCRIPTION:
LOCATION:
SUMMARY:Staff Development Day
END:VEVENT
BEGIN:VEVENT
DTSTAMP:20260423T103412Z
UID:12550646-b992-41f9-905a-eca7d58e06cb
DTSTART;VALUE=DATE:20270105
DTEND;VALUE=DATE:20270106
DESCRIPTION:
LOCATION:
SUMMARY:Staff Development Day
END:VEVENT
BEGIN:VEVENT
DTSTAMP:20260423T103412Z
UID:f070c01d-0b5d-4a0f-a42f-b3c68900bb7e
DTSTART;VALUE=DATE:20270106
DTEND;VALUE=DATE:20270107
DESCRIPTION:
LOCATION:
SUMMARY:Students' First Day Back
END:VEVENT
BEGIN:VEVENT
DTSTAMP:20260423T103412Z
UID:7f7a7b7d-1416-4b72-a2f2-cc8ec7876f0d
DTSTART;VALUE=DATE:20270118
DTEND;VALUE=DATE:20270119
DESCRIPTION:
LOCATION:
SUMMARY:Martin Luther King\, Jr. Holiday (All)
END:VEVENT
BEGIN:VEVENT
DTSTAMP:20260423T103412Z
UID:e3f740e1-22e1-4b89-b56c-a3aea6dab676
DTSTART;VALUE=DATE:20270215
DTEND;VALUE=DATE:20270216
DESCRIPTION:
LOCATION:
SUMMARY:President's Day Holiday
END:VEVENT
BEGIN:VEVENT
DTSTAMP:20260423T103412Z
UID:0e60ac3e-2e47-46e6-b316-4ee39fe19ad5
DTSTART;VALUE=DATE:20270226
DTEND;VALUE=DATE:20270227
DESCRIPTION:
LOCATION:
SUMMARY:Scholastic Bookfair Begins
END:VEVENT
BEGIN:VEVENT
DTSTAMP:20260423T103412Z
UID:7be74505-d26a-4f5e-8e8e-9373acf1d0d0
DTSTART;VALUE=DATE:20270301
DTEND;VALUE=DATE:20270306
DESCRIPTION:
LOCATION:
SUMMARY:Scholastic Bookfair 
END:VEVENT
BEGIN:VEVENT
DTSTAMP:20260423T103412Z
UID:3bfa1016-37cf-4c2b-bdbc-6b03aca257d7
DTSTART;VALUE=DATE:20270308
DTEND;VALUE=DATE:20270313
DESCRIPTION:
LOCATION:
SUMMARY:Spring Break (All)
END:VEVENT
BEGIN:VEVENT
DTSTAMP:20260423T103412Z
UID:f7febb22-333e-43e7-a889-d02c38cbd5f2
DTSTART;VALUE=DATE:20270326
DTEND;VALUE=DATE:20270327
DESCRIPTION:
LOCATION:
SUMMARY:Good Friday Holiday (All)
END:VEVENT
BEGIN:VEVENT
DTSTAMP:20260423T103412Z
UID:5d005c38-75b4-45be-ab4e-4c8a3f8a0ef0
DTSTART;VALUE=DATE:20270329
DTEND;VALUE=DATE:20270330
DESCRIPTION:
LOCATION:
SUMMARY:Easter Holiday (All)
END:VEVENT
BEGIN:VEVENT
DTSTAMP:20260423T103412Z
UID:9707ac66-fc7a-4079-9fe3-dbe41ec74629
DTSTART;VALUE=DATE:20270525
DTEND;VALUE=DATE:20270526
DESCRIPTION:
LOCATION:
SUMMARY:Students' Last Day
END:VEVENT
BEGIN:VEVENT
DTSTAMP:20260423T103412Z
UID:483a8e11-2ab9-4dd7-b47c-7be86d772a6e
DTSTART;VALUE=DATE:20270526
DTEND;VALUE=DATE:20270527
DESCRIPTION:
LOCATION:
SUMMARY:Teachers' Last Day
END:VEVENT
BEGIN:VEVENT
DTSTAMP:20260423T103412Z
UID:773ced16-2f3c-4fb2-8d98-4a4e48afc5fc
DTSTART;VALUE=DATE:20270531
DTEND;VALUE=DATE:20270601
DESCRIPTION:
LOCATION:
SUMMARY:Memorial Day Holiday (All)
END:VEVENT
END:VCALENDAR
