BEGIN:VCALENDAR
VERSION:2.0
PRODID:icalendar-ruby
CALSCALE:GREGORIAN
BEGIN:VTIMEZONE
TZID:America/Chicago
BEGIN:DAYLIGHT
DTSTART:20260308T030000
TZOFFSETFROM:-0600
TZOFFSETTO:-0500
RRULE:FREQ=YEARLY;BYDAY=2SU;BYMONTH=3
TZNAME:CDT
END:DAYLIGHT
BEGIN:STANDARD
DTSTART:20261101T010000
TZOFFSETFROM:-0500
TZOFFSETTO:-0600
RRULE:FREQ=YEARLY;BYDAY=1SU;BYMONTH=11
TZNAME:CST
END:STANDARD
END:VTIMEZONE
BEGIN:VEVENT
DTSTAMP:20260423T124419Z
UID:deefd097-e792-481b-92ae-8c34e7ff977c
DTSTART;VALUE=DATE:20260424
DTEND;VALUE=DATE:20260425
DESCRIPTION:
LOCATION:
SUMMARY:Human Anatomy Field Trip to UW-Stout
END:VEVENT
BEGIN:VEVENT
DTSTAMP:20260423T124419Z
UID:4469a4d3-c9eb-46ca-bf22-b1a41fb75f83
DTSTART:20260425T183000
DTEND:20260425T193000
DESCRIPTION:<p>SHS Grand March for Prom will take place at 6:30 PM. Doors o
 pen at 6:00 PM. Grand March will be held in the PAC.</p>
LOCATION:
SUMMARY:SHS Prom - Grand March
END:VEVENT
BEGIN:VEVENT
DTSTAMP:20260423T124419Z
UID:7063937e-1e84-4bde-9eca-1cbcefb22a4c
DTSTART:20260425T200000
DTEND:20260425T230000
DESCRIPTION:<p>Attendees must be an SHS student or have an approved guest f
 orm and have purchased a ticket by the ticket deadline (April 22nd).</p><p
 >Students must take the bus OR have an approved transportation form on fil
 e.</p>
LOCATION:
SUMMARY:SHS Prom - River Bend Event Center
END:VEVENT
BEGIN:VEVENT
DTSTAMP:20260423T124419Z
UID:620109a8-cab2-4e2e-81de-73e44f020f78
DTSTART;VALUE=DATE:20260429
DTEND;VALUE=DATE:20260430
DESCRIPTION:
LOCATION:
SUMMARY:Accounting & Business Field Trip to Target Field
END:VEVENT
BEGIN:VEVENT
DTSTAMP:20260423T124419Z
UID:9584823f-d697-4827-9430-bb1c9460f145
DTSTART;VALUE=DATE:20260501
DTEND;VALUE=DATE:20260502
DESCRIPTION:
LOCATION:
SUMMARY:Professional Learning (No Students)
END:VEVENT
BEGIN:VEVENT
DTSTAMP:20260423T124419Z
UID:72a93c53-ae9e-40be-bb3b-ee79bb23a121
DTSTART:20260507T105500
DTEND:20260507T121000
DESCRIPTION:
LOCATION:Website-High School
SUMMARY:Army Lunch Visit 
END:VEVENT
BEGIN:VEVENT
DTSTAMP:20260423T124419Z
UID:ab24dc83-b8ba-4750-8747-8767b961c2a6
DTSTART;VALUE=DATE:20260517
DTEND;VALUE=DATE:20260518
DESCRIPTION:
LOCATION:
SUMMARY:Graduation Ceremony
END:VEVENT
BEGIN:VEVENT
DTSTAMP:20260423T124419Z
UID:f8b6b5ac-acf6-4619-ab05-4cc2536b394d
DTSTART;VALUE=DATE:20260525
DTEND;VALUE=DATE:20260526
DESCRIPTION:
LOCATION:
SUMMARY:Memorial Day - No School
END:VEVENT
BEGIN:VEVENT
DTSTAMP:20260423T124419Z
UID:de4ba3ee-b7cf-4ce3-99df-89eff2033a9e
DTSTART;VALUE=DATE:20260603
DTEND;VALUE=DATE:20260604
DESCRIPTION:
LOCATION:
SUMMARY:Last Student Day
END:VEVENT
BEGIN:VEVENT
DTSTAMP:20260423T124419Z
UID:51b97af7-8000-4a64-9375-5f5dca1c3e33
DTSTART:20260604T105500
DTEND:20260604T121000
DESCRIPTION:
LOCATION:Website-High School
SUMMARY:Army Lunch Visit 
END:VEVENT
BEGIN:VEVENT
DTSTAMP:20260423T124419Z
UID:e9dfed54-109b-426f-b8ba-3fc18c099d9d
DTSTART;VALUE=DATE:20260608
DTEND;VALUE=DATE:20260613
DESCRIPTION:
LOCATION:
SUMMARY:Summer School
END:VEVENT
BEGIN:VEVENT
DTSTAMP:20260423T124419Z
UID:335ca2ec-c44e-44c1-84df-78741cf72bed
DTSTART;VALUE=DATE:20260615
DTEND;VALUE=DATE:20260620
DESCRIPTION:
LOCATION:
SUMMARY:Summer School
END:VEVENT
BEGIN:VEVENT
DTSTAMP:20260423T124419Z
UID:1cd71ef9-3a21-4598-b0fc-f035f079965c
DTSTART;VALUE=DATE:20260622
DTEND;VALUE=DATE:20260627
DESCRIPTION:
LOCATION:
SUMMARY:Summer School
END:VEVENT
BEGIN:VEVENT
DTSTAMP:20260423T124419Z
UID:37247578-47dc-46b3-9659-58082f338827
DTSTART;VALUE=DATE:20260706
DTEND;VALUE=DATE:20260711
DESCRIPTION:
LOCATION:
SUMMARY:Summer School
END:VEVENT
BEGIN:VEVENT
DTSTAMP:20260423T124419Z
UID:605bf8bf-842d-4969-a395-4563937642fd
DTSTART;VALUE=DATE:20260713
DTEND;VALUE=DATE:20260718
DESCRIPTION:
LOCATION:
SUMMARY:Summer School
END:VEVENT
END:VCALENDAR
