BEGIN:VCALENDAR
VERSION:2.0
PRODID:icalendar-ruby
CALSCALE:GREGORIAN
BEGIN:VTIMEZONE
TZID:America/Phoenix
BEGIN:STANDARD
DTSTART:19671029T010000
TZOFFSETFROM:-0600
TZOFFSETTO:-0700
TZNAME:MST
END:STANDARD
END:VTIMEZONE
BEGIN:VEVENT
DTSTAMP:20260421T114213Z
UID:f42e345c-d63e-49ac-b8df-b0d9806c7670
DTSTART:20260422T170000
DTEND:20260422T190000
DESCRIPTION:<html><head><meta http-equiv="Content-Type" content="text/html\
 ; charset=utf-8"></head><body><div class="elementToProof" style="direction
 :ltr\; text-align:left\; text-indent:0px\; font-family:Aptos\,Aptos_Embedd
 edFont\,Aptos_MSFontService\,Calibri\,Helvetica\,sans-serif\; font-size:12
 pt\; color:rgb(0\,0\,0)">You are invited to our annual <span style="color:
 rgb(145\,78\,222)"><a href="https://www.pxu.org/o/pusd-210/page/district-a
 rt-show" id="OWAbdd04021-f291-6dcd-c921-08063f72a75f" class="x_OWAAutoLink
 " title="https://www.pxu.org/o/pusd-210/page/district-art-show" data-outlo
 ok-id="efc76718-e535-4ca4-a5d0-3ebf4ea90d04" style="color:rgb(145\,78\,222
 )">District&nbsp\;Art&nbsp\;Show</a></span>&nbsp\;at<span style="color:rgb
 (145\,78\,222)"><a href="https://maps.app.goo.gl/fUS2Bon64sd4Yzwd8" id="OW
 Af8595964-8e54-be9e-46e4-1b57dd50c8d9" class="OWAAutoLink" title="https://
 maps.app.goo.gl/fUS2Bon64sd4Yzwd8" data-outlook-id="5ad307c3-c8c3-46b4-987
 3-5780a66eb2a5" style="color:rgb(145\,78\,222)">The Heard Museum</a></span
 >&nbsp\;on April 22nd\, 2026\, from 5:00 pm - 7:00 pm!&nbsp\; Winners will
  be selected during the day\, and those students will be recognized that e
 vening starting at 6:00 pm. We'd love to see you there to support all of o
 ur Student&nbsp\;Artists and Teachers in this wonderful display of creativ
 ity.</div><div class="elementToProof" style="direction:ltr\; text-align:le
 ft\; text-indent:0px\; font-family:Aptos\,Aptos_EmbeddedFont\,Aptos_MSFont
 Service\,Calibri\,Helvetica\,sans-serif\; font-size:12pt\; color:rgb(0\,0\
 ,0)"><br></div><div class="elementToProof" style="direction:ltr\; text-ali
 gn:left\; text-indent:0px\; font-family:Aptos\,Aptos_EmbeddedFont\,Aptos_M
 SFontService\,Calibri\,Helvetica\,sans-serif\; font-size:12pt\; color:rgb(
 0\,0\,0)">We look forward to seeing you there!&nbsp\;&nbsp\;</div><div sty
 le="font-family:Aptos\,Aptos_EmbeddedFont\,Aptos_MSFontService\,Calibri\,H
 elvetica\,sans-serif\; font-size:12pt\; color:rgb(0\,0\,0)"><br></div></bo
 dy></html>
LOCATION:Heard Museum\, 2301 N Central Ave\, Phoenix\, AZ\, 85004
SUMMARY:Student Art Show 2026
END:VEVENT
BEGIN:VEVENT
DTSTAMP:20260421T114213Z
UID:49f42aee-d7f3-41aa-b9be-6ba4bf035141
DTSTART:20260423T173000
DTEND:20260423T183000
DESCRIPTION:<html><head><meta http-equiv="Content-Type" content="text/html\
 ; charset=utf-8"></head><body><div class="elementToProof" style="text-alig
 n:left\; text-indent:0px\; margin:0in\; font-family:Aptos\,Aptos_EmbeddedF
 ont\,Aptos_MSFontService\,Calibri\,Helvetica\,sans-serif\; font-size:12pt\
 ; color:rgb(0\,0\,0)">Event: Scholarship Reception</div><div class="elemen
 tToProof" style="text-align:left\; text-indent:0px\; margin:0in\; font-fam
 ily:Aptos\,Aptos_EmbeddedFont\,Aptos_MSFontService\,Calibri\,Helvetica\,sa
 ns-serif\; font-size:12pt\; color:rgb(0\,0\,0)">Organized by: Phoenix Unio
 n Foundation for Education (PUFE)</div><div style="font-family:Aptos\,Apto
 s_EmbeddedFont\,Aptos_MSFontService\,Calibri\,Helvetica\,sans-serif\; font
 -size:12pt\; color:rgb(0\,0\,0)"><br></div></body></html>
LOCATION:Trevor G. Browne High School\, 7402 W Catalina Dr\, Phoenix\, AZ\,
  85033
SUMMARY:PUFE Scholarship Reception
END:VEVENT
BEGIN:VEVENT
DTSTAMP:20260421T114213Z
UID:94b046dd-3eb8-49a5-b50c-dedcc70d8dd3
DTSTART:20260423T180000
DTEND:20260423T200000
DESCRIPTION:<html><head><meta http-equiv="Content-Type" content="text/html\
 ; charset=utf-8"></head><body><div class="elementToProof" style="text-alig
 n:left\; text-indent:0px\; margin:0in\; font-family:Aptos\,Aptos_EmbeddedF
 ont\,Aptos_MSFontService\,Calibri\,Helvetica\,sans-serif\; font-size:12pt\
 ; color:rgb(0\,0\,0)">The Budget Advisory Committee Meeting will be held a
 t 6:00 pm at: Phoenix Union High School District\, Center for Educational 
 Excellence. In the Lower Level\, Governing Board Room. 4502 N. Central Ave
 nue Phoenix\, AZ&nbsp\; 85012</div><div class="elementToProof" style="text
 -align:left\; text-indent:0px\; margin:0in\; font-family:Aptos\,Aptos_Embe
 ddedFont\,Aptos_MSFontService\,Calibri\,Helvetica\,sans-serif\; font-size:
 12pt\; color:rgb(0\,0\,0)"><br></div><div class="elementToProof" style="te
 xt-align:left\; text-indent:0px\; margin:0in\; font-family:Aptos\,Aptos_Em
 beddedFont\,Aptos_MSFontService\,Calibri\,Helvetica\,sans-serif\; font-siz
 e:12pt\; color:rgb(0\,0\,0)">Details below:</div><div class="elementToProo
 f" style="direction:ltr\; text-align:left\; text-indent:0px\; margin:0in\;
  font-family:Aptos\,Aptos_EmbeddedFont\,Aptos_MSFontService\,Calibri\,Helv
 etica\,sans-serif\; font-size:12pt\; color:rgb(0\,0\,0)"><i>Phoenix Union 
 Families! Please mark your calendar and join us for a budget town hall mee
 ting on Thursday\, April 23\, at 6:00 pm. The event will take place at the
  Center for Educational Excellence located at 4502 N. Central Ave.\, in Ph
 oenix. Parking instructions are attached to the message.</i></div><div cla
 ss="elementToProof" style="direction:ltr\; text-align:left\; text-indent:0
 px\; font-family:Aptos\,Aptos_EmbeddedFont\,Aptos_MSFontService\,Calibri\,
 Helvetica\,sans-serif\; font-size:12pt\; color:rgb(0\,0\,0)"><i><br></i></
 div><div class="elementToProof" style="direction:ltr\; text-align:left\; t
 ext-indent:0px\; font-family:Aptos\,Aptos_EmbeddedFont\,Aptos_MSFontServic
 e\,Calibri\,Helvetica\,sans-serif\; font-size:12pt\; color:rgb(0\,0\,0)"><
 i>At the town hall we will discuss the state of the district budget\, and 
 get feedback from our families\, staff\, students\, and community about wh
 at you believe the priorities should be for our district moving forward. C
 ome and have your voice heard! Light refreshments will be available for th
 ose in attendance and young children are welcome. We will have interpretin
 g services available for multiple languages\, and you will leave with a be
 tter understanding of how the district spends its resources and ways we ca
 n partner to ensure you are involved with how priorities are set.</i></div
 ><div class="elementToProof" style="direction:ltr\; text-align:left\; text
 -indent:0px\; font-family:Aptos\,Aptos_EmbeddedFont\,Aptos_MSFontService\,
 Calibri\,Helvetica\,sans-serif\; font-size:12pt\; color:rgb(0\,0\,0)"><i><
 br></i></div><div class="elementToProof" style="direction:ltr\; text-align
 :left\; text-indent:0px\; font-family:Aptos\,Aptos_EmbeddedFont\,Aptos_MSF
 ontService\,Calibri\,Helvetica\,sans-serif\; font-size:12pt\; color:rgb(0\
 ,0\,0)"><i>If you are interested in attending\, please visit </i><span sty
 le="color:rgb(0\,134\,240)"><a href="http://www.pxu.org/budgettownhall" id
 ="OWA36e79b87-a9ad-163c-a252-6a40a8bd75d9" class="OWAAutoLink" title="http
 ://www.pxu.org/budgettownhall" data-ogsc="" data-outlook-id="c84e630c-008f
 -4fe6-aeae-4c492c1353b7" style="color:rgb(0\,134\,240)"><i>www.PXU.org/bud
 gettownhall</i></a></span><i>&nbsp\;to rsvp. Attendance does not require a
 n RSVP\, but it helps with planning refreshments and other amenities for t
 hose who attend.</i></div><div class="elementToProof" style="direction:ltr
 \; text-align:left\; text-indent:0px\; font-family:Aptos\,Aptos_EmbeddedFo
 nt\,Aptos_MSFontService\,Calibri\,Helvetica\,sans-serif\; font-size:12pt\;
  color:rgb(0\,0\,0)"><i><br></i></div><div class="elementToProof" style="t
 ext-align:left\; text-indent:0px\; font-family:Aptos\,Aptos_EmbeddedFont\,
 Aptos_MSFontService\,Calibri\,Helvetica\,sans-serif\; font-size:12pt\; col
 or:rgb(0\,0\,0)"><i>We cannot wait to see you on April 23rd!</i></div><div
  class="elementToProof" style="text-align:left\; text-indent:0px\; margin:
 0in\; font-family:Aptos\,Aptos_EmbeddedFont\,Aptos_MSFontService\,Calibri\
 ,Helvetica\,sans-serif\; font-size:12pt\; color:rgb(0\,0\,0)"><br></div><d
 iv class="elementToProof" style="text-align:left\; text-indent:0px\; margi
 n:0in\; font-family:Aptos\,Aptos_EmbeddedFont\,Aptos_MSFontService\,Calibr
 i\,Helvetica\,sans-serif\; font-size:12pt\; color:rgb(0\,0\,0)">&nbsp\;Par
 king Map: <span style="font-weight:600"><a href="https://aptg.co/mN_vXP" i
 d="OWAa6430874-79c7-311a-14d9-03d158d779ac" class="OWAAutoLink" style="col
 or:rgb(40\,85\,156)\; text-align:left"><u>https://aptg.co/mN_vXP</u></a></
 span></div><div style="font-family:Aptos\,Aptos_EmbeddedFont\,Aptos_MSFont
 Service\,Calibri\,Helvetica\,sans-serif\; font-size:12pt\; color:rgb(0\,0\
 ,0)"><br></div></body></html>
LOCATION:4502 N Central Ave\, 4502 N Central Ave\, Phoenix\, Arizona\, 8501
 2
SUMMARY:PXU Budget Town Hall
END:VEVENT
BEGIN:VEVENT
DTSTAMP:20260421T114213Z
UID:1dacae78-2daf-4df3-ba95-07677e4900a8
DTSTART;VALUE=DATE:20260424
DTEND;VALUE=DATE:20260425
DESCRIPTION:
LOCATION:
SUMMARY:District L&D Day
END:VEVENT
BEGIN:VEVENT
DTSTAMP:20260421T114213Z
UID:860d32dc-89bc-439f-9165-acbc77c64613
DTSTART:20260505T180000
DTEND:20260505T193000
DESCRIPTION:
LOCATION:Central High School\, 4525 N Central Ave\, Phoenix\, AZ\, 85012
SUMMARY:NAEP Parent Meeting
END:VEVENT
BEGIN:VEVENT
DTSTAMP:20260421T114213Z
UID:b3be25a3-fa3b-41ff-a2e2-34dd5b2c1688
DTSTART;VALUE=DATE:20260507
DTEND;VALUE=DATE:20260508
DESCRIPTION:
LOCATION:
SUMMARY:PXU Governing Board Meeting 
END:VEVENT
BEGIN:VEVENT
DTSTAMP:20260421T114213Z
UID:d0e74f2b-9e42-47c5-a8f1-ea57e538373f
DTSTART:20260514T163000
DTEND:20260514T180000
DESCRIPTION:<html><head><meta http-equiv="Content-Type" content="text/html\
 ; charset=utf-8"></head><body><div class="elementToProof" style="font-fami
 ly:Aptos\,Aptos_EmbeddedFont\,Aptos_MSFontService\,Calibri\,Helvetica\,san
 s-serif\; font-size:12pt\; color:rgb(0\,0\,0)"><span class="elementToProof
 ">Meeting will be hosted at the Phoenix Union High School District Office 
 (CEE) in the Lower Level.&nbsp\;</span></div></body></html>
LOCATION:
SUMMARY:Budget Advisory Committee Meeting
END:VEVENT
BEGIN:VEVENT
DTSTAMP:20260421T114213Z
UID:a0ba6f10-c3ff-4554-bfae-e16238350795
DTSTART;VALUE=DATE:20260515
DTEND;VALUE=DATE:20260516
DESCRIPTION:
LOCATION:
SUMMARY:Senior Exams
END:VEVENT
BEGIN:VEVENT
DTSTAMP:20260421T114213Z
UID:7b4c0c0d-3c5c-4194-bcfc-b237c6b7beef
DTSTART;VALUE=DATE:20260519
DTEND;VALUE=DATE:20260520
DESCRIPTION:<html><head><meta http-equiv="Content-Type" content="text/html\
 ; charset=utf-8"></head><body><div class="elementToProof" style="font-fami
 ly:Aptos\,Aptos_EmbeddedFont\,Aptos_MSFontService\,Calibri\,Helvetica\,san
 s-serif\; font-size:12pt\; color:rgb(0\,0\,0)"><br></div></body></html>
LOCATION:Various Locations
SUMMARY:PXU Graduation Ceremonies Day 1 
END:VEVENT
BEGIN:VEVENT
DTSTAMP:20260421T114213Z
UID:9bae9049-7e86-4afb-b0d3-433403a4dc70
DTSTART;VALUE=DATE:20260519
DTEND;VALUE=DATE:20260521
DESCRIPTION:
LOCATION:
SUMMARY:Semester Exams
END:VEVENT
BEGIN:VEVENT
DTSTAMP:20260421T114213Z
UID:88627124-ce3a-4350-9627-15c775301c1c
DTSTART:20260519T143000
DTEND:20260519T153000
DESCRIPTION:<html><head><meta http-equiv="Content-Type" content="text/html\
 ; charset=utf-8"></head><body><div class="elementToProof" style="font-fami
 ly:Aptos\,Aptos_EmbeddedFont\,Aptos_MSFontService\,Calibri\,Helvetica\,san
 s-serif\; font-size:12pt\; color:rgb(0\,0\,0)"><br></div></body></html>
LOCATION:Arizona Veterans Memorial Coliseum\, 1826 W McDowell Rd\, Phoenix\
 , AZ\, 85007
SUMMARY:Alhambra High School Graduation Ceremony
END:VEVENT
BEGIN:VEVENT
DTSTAMP:20260421T114213Z
UID:e4e4c39e-31db-4d57-a0b8-3cb319a2d1e7
DTSTART;VALUE=DATE:20260520
DTEND;VALUE=DATE:20260521
DESCRIPTION:
LOCATION:Various Locations
SUMMARY:PXU Graduation Ceremonies Day 2
END:VEVENT
BEGIN:VEVENT
DTSTAMP:20260421T114213Z
UID:69355bdc-88fa-4b29-9d4c-d424e95b4143
DTSTART;VALUE=DATE:20260521
DTEND;VALUE=DATE:20260522
DESCRIPTION:
LOCATION:
SUMMARY:Duty Day (No Classes)
END:VEVENT
BEGIN:VEVENT
DTSTAMP:20260421T114213Z
UID:e948da3d-6028-4275-900f-67a3cf1743b5
DTSTART;VALUE=DATE:20260521
DTEND;VALUE=DATE:20260522
DESCRIPTION:
LOCATION:Arizona Veterans Memorial Coliseum\, 1826 W McDowell Rd\, Phoenix\
 , AZ\, 85007
SUMMARY:PXU Graduation Ceremonies Day 3
END:VEVENT
BEGIN:VEVENT
DTSTAMP:20260421T114213Z
UID:2945cda4-6a19-45e4-94cf-a9e529072a00
DTSTART;VALUE=DATE:20260522
DTEND;VALUE=DATE:20260523
DESCRIPTION:
LOCATION:
SUMMARY:End of Fourth Term
END:VEVENT
BEGIN:VEVENT
DTSTAMP:20260421T114213Z
UID:8e734c0f-29d2-4849-b5b5-84bff392b3e6
DTSTART;VALUE=DATE:20260522
DTEND;VALUE=DATE:20260523
DESCRIPTION:
LOCATION:
SUMMARY:Last Day of 9 Month Contracts
END:VEVENT
BEGIN:VEVENT
DTSTAMP:20260421T114213Z
UID:9ffb6053-5ffd-4482-8663-0add925f5548
DTSTART;VALUE=DATE:20260522
DTEND;VALUE=DATE:20260523
DESCRIPTION:
LOCATION:
SUMMARY:Report Preparation (No Classes/Duty Day)
END:VEVENT
BEGIN:VEVENT
DTSTAMP:20260421T114213Z
UID:ae11eca7-d3f5-45ea-ac93-8678b6998e4a
DTSTART;VALUE=DATE:20260525
DTEND;VALUE=DATE:20260526
DESCRIPTION:
LOCATION:
SUMMARY:Memorial Day
END:VEVENT
BEGIN:VEVENT
DTSTAMP:20260421T114213Z
UID:a60c6d91-7269-4fb3-ad80-6725bbd861b8
DTSTART;VALUE=DATE:20260604
DTEND;VALUE=DATE:20260605
DESCRIPTION:
LOCATION:
SUMMARY:PXU Governing Board Meeting
END:VEVENT
BEGIN:VEVENT
DTSTAMP:20260421T114213Z
UID:3911e79b-565d-4bf5-89c4-3acc49aa76a6
DTSTART;VALUE=DATE:20260616
DTEND;VALUE=DATE:20260617
DESCRIPTION:
LOCATION:
SUMMARY:PXU Governing Board Special Meetings & Budget
END:VEVENT
BEGIN:VEVENT
DTSTAMP:20260421T114213Z
UID:e6fa42f3-2232-49d1-a04a-0d59febfb88d
DTSTART:20260707T180000
DTEND:20260707T190000
DESCRIPTION:<html><head><meta http-equiv="Content-Type" content="text/html\
 ; charset=utf-8"></head><body><div class="elementToProof" style="font-fami
 ly:Aptos\,Aptos_EmbeddedFont\,Aptos_MSFontService\,Calibri\,Helvetica\,san
 s-serif\; font-size:12pt\; color:rgb(0\,0\,0)">Location: Central High Scho
 ol Auditorium</div><div class="elementToProof" style="font-family:Aptos\,A
 ptos_EmbeddedFont\,Aptos_MSFontService\,Calibri\,Helvetica\,sans-serif\; f
 ont-size:12pt\; color:rgb(0\,0\,0)">Student Check-in: 5:00pm</div><div cla
 ss="elementToProof" style="font-family:Aptos\,Aptos_EmbeddedFont\,Aptos_MS
 FontService\,Calibri\,Helvetica\,sans-serif\; font-size:12pt\; color:rgb(0
 \,0\,0)">Ceremony Begins: 6:00pm</div></body></html>
LOCATION:Central High School\, 4525 N Central Ave\, Phoenix\, AZ\, 85012
SUMMARY:PXU Summer Graduation 2026
END:VEVENT
BEGIN:VEVENT
DTSTAMP:20260421T114213Z
UID:568da0cb-cd94-4e2d-93a5-86d9e768dc7e
DTSTART;VALUE=DATE:20260717
DTEND;VALUE=DATE:20260718
DESCRIPTION:
LOCATION:
SUMMARY:PXU Governing Board Retreat 
END:VEVENT
BEGIN:VEVENT
DTSTAMP:20260421T114213Z
UID:88ad73bc-8947-4b0f-b0a4-e8c13a5852d7
DTSTART;VALUE=DATE:20260806
DTEND;VALUE=DATE:20260807
DESCRIPTION:
LOCATION:
SUMMARY:PXU Governing Board Meeting
END:VEVENT
BEGIN:VEVENT
DTSTAMP:20260421T114213Z
UID:fe018865-6ec2-4d24-b5dc-3c14b78b0ea6
DTSTART:20260903T080000
DTEND:20260903T083000
DESCRIPTION:
LOCATION:
SUMMARY:PXU Governing Board Meeting
END:VEVENT
BEGIN:VEVENT
DTSTAMP:20260421T114213Z
UID:20f58d21-2abc-4f3f-8ff1-301236f6a294
DTSTART;VALUE=DATE:20261001
DTEND;VALUE=DATE:20261002
DESCRIPTION:
LOCATION:
SUMMARY:PXU Governing Board Meeting 
END:VEVENT
BEGIN:VEVENT
DTSTAMP:20260421T114213Z
UID:a5e355a9-7db0-4c98-acad-96b5cd11c207
DTSTART;VALUE=DATE:20261016
DTEND;VALUE=DATE:20261017
DESCRIPTION:
LOCATION:
SUMMARY:PXU Governing Board Retreat 
END:VEVENT
BEGIN:VEVENT
DTSTAMP:20260421T114213Z
UID:454e2891-fe44-452f-985f-48109e4b4913
DTSTART;VALUE=DATE:20261105
DTEND;VALUE=DATE:20261106
DESCRIPTION:
LOCATION:
SUMMARY:PXU Governing Board Meeting
END:VEVENT
END:VCALENDAR
