BEGIN:VCALENDAR
VERSION:2.0
PRODID:icalendar-ruby
CALSCALE:GREGORIAN
BEGIN:VTIMEZONE
TZID:America/Chicago
BEGIN:DAYLIGHT
DTSTART:20260308T030000
TZOFFSETFROM:-0600
TZOFFSETTO:-0500
RRULE:FREQ=YEARLY;BYDAY=2SU;BYMONTH=3
TZNAME:CDT
END:DAYLIGHT
BEGIN:STANDARD
DTSTART:20261101T010000
TZOFFSETFROM:-0500
TZOFFSETTO:-0600
RRULE:FREQ=YEARLY;BYDAY=1SU;BYMONTH=11
TZNAME:CST
END:STANDARD
END:VTIMEZONE
BEGIN:VEVENT
DTSTAMP:20260424T094110Z
UID:207ca873-5deb-4904-a544-cba2a9047f7b
DTSTART;VALUE=DATE:20260427
DTEND;VALUE=DATE:20260428
DESCRIPTION:
LOCATION:
SUMMARY:School Board Regular Session
END:VEVENT
BEGIN:VEVENT
DTSTAMP:20260424T094110Z
UID:4250e9f1-6b8a-4623-9ae9-c7a7a503ba7f
DTSTART;VALUE=DATE:20260501
DTEND;VALUE=DATE:20260508
DESCRIPTION:
LOCATION:
SUMMARY:National Physical Education Week
END:VEVENT
BEGIN:VEVENT
DTSTAMP:20260424T094110Z
UID:9c39646c-2793-497c-bd89-2e165c6115ec
DTSTART;VALUE=DATE:20260501
DTEND;VALUE=DATE:20260502
DESCRIPTION:
LOCATION:
SUMMARY:Professional Learning (No Students)
END:VEVENT
BEGIN:VEVENT
DTSTAMP:20260424T094110Z
UID:0593ca86-e7c3-467d-af95-c6972f102506
DTSTART;VALUE=DATE:20260501
DTEND;VALUE=DATE:20260502
DESCRIPTION:
LOCATION:
SUMMARY:School Lunch Hero Day
END:VEVENT
BEGIN:VEVENT
DTSTAMP:20260424T094110Z
UID:d7e70248-a7ad-4e8b-8bbc-b40447183957
DTSTART;VALUE=DATE:20260501
DTEND;VALUE=DATE:20260502
DESCRIPTION:
LOCATION:
SUMMARY:School Principals Day
END:VEVENT
BEGIN:VEVENT
DTSTAMP:20260424T094110Z
UID:9bde325f-bfbc-45c3-856e-9c75ab0a6b3b
DTSTART;VALUE=DATE:20260504
DTEND;VALUE=DATE:20260509
DESCRIPTION:
LOCATION:
SUMMARY:National Teacher Appreciation Week
END:VEVENT
BEGIN:VEVENT
DTSTAMP:20260424T094110Z
UID:f10f236c-2cc9-42d6-896c-62de4566e34d
DTSTART;VALUE=DATE:20260504
DTEND;VALUE=DATE:20260505
DESCRIPTION:
LOCATION:
SUMMARY:School Board Work Session
END:VEVENT
BEGIN:VEVENT
DTSTAMP:20260424T094110Z
UID:cac18b20-e5f0-4b90-9dbf-9dab128a903d
DTSTART;VALUE=DATE:20260506
DTEND;VALUE=DATE:20260507
DESCRIPTION:
LOCATION:
SUMMARY:National School Nurse Day
END:VEVENT
BEGIN:VEVENT
DTSTAMP:20260424T094110Z
UID:2af49908-a3ad-44a3-889a-4516ec1583c1
DTSTART;VALUE=DATE:20260507
DTEND;VALUE=DATE:20260508
DESCRIPTION:
LOCATION:
SUMMARY:National Bike to School Day
END:VEVENT
BEGIN:VEVENT
DTSTAMP:20260424T094110Z
UID:ea09ce0b-e1e5-4401-8474-748a0397c71b
DTSTART;VALUE=DATE:20260517
DTEND;VALUE=DATE:20260518
DESCRIPTION:
LOCATION:
SUMMARY:Graduation Ceremony
END:VEVENT
BEGIN:VEVENT
DTSTAMP:20260424T094110Z
UID:8965af40-bbfe-4b43-8f63-e3f166e00856
DTSTART;VALUE=DATE:20260518
DTEND;VALUE=DATE:20260519
DESCRIPTION:
LOCATION:
SUMMARY:School Board Regular Session
END:VEVENT
BEGIN:VEVENT
DTSTAMP:20260424T094110Z
UID:c6b82e24-887a-4bb1-b372-49d4ec43d719
DTSTART:20260518T080000
DTEND:20260518T090000
DESCRIPTION:
LOCATION:
SUMMARY:National Speech Pathologist Day
END:VEVENT
BEGIN:VEVENT
DTSTAMP:20260424T094110Z
UID:30a8c271-340e-419d-b571-6ed40b992889
DTSTART;VALUE=DATE:20260525
DTEND;VALUE=DATE:20260526
DESCRIPTION:
LOCATION:
SUMMARY:Memorial Day - No School
END:VEVENT
BEGIN:VEVENT
DTSTAMP:20260424T094110Z
UID:5f1cc68a-38d1-460b-9d86-96f3b2ecb578
DTSTART;VALUE=DATE:20260603
DTEND;VALUE=DATE:20260604
DESCRIPTION:
LOCATION:
SUMMARY:Last Student Day
END:VEVENT
BEGIN:VEVENT
DTSTAMP:20260424T094110Z
UID:4ebf271d-d160-4a10-94d7-fe1175c5168a
DTSTART;VALUE=DATE:20260608
DTEND;VALUE=DATE:20260613
DESCRIPTION:
LOCATION:
SUMMARY:Summer School
END:VEVENT
BEGIN:VEVENT
DTSTAMP:20260424T094110Z
UID:8bed54bd-98d0-4526-b038-b04ef1cbb459
DTSTART;VALUE=DATE:20260608
DTEND;VALUE=DATE:20260609
DESCRIPTION:
LOCATION:
SUMMARY:School Board Work Session
END:VEVENT
BEGIN:VEVENT
DTSTAMP:20260424T094110Z
UID:60a6e42c-01f7-46de-9f6f-1d8964ac6889
DTSTART;VALUE=DATE:20260615
DTEND;VALUE=DATE:20260616
DESCRIPTION:
LOCATION:
SUMMARY:School Board Regular Session
END:VEVENT
BEGIN:VEVENT
DTSTAMP:20260424T094110Z
UID:02338071-f315-4797-a078-be522148d3bd
DTSTART;VALUE=DATE:20260615
DTEND;VALUE=DATE:20260620
DESCRIPTION:
LOCATION:
SUMMARY:Summer School
END:VEVENT
BEGIN:VEVENT
DTSTAMP:20260424T094110Z
UID:04fb0a49-d6fb-4939-8d9c-9c9467ed2fcb
DTSTART;VALUE=DATE:20260619
DTEND;VALUE=DATE:20260620
DESCRIPTION:
LOCATION:
SUMMARY:Juneteenth
END:VEVENT
BEGIN:VEVENT
DTSTAMP:20260424T094110Z
UID:e11623c5-a5a6-4b26-9769-a077b5ce9a4c
DTSTART;VALUE=DATE:20260622
DTEND;VALUE=DATE:20260627
DESCRIPTION:
LOCATION:
SUMMARY:Summer School
END:VEVENT
BEGIN:VEVENT
DTSTAMP:20260424T094110Z
UID:2a5b9e3b-66fd-4aef-b059-7f6e03f725c1
DTSTART;VALUE=DATE:20260704
DTEND;VALUE=DATE:20260705
DESCRIPTION:
LOCATION:
SUMMARY:Independence Day
END:VEVENT
BEGIN:VEVENT
DTSTAMP:20260424T094110Z
UID:af4e1f57-56bf-495c-87c1-96048465e12a
DTSTART;VALUE=DATE:20260706
DTEND;VALUE=DATE:20260711
DESCRIPTION:
LOCATION:
SUMMARY:Summer School
END:VEVENT
BEGIN:VEVENT
DTSTAMP:20260424T094110Z
UID:a5ef2f43-1868-4e85-82b2-2dd6c5036e57
DTSTART;VALUE=DATE:20260713
DTEND;VALUE=DATE:20260718
DESCRIPTION:
LOCATION:
SUMMARY:Summer School
END:VEVENT
BEGIN:VEVENT
DTSTAMP:20260424T094110Z
UID:845f8621-8a4d-41c6-a93a-2fed643e27f0
DTSTART;VALUE=DATE:20260820
DTEND;VALUE=DATE:20260821
DESCRIPTION:
LOCATION:
SUMMARY:Open House
END:VEVENT
BEGIN:VEVENT
DTSTAMP:20260424T094110Z
UID:aae3e82a-3ebb-4e7b-acee-20c6047fcaee
DTSTART;VALUE=DATE:20260821
DTEND;VALUE=DATE:20260822
DESCRIPTION:
LOCATION:
SUMMARY:No School
END:VEVENT
BEGIN:VEVENT
DTSTAMP:20260424T094110Z
UID:2cc50a69-ea00-4f58-afd6-ee99a986e0a1
DTSTART;VALUE=DATE:20260824
DTEND;VALUE=DATE:20260825
DESCRIPTION:
LOCATION:
SUMMARY:No School
END:VEVENT
BEGIN:VEVENT
DTSTAMP:20260424T094110Z
UID:0c2e3d89-4674-4835-b0f4-ba8d706ac01c
DTSTART;VALUE=DATE:20260825
DTEND;VALUE=DATE:20260826
DESCRIPTION:
LOCATION:
SUMMARY:Only EC/JK\, K\, 5th & 9th Grade Students Report
END:VEVENT
BEGIN:VEVENT
DTSTAMP:20260424T094110Z
UID:d324a9ce-5c44-436c-a52b-c8a43759a6e8
DTSTART;VALUE=DATE:20260826
DTEND;VALUE=DATE:20260827
DESCRIPTION:
LOCATION:
SUMMARY:All Students Report
END:VEVENT
BEGIN:VEVENT
DTSTAMP:20260424T094110Z
UID:00c8bf68-f8cd-4995-8c38-29c58b216395
DTSTART;VALUE=DATE:20260827
DTEND;VALUE=DATE:20260828
DESCRIPTION:
LOCATION:
SUMMARY:All Students Report
END:VEVENT
BEGIN:VEVENT
DTSTAMP:20260424T094110Z
UID:d2dbd1a4-569b-401b-ae81-636c0111f6b1
DTSTART;VALUE=DATE:20260828
DTEND;VALUE=DATE:20260829
DESCRIPTION:
LOCATION:
SUMMARY:No School
END:VEVENT
BEGIN:VEVENT
DTSTAMP:20260424T094110Z
UID:a2cb1db9-5b52-4490-8b13-024c9a6315f4
DTSTART;VALUE=DATE:20260831
DTEND;VALUE=DATE:20260901
DESCRIPTION:
LOCATION:
SUMMARY:Professional Learning Day (No Students)
END:VEVENT
BEGIN:VEVENT
DTSTAMP:20260424T094110Z
UID:6d24bb9b-49c8-4f2d-a846-1bad548b8975
DTSTART;VALUE=DATE:20260901
DTEND;VALUE=DATE:20260902
DESCRIPTION:
LOCATION:
SUMMARY:First Official Student Day
END:VEVENT
BEGIN:VEVENT
DTSTAMP:20260424T094110Z
UID:4e9e2648-88b0-43a6-9980-ff41625c3fff
DTSTART;VALUE=DATE:20260907
DTEND;VALUE=DATE:20260908
DESCRIPTION:
LOCATION:
SUMMARY:Labor Day - No School
END:VEVENT
BEGIN:VEVENT
DTSTAMP:20260424T094110Z
UID:22461c49-730f-4efe-ac57-c0015bd3b51e
DTSTART;VALUE=DATE:20260925
DTEND;VALUE=DATE:20260926
DESCRIPTION:
LOCATION:
SUMMARY:Homecoming - Go Spartans!
END:VEVENT
BEGIN:VEVENT
DTSTAMP:20260424T094110Z
UID:a4ecfc16-39c5-4dc7-9ce4-5353b8f2c612
DTSTART;VALUE=DATE:20260928
DTEND;VALUE=DATE:20260929
DESCRIPTION:
LOCATION:
SUMMARY:Professional Learning Day (No Students)
END:VEVENT
BEGIN:VEVENT
DTSTAMP:20260424T094110Z
UID:e1645294-45c2-43f4-8027-897bdf1870cb
DTSTART;VALUE=DATE:20261016
DTEND;VALUE=DATE:20261017
DESCRIPTION:
LOCATION:
SUMMARY:No School
END:VEVENT
BEGIN:VEVENT
DTSTAMP:20260424T094110Z
UID:8bb06ea8-307b-4ba4-ae4e-1f6e5fa1cbca
DTSTART;VALUE=DATE:20261125
DTEND;VALUE=DATE:20261128
DESCRIPTION:
LOCATION:
SUMMARY:Thanksgiving - No School
END:VEVENT
BEGIN:VEVENT
DTSTAMP:20260424T094110Z
UID:7c033c1a-0ff2-42bb-9ecf-ea16902f8e6c
DTSTART;VALUE=DATE:20261130
DTEND;VALUE=DATE:20261201
DESCRIPTION:
LOCATION:
SUMMARY:Professional Learning Day (No Students)
END:VEVENT
BEGIN:VEVENT
DTSTAMP:20260424T094110Z
UID:f91735a8-a21a-4be4-9098-cdc6ef7debb3
DTSTART;VALUE=DATE:20261223
DTEND;VALUE=DATE:20270102
DESCRIPTION:
LOCATION:
SUMMARY:Winter Break - No School
END:VEVENT
BEGIN:VEVENT
DTSTAMP:20260424T094110Z
UID:01b18fdd-5ecc-49d9-99d7-ddc53469ba98
DTSTART;VALUE=DATE:20270118
DTEND;VALUE=DATE:20270119
DESCRIPTION:
LOCATION:
SUMMARY:Professional Learning Day (No Students)
END:VEVENT
BEGIN:VEVENT
DTSTAMP:20260424T094110Z
UID:217f207a-bc9d-4410-ba24-6d0876be24c0
DTSTART;VALUE=DATE:20270212
DTEND;VALUE=DATE:20270213
DESCRIPTION:
LOCATION:
SUMMARY:Professional Learning Day (No Students)
END:VEVENT
BEGIN:VEVENT
DTSTAMP:20260424T094110Z
UID:bb9cb0c4-979a-41af-80ef-aae4344ea6e0
DTSTART;VALUE=DATE:20270305
DTEND;VALUE=DATE:20270306
DESCRIPTION:
LOCATION:
SUMMARY:Professional Learning Day (No Students)
END:VEVENT
BEGIN:VEVENT
DTSTAMP:20260424T094110Z
UID:2df51f99-77fd-462f-b5e5-08ae8e131f0c
DTSTART;VALUE=DATE:20270308
DTEND;VALUE=DATE:20270313
DESCRIPTION:
LOCATION:
SUMMARY:Spring Break - No School
END:VEVENT
BEGIN:VEVENT
DTSTAMP:20260424T094110Z
UID:fa3151e9-31e1-4a48-b5e2-8b0301983a16
DTSTART;VALUE=DATE:20270326
DTEND;VALUE=DATE:20270327
DESCRIPTION:
LOCATION:
SUMMARY:No School
END:VEVENT
BEGIN:VEVENT
DTSTAMP:20260424T094110Z
UID:c6c3c8ac-b4fb-478d-8f87-b8f3e83f0a94
DTSTART;VALUE=DATE:20270416
DTEND;VALUE=DATE:20270417
DESCRIPTION:
LOCATION:
SUMMARY:Professional Learning Day (No Students)
END:VEVENT
BEGIN:VEVENT
DTSTAMP:20260424T094110Z
UID:4e14e1de-5113-4fde-a2ae-f5456b79316f
DTSTART;VALUE=DATE:20270510
DTEND;VALUE=DATE:20270511
DESCRIPTION:
LOCATION:
SUMMARY:Professional Learning Day (No Students)
END:VEVENT
BEGIN:VEVENT
DTSTAMP:20260424T094110Z
UID:226159b3-87cb-489b-9f25-83cb1c0ceebe
DTSTART;VALUE=DATE:20270528
DTEND;VALUE=DATE:20270529
DESCRIPTION:
LOCATION:
SUMMARY:Last Student Day
END:VEVENT
BEGIN:VEVENT
DTSTAMP:20260424T094110Z
UID:d1878e7d-1964-4911-9f67-0ad72d09af4e
DTSTART;VALUE=DATE:20270531
DTEND;VALUE=DATE:20270601
DESCRIPTION:
LOCATION:
SUMMARY:Memorial Day
END:VEVENT
BEGIN:VEVENT
DTSTAMP:20260424T094110Z
UID:4f2b7c6b-4f2a-457f-86ac-b133de14fe72
DTSTART;VALUE=DATE:20270607
DTEND;VALUE=DATE:20270612
DESCRIPTION:
LOCATION:
SUMMARY:First Week of Summer School Session 1
END:VEVENT
BEGIN:VEVENT
DTSTAMP:20260424T094110Z
UID:74c0f80c-55e9-470e-ab6e-ab7ffd71a5ea
DTSTART;VALUE=DATE:20270614
DTEND;VALUE=DATE:20270619
DESCRIPTION:
LOCATION:
SUMMARY:Summer School
END:VEVENT
BEGIN:VEVENT
DTSTAMP:20260424T094110Z
UID:b2a47cf1-b3c4-4362-897e-617dcf7dece5
DTSTART;VALUE=DATE:20270621
DTEND;VALUE=DATE:20270626
DESCRIPTION:
LOCATION:
SUMMARY:Last Week of Summer Session 1
END:VEVENT
BEGIN:VEVENT
DTSTAMP:20260424T094110Z
UID:1478c2f8-7182-4626-9dd5-9d74f08abcde
DTSTART;VALUE=DATE:20270628
DTEND;VALUE=DATE:20270701
DESCRIPTION:
LOCATION:
SUMMARY:Summer School Session 2 Begins
END:VEVENT
BEGIN:VEVENT
DTSTAMP:20260424T094110Z
UID:63967c00-6765-4505-a454-142867953fb6
DTSTART;VALUE=DATE:20270701
DTEND;VALUE=DATE:20270707
DESCRIPTION:
LOCATION:
SUMMARY:No Summer School July 1-6
END:VEVENT
BEGIN:VEVENT
DTSTAMP:20260424T094110Z
UID:aca2ecec-49fa-43cf-a2c1-dd758e3a8efc
DTSTART;VALUE=DATE:20270707
DTEND;VALUE=DATE:20270710
DESCRIPTION:
LOCATION:
SUMMARY:Summer School
END:VEVENT
BEGIN:VEVENT
DTSTAMP:20260424T094110Z
UID:3044a6e2-bab1-4a90-9d94-9cc7b3e8f365
DTSTART;VALUE=DATE:20270712
DTEND;VALUE=DATE:20270717
DESCRIPTION:
LOCATION:
SUMMARY:Last Week of Summer School Session 2
END:VEVENT
END:VCALENDAR
