BEGIN:VCALENDAR
VERSION:2.0
PRODID:icalendar-ruby
CALSCALE:GREGORIAN
BEGIN:VTIMEZONE
TZID:America/Chicago
BEGIN:DAYLIGHT
DTSTART:20260308T030000
TZOFFSETFROM:-0600
TZOFFSETTO:-0500
RRULE:FREQ=YEARLY;BYDAY=2SU;BYMONTH=3
TZNAME:CDT
END:DAYLIGHT
BEGIN:STANDARD
DTSTART:20261101T010000
TZOFFSETFROM:-0500
TZOFFSETTO:-0600
RRULE:FREQ=YEARLY;BYDAY=1SU;BYMONTH=11
TZNAME:CST
END:STANDARD
END:VTIMEZONE
BEGIN:VEVENT
DTSTAMP:20260423T054018Z
UID:f1215d34-e2c7-44ce-802b-f7065fc2c8e6
DTSTART:20260501T190000
DTEND:20260501T213000
DESCRIPTION:
LOCATION:
SUMMARY:Mamma Mia! Performance
END:VEVENT
BEGIN:VEVENT
DTSTAMP:20260423T054018Z
UID:c2794c25-c73d-4795-8919-598206188214
DTSTART:20260502T140000
DTEND:20260502T163000
DESCRIPTION:
LOCATION:
SUMMARY:Mamma Mia! Performance
END:VEVENT
BEGIN:VEVENT
DTSTAMP:20260423T054018Z
UID:2d79a038-e6eb-43d2-a123-1e7a483fea71
DTSTART:20260502T190000
DTEND:20260502T213000
DESCRIPTION:
LOCATION:
SUMMARY:Mamma Mia! Performance
END:VEVENT
BEGIN:VEVENT
DTSTAMP:20260423T054018Z
UID:322b2a75-3cf5-4068-905d-bce819041138
DTSTART:20260503T140000
DTEND:20260503T163000
DESCRIPTION:
LOCATION:
SUMMARY:Mamma Mia! Peformance
END:VEVENT
BEGIN:VEVENT
DTSTAMP:20260423T054018Z
UID:cb73b75a-1006-4913-ac75-253267103b6c
DTSTART;VALUE=DATE:20260515
DTEND;VALUE=DATE:20260516
DESCRIPTION:
LOCATION:
SUMMARY:No school K-12/Contingent Weather Day (Professional Learning Day)
END:VEVENT
BEGIN:VEVENT
DTSTAMP:20260423T054018Z
UID:e30360d7-c942-4900-8976-e6727e0fc38c
DTSTART;VALUE=DATE:20260515
DTEND;VALUE=DATE:20260516
DESCRIPTION:
LOCATION:
SUMMARY:No school K-12/Contingent Weather Day (Professional Learning Day)
END:VEVENT
BEGIN:VEVENT
DTSTAMP:20260423T054018Z
UID:efe22e67-c086-4f99-908e-8f55f85641d8
DTSTART;VALUE=DATE:20260516
DTEND;VALUE=DATE:20260517
DESCRIPTION:
LOCATION:
SUMMARY:Prom
END:VEVENT
BEGIN:VEVENT
DTSTAMP:20260423T054018Z
UID:ef30b5b1-399f-4fe5-8af0-3aff97929452
DTSTART;VALUE=DATE:20260522
DTEND;VALUE=DATE:20260526
DESCRIPTION:
LOCATION:
SUMMARY:Rafting Trip
END:VEVENT
BEGIN:VEVENT
DTSTAMP:20260423T054018Z
UID:f5e29262-0f07-445b-8af8-40d3e1221b4d
DTSTART;VALUE=DATE:20260525
DTEND;VALUE=DATE:20260526
DESCRIPTION:
LOCATION:
SUMMARY:No school K-12 (Memorial Day)
END:VEVENT
BEGIN:VEVENT
DTSTAMP:20260423T054018Z
UID:ed17b957-2c8d-48fa-90e7-6901ef4ac1a5
DTSTART;VALUE=DATE:20260525
DTEND;VALUE=DATE:20260526
DESCRIPTION:
LOCATION:
SUMMARY:No school K-12 (Memorial Day)
END:VEVENT
BEGIN:VEVENT
DTSTAMP:20260423T054018Z
UID:c87c2e80-d907-477a-bb4b-89f52e47fd2c
DTSTART:20260528T180000
DTEND:20260528T200000
DESCRIPTION:
LOCATION:
SUMMARY:ROPE Night
END:VEVENT
BEGIN:VEVENT
DTSTAMP:20260423T054018Z
UID:21f84bba-31f9-464f-beb2-d2292cc1cc5b
DTSTART;VALUE=DATE:20260529
DTEND;VALUE=DATE:20260530
DESCRIPTION:
LOCATION:
SUMMARY:Springing Walden
END:VEVENT
BEGIN:VEVENT
DTSTAMP:20260423T054018Z
UID:4df73341-8cf1-47b5-b943-44a331d4c8af
DTSTART:20260602T104500
DTEND:20260602T112500
DESCRIPTION:
LOCATION:
SUMMARY:Senior Signing Day
END:VEVENT
BEGIN:VEVENT
DTSTAMP:20260423T054018Z
UID:304417f7-f846-4106-8a59-d14c1711a50e
DTSTART:20260604T180000
DTEND:20260604T200000
DESCRIPTION:
LOCATION:
SUMMARY:Senior Graduation
END:VEVENT
BEGIN:VEVENT
DTSTAMP:20260423T054018Z
UID:4e845ddc-90fc-451f-a0f3-9e85df55dd65
DTSTART;VALUE=DATE:20260610
DTEND;VALUE=DATE:20260611
DESCRIPTION:
LOCATION:
SUMMARY:2 hour ER / PM Conferences
END:VEVENT
BEGIN:VEVENT
DTSTAMP:20260423T054018Z
UID:fc493d58-b524-42b6-a28d-299552f14324
DTSTART;VALUE=DATE:20260610
DTEND;VALUE=DATE:20260611
DESCRIPTION:
LOCATION:
SUMMARY:Last Day of School
END:VEVENT
BEGIN:VEVENT
DTSTAMP:20260423T054018Z
UID:f2dc731a-48cd-42ff-a135-ed8f5f073acc
DTSTART:20260610T110000
DTEND:20260610T120000
DESCRIPTION:
LOCATION:
SUMMARY:8th Grade Ceremony
END:VEVENT
BEGIN:VEVENT
DTSTAMP:20260423T054018Z
UID:5c48dfb8-a191-4a92-a33e-64aaff269dc1
DTSTART:20260610T180000
DTEND:20260610T200000
DESCRIPTION:
LOCATION:
SUMMARY:8th Grade Dance
END:VEVENT
BEGIN:VEVENT
DTSTAMP:20260423T054018Z
UID:7939eae9-6df0-436a-a025-27f670e70085
DTSTART;VALUE=DATE:20260611
DTEND;VALUE=DATE:20260612
DESCRIPTION:  *May be adjusted due to inclement weather.
LOCATION:
SUMMARY:Last Day of School*
END:VEVENT
BEGIN:VEVENT
DTSTAMP:20260423T054018Z
UID:6a6cdc00-6a30-4748-afe7-c7a8a5acb71f
DTSTART;VALUE=DATE:20260611
DTEND;VALUE=DATE:20260612
DESCRIPTION:
LOCATION:
SUMMARY:No School / AM Conferences
END:VEVENT
BEGIN:VEVENT
DTSTAMP:20260423T054018Z
UID:31537726-f461-43db-9d78-18913a8bf829
DTSTART;VALUE=DATE:20260612
DTEND;VALUE=DATE:20260613
DESCRIPTION:  *May be adjusted due to inclement weather.
LOCATION:
SUMMARY:Records Day/Contingent Weather Day*
END:VEVENT
BEGIN:VEVENT
DTSTAMP:20260423T054018Z
UID:853343d4-6504-4690-9059-56350d1e75a0
DTSTART;VALUE=DATE:20260612
DTEND;VALUE=DATE:20260613
DESCRIPTION:  *May be adjusted due to inclement weather.
LOCATION:
SUMMARY:Records Day/Contingent Weather Day*
END:VEVENT
BEGIN:VEVENT
DTSTAMP:20260423T054018Z
UID:a16ebab4-f1ec-4090-a1b1-cb5d1efb1d7e
DTSTART:20260612T090000
DTEND:20260612T120000
DESCRIPTION:
LOCATION:
SUMMARY:New Student Orientation
END:VEVENT
END:VCALENDAR
