BEGIN:VCALENDAR
VERSION:2.0
PRODID:icalendar-ruby
CALSCALE:GREGORIAN
BEGIN:VTIMEZONE
TZID:America/Chicago
BEGIN:DAYLIGHT
DTSTART:20260308T030000
TZOFFSETFROM:-0600
TZOFFSETTO:-0500
RRULE:FREQ=YEARLY;BYDAY=2SU;BYMONTH=3
TZNAME:CDT
END:DAYLIGHT
BEGIN:STANDARD
DTSTART:20261101T010000
TZOFFSETFROM:-0500
TZOFFSETTO:-0600
RRULE:FREQ=YEARLY;BYDAY=1SU;BYMONTH=11
TZNAME:CST
END:STANDARD
END:VTIMEZONE
BEGIN:VEVENT
DTSTAMP:20260423T105157Z
UID:e032eba6-e203-483e-89af-024f10294a93
DTSTART:20260424T180000
DTEND:20260424T193000
DESCRIPTION:Dance will be held in the GYM<br><br><b>Tickets are $2 and will
  be available through April 21 OR until they sell out\, whichever comes fi
 rst. T</b><b>ickets can be purchased online at <a href="https://gilmorefi
 neartspta.givebacks.com/shop" target="_blank">https://gilmorefineartspta.<
 wbr />givebacks.com/shop</a>. </b><br><b><br></b><br><b>Concessions will 
 be available for purchase. Mr. Sturycz will be our DJ. Students must be ac
 companied by their adult for the duration of the event. </b><b></b>
LOCATION:Gilmore Fine Arts K-8 School\, 2330 Northwestern Ave\, Racine\, WI
  53404\, USA
SUMMARY:Groovin with My Grownups  4K - 5 grade Dance
END:VEVENT
BEGIN:VEVENT
DTSTAMP:20260423T105157Z
UID:7a444cd3-5b78-4713-92b9-4d8b68c2abb4
DTSTART:20260430T113000
DTEND:20260430T143000
DESCRIPTION:
LOCATION:RAM's Charles A. Wustum Museum of Fine Arts\, 2519 Northwestern Av
 e\, Racine\, WI 53404\, USA
SUMMARY:5th Grade Huber FT at RAM
END:VEVENT
BEGIN:VEVENT
DTSTAMP:20260423T105157Z
UID:bf9458f5-de3a-4bbb-b27f-ec6aba02371c
DTSTART:20260505T120000
DTEND:20260505T123000
DESCRIPTION:
LOCATION:
SUMMARY:STUCO Meeting in Auditorium
END:VEVENT
BEGIN:VEVENT
DTSTAMP:20260423T105157Z
UID:07eae851-5edf-43a4-ac65-6d38169ab967
DTSTART:20260508T103000
DTEND:20260508T111500
DESCRIPTION:
LOCATION:Gilmore Fine Arts K-8 School\, 2330 Northwestern Ave\, Racine\, WI
  53404\, USA
SUMMARY:5th Grade Performance Group Drama
END:VEVENT
BEGIN:VEVENT
DTSTAMP:20260423T105157Z
UID:5e11034d-4016-47d3-9ef6-954fef1d6fa1
DTSTART:20260514T113000
DTEND:20260514T141500
DESCRIPTION:
LOCATION:RAM's Charles A. Wustum Museum of Fine Arts\, 2519 Northwestern Av
 e\, Racine\, WI 53404\, USA
SUMMARY:5th Grade walk to RAM - DeDecker & Lenart
END:VEVENT
BEGIN:VEVENT
DTSTAMP:20260423T105157Z
UID:e0edad09-d7f1-4389-8bdd-08f60af37f1d
DTSTART:20260514T171500
DTEND:20260514T180000
DESCRIPTION:May PTA meeting
LOCATION:in person: GFA library
SUMMARY:Gilmore Fine Arts PTA meeting
END:VEVENT
BEGIN:VEVENT
DTSTAMP:20260423T105157Z
UID:b30c2d18-b704-4be0-9acd-30881f2387ba
DTSTART;VALUE=DATE:20260515
DTEND;VALUE=DATE:20260516
DESCRIPTION:
LOCATION:
SUMMARY:No school K-12/Contingent Weather Day (Professional Learning Day)
END:VEVENT
BEGIN:VEVENT
DTSTAMP:20260423T105157Z
UID:4309ef7a-685b-42b1-b40e-0fdb2ae79b7f
DTSTART:20260522T094000
DTEND:20260522T102500
DESCRIPTION:
LOCATION:Gilmore Fine Arts K-8 School\, 2330 Northwestern Ave\, Racine\, WI
  53404\, USA
SUMMARY:3rd Grade Performance Group Drama Room
END:VEVENT
BEGIN:VEVENT
DTSTAMP:20260423T105157Z
UID:53177434-f598-489a-ba46-847d13f67a6d
DTSTART;VALUE=DATE:20260525
DTEND;VALUE=DATE:20260526
DESCRIPTION:
LOCATION:
SUMMARY:No school K-12 (Memorial Day)
END:VEVENT
BEGIN:VEVENT
DTSTAMP:20260423T105157Z
UID:25432508-1327-4392-b0f1-215e2ab1788b
DTSTART:20260603T130000
DTEND:20260603T150000
DESCRIPTION:
LOCATION:
SUMMARY:Color Run - wear white t-shirt
END:VEVENT
BEGIN:VEVENT
DTSTAMP:20260423T105157Z
UID:519aaaed-ea7a-4d2b-a827-f65c7fd6bfcb
DTSTART:20260610T140000
DTEND:20260610T153000
DESCRIPTION:Ceremony for all 5th grade students and their families
LOCATION:Gilmore Fine Arts K-8 School\, 2330 Northwestern Ave\, Racine\, WI
  53404\, USA
SUMMARY:5th Grade Ceremony in Auditorium
END:VEVENT
BEGIN:VEVENT
DTSTAMP:20260423T105157Z
UID:3c04dd98-2095-496f-93f9-8af0a5e67bcd
DTSTART;VALUE=DATE:20260611
DTEND;VALUE=DATE:20260612
DESCRIPTION:  *May be adjusted due to inclement weather.
LOCATION:
SUMMARY:Last Day of School*
END:VEVENT
BEGIN:VEVENT
DTSTAMP:20260423T105157Z
UID:b5e742d4-396c-4054-97cc-57e04ceeb7ad
DTSTART;VALUE=DATE:20260612
DTEND;VALUE=DATE:20260613
DESCRIPTION:  *May be adjusted due to inclement weather.
LOCATION:
SUMMARY:Records Day/Contingent Weather Day*
END:VEVENT
END:VCALENDAR
