BEGIN:VCALENDAR
VERSION:2.0
PRODID:icalendar-ruby
CALSCALE:GREGORIAN
BEGIN:VTIMEZONE
TZID:America/Chicago
BEGIN:DAYLIGHT
DTSTART:20260308T030000
TZOFFSETFROM:-0600
TZOFFSETTO:-0500
RRULE:FREQ=YEARLY;BYDAY=2SU;BYMONTH=3
TZNAME:CDT
END:DAYLIGHT
BEGIN:STANDARD
DTSTART:20261101T010000
TZOFFSETFROM:-0500
TZOFFSETTO:-0600
RRULE:FREQ=YEARLY;BYDAY=1SU;BYMONTH=11
TZNAME:CST
END:STANDARD
END:VTIMEZONE
BEGIN:VEVENT
DTSTAMP:20260422T233338Z
UID:cc8de5f5-5e9a-4db6-858f-4ed5c74345ce
DTSTART;VALUE=DATE:20260330
DTEND;VALUE=DATE:20260516
DESCRIPTION:
LOCATION:
SUMMARY:Summer School Registration
END:VEVENT
BEGIN:VEVENT
DTSTAMP:20260422T233338Z
UID:4c48ebf8-f8fe-4c5a-ae77-149bda9c831a
DTSTART:20260422T070000
DTEND:20260422T080500
DESCRIPTION:
LOCATION:
SUMMARY: Tommy Tornado Club (Extended Learning)
END:VEVENT
BEGIN:VEVENT
DTSTAMP:20260422T233338Z
UID:1ae2d802-bad6-4ace-bcde-d05ee8345abd
DTSTART:20260422T090000
DTEND:20260422T104500
DESCRIPTION:
LOCATION:SC Johnson Golden Rondelle\, 1525 Howe St\, Racine\, WI 53403\, US
 A
SUMMARY:2nd Grade (Rivera & Monroy) Field Trip to the Golden Rondelle
END:VEVENT
BEGIN:VEVENT
DTSTAMP:20260422T233338Z
UID:b76e1671-998f-471b-b965-2a55f680b2e4
DTSTART:20260422T103000
DTEND:20260422T121500
DESCRIPTION:
LOCATION:SC Johnson Golden Rondelle\, 1525 Howe St\, Racine\, WI 53403\, US
 A
SUMMARY:3rd Grade (Escobedo) Field Trip to the Golden Rondelle
END:VEVENT
BEGIN:VEVENT
DTSTAMP:20260422T233338Z
UID:7f03c24a-0226-44ba-b480-d397b9eba918
DTSTART:20260422T153100
DTEND:20260422T170000
DESCRIPTION:
LOCATION:
SUMMARY:Grace Girls/Guys
END:VEVENT
BEGIN:VEVENT
DTSTAMP:20260422T233338Z
UID:483effd3-3067-4bbf-8098-28fe9a59e611
DTSTART:20260422T153100
DTEND:20260422T173500
DESCRIPTION:
LOCATION:
SUMMARY: Tommy Tornado Club (Extended Learning) & YLA
END:VEVENT
BEGIN:VEVENT
DTSTAMP:20260422T233338Z
UID:626cf83e-2e3b-4970-a904-fc346b661bcf
DTSTART:20260423T070000
DTEND:20260423T080500
DESCRIPTION:
LOCATION:
SUMMARY: Tommy Tornado Club (Extended Learning)
END:VEVENT
BEGIN:VEVENT
DTSTAMP:20260422T233338Z
UID:112e40ab-0e1e-4f92-a189-482e6f657484
DTSTART:20260423T153100
DTEND:20260423T173500
DESCRIPTION:
LOCATION:
SUMMARY: Tommy Tornado Club (Extended Learning) & YLA
END:VEVENT
BEGIN:VEVENT
DTSTAMP:20260422T233338Z
UID:3705ab23-7a4e-4f76-bb00-017f582f5c71
DTSTART:20260423T164500
DTEND:20260423T174500
DESCRIPTION:
LOCATION:Red Apple School\, 1012 Center St\, Racine\, WI 53402\, USA
SUMMARY:5th Grade Basketball Game vs. Red Apple
END:VEVENT
BEGIN:VEVENT
DTSTAMP:20260422T233338Z
UID:29e2985a-6ff4-424a-9da4-b21ea9820836
DTSTART:20260424T070000
DTEND:20260424T080500
DESCRIPTION:
LOCATION:
SUMMARY: Tommy Tornado Club (Extended Learning)
END:VEVENT
BEGIN:VEVENT
DTSTAMP:20260422T233338Z
UID:433cb284-5ec9-4869-8da5-cfaef0926008
DTSTART:20260427T070000
DTEND:20260427T080500
DESCRIPTION:
LOCATION:
SUMMARY: Tommy Tornado Club (Extended Learning)
END:VEVENT
BEGIN:VEVENT
DTSTAMP:20260422T233338Z
UID:fe4a39c1-cacb-4bd7-9ac7-bf92b3776b84
DTSTART:20260427T153100
DTEND:20260427T173500
DESCRIPTION:
LOCATION:
SUMMARY: Tommy Tornado Club (Extended Learning) & YLA
END:VEVENT
BEGIN:VEVENT
DTSTAMP:20260422T233338Z
UID:d67de938-3648-48ff-858f-b6703fa0fd2e
DTSTART:20260428T070000
DTEND:20260428T080500
DESCRIPTION:
LOCATION:
SUMMARY: Tommy Tornado Club (Extended Learning)
END:VEVENT
BEGIN:VEVENT
DTSTAMP:20260422T233338Z
UID:4b68e552-384c-4122-a439-fc0b92f305f6
DTSTART:20260428T153100
DTEND:20260428T173500
DESCRIPTION:
LOCATION:
SUMMARY: Tommy Tornado Club (Extended Learning) & YLA
END:VEVENT
BEGIN:VEVENT
DTSTAMP:20260422T233338Z
UID:02ae5470-0e29-4c85-9834-7936c436ac92
DTSTART:20260429T070000
DTEND:20260429T080500
DESCRIPTION:
LOCATION:
SUMMARY: Tommy Tornado Club (Extended Learning)
END:VEVENT
BEGIN:VEVENT
DTSTAMP:20260422T233338Z
UID:6b01c99a-49ff-4024-a3c2-73cbc640a520
DTSTART:20260429T153100
DTEND:20260429T170000
DESCRIPTION:
LOCATION:
SUMMARY:Grace Girls/Guys
END:VEVENT
BEGIN:VEVENT
DTSTAMP:20260422T233338Z
UID:0aaca2e2-9a3b-4c2f-94c2-076d635d9630
DTSTART:20260429T153100
DTEND:20260429T173500
DESCRIPTION:
LOCATION:
SUMMARY: Tommy Tornado Club (Extended Learning) & YLA
END:VEVENT
BEGIN:VEVENT
DTSTAMP:20260422T233338Z
UID:f82c5844-653d-4273-b496-fb88aa2ecc81
DTSTART:20260430T070000
DTEND:20260430T080500
DESCRIPTION:
LOCATION:
SUMMARY: Tommy Tornado Club (Extended Learning)
END:VEVENT
BEGIN:VEVENT
DTSTAMP:20260422T233338Z
UID:76996188-f038-49f0-a297-1353a257e9ac
DTSTART:20260430T084500
DTEND:20260430T144500
DESCRIPTION:
LOCATION:Kettle Moraine State Forest - Lapham Peak Unit\, W329 N846\, Count
 y Rd C\, Delafield\, WI 53018\, USA
SUMMARY:4th/5th Grade (Stankowski) Field Trip to the Ice Age Trail
END:VEVENT
BEGIN:VEVENT
DTSTAMP:20260422T233338Z
UID:07f20783-9421-48c3-ac5f-4f5ddf8c804c
DTSTART:20260430T153100
DTEND:20260430T173500
DESCRIPTION:
LOCATION:
SUMMARY: Tommy Tornado Club (Extended Learning) & YLA
END:VEVENT
BEGIN:VEVENT
DTSTAMP:20260422T233338Z
UID:b77c17ca-c254-4e49-9ae1-e54cac8a8502
DTSTART:20260430T174500
DTEND:20260430T184500
DESCRIPTION:
LOCATION:Red Apple School\, 1012 Center St\, Racine\, WI 53402\, USA
SUMMARY:5th Grade Basketball Game vs. Gifford
END:VEVENT
BEGIN:VEVENT
DTSTAMP:20260422T233338Z
UID:41f289dd-1a85-4f7a-965d-042feda7dc3c
DTSTART:20260501T070000
DTEND:20260501T080500
DESCRIPTION:
LOCATION:
SUMMARY: Tommy Tornado Club (Extended Learning)
END:VEVENT
BEGIN:VEVENT
DTSTAMP:20260422T233338Z
UID:dfa2298d-f3f2-4e8b-bf4b-e2d563734ce5
DTSTART:20260504T070000
DTEND:20260504T080500
DESCRIPTION:
LOCATION:
SUMMARY: Tommy Tornado Club (Extended Learning)
END:VEVENT
BEGIN:VEVENT
DTSTAMP:20260422T233338Z
UID:cc9e1315-fe79-4da7-8842-2c37ddc7c202
DTSTART:20260504T153100
DTEND:20260504T173500
DESCRIPTION:
LOCATION:
SUMMARY: Tommy Tornado Club (Extended Learning) & YLA
END:VEVENT
BEGIN:VEVENT
DTSTAMP:20260422T233338Z
UID:2a4244bf-2964-44d0-94d1-687e430be861
DTSTART:20260505T070000
DTEND:20260505T080500
DESCRIPTION:
LOCATION:
SUMMARY: Tommy Tornado Club (Extended Learning)
END:VEVENT
BEGIN:VEVENT
DTSTAMP:20260422T233338Z
UID:1b8ce92d-0b5a-40f1-99a4-275fa3797303
DTSTART:20260505T153100
DTEND:20260505T173500
DESCRIPTION:
LOCATION:
SUMMARY: Tommy Tornado Club (Extended Learning) & YLA
END:VEVENT
BEGIN:VEVENT
DTSTAMP:20260422T233338Z
UID:de04f8ae-eee8-476e-86eb-78eae6185f17
DTSTART:20260506T070000
DTEND:20260506T080500
DESCRIPTION:
LOCATION:
SUMMARY: Tommy Tornado Club (Extended Learning)
END:VEVENT
BEGIN:VEVENT
DTSTAMP:20260422T233338Z
UID:d70f2341-ea37-4cce-925f-83364f9e89fe
DTSTART:20260506T153100
DTEND:20260506T170000
DESCRIPTION:
LOCATION:
SUMMARY:Grace Girls/Guys
END:VEVENT
BEGIN:VEVENT
DTSTAMP:20260422T233338Z
UID:84df6555-4dbc-45f8-9928-881a92836a17
DTSTART:20260506T153100
DTEND:20260506T173500
DESCRIPTION:
LOCATION:
SUMMARY: Tommy Tornado Club (Extended Learning) & YLA
END:VEVENT
BEGIN:VEVENT
DTSTAMP:20260422T233338Z
UID:4b873d23-5470-44b2-84ca-b7326f34822f
DTSTART:20260507T070000
DTEND:20260507T080500
DESCRIPTION:
LOCATION:
SUMMARY: Tommy Tornado Club (Extended Learning)
END:VEVENT
BEGIN:VEVENT
DTSTAMP:20260422T233338Z
UID:12bda51d-a639-400b-a427-062bb3b46fb4
DTSTART:20260507T153100
DTEND:20260507T173500
DESCRIPTION:
LOCATION:
SUMMARY: Tommy Tornado Club (Extended Learning) & YLA
END:VEVENT
BEGIN:VEVENT
DTSTAMP:20260422T233338Z
UID:4698e3fe-d295-4397-9760-34ebccd4a3ba
DTSTART:20260507T174500
DTEND:20260507T184500
DESCRIPTION:
LOCATION:Red Apple School\, 1012 Center St\, Racine\, WI 53402\, USA
SUMMARY:5th Grade Basketball Game vs. Jerstad
END:VEVENT
BEGIN:VEVENT
DTSTAMP:20260422T233338Z
UID:94105f08-9713-4b92-b5ce-ec98c821ad5d
DTSTART:20260508T070000
DTEND:20260508T080500
DESCRIPTION:
LOCATION:
SUMMARY: Tommy Tornado Club (Extended Learning)
END:VEVENT
BEGIN:VEVENT
DTSTAMP:20260422T233338Z
UID:b2da5453-d29f-4c6b-95ce-6e12b187b9c2
DTSTART:20260508T081500
DTEND:20260508T091500
DESCRIPTION:Annual Mother&#39\;s day celebration in MPR
LOCATION:Cafeteria
SUMMARY:Muffins With Moms
END:VEVENT
BEGIN:VEVENT
DTSTAMP:20260422T233338Z
UID:76393326-1c32-4894-a623-3e7ac3ffdc52
DTSTART:20260511T070000
DTEND:20260511T080500
DESCRIPTION:
LOCATION:
SUMMARY: Tommy Tornado Club (Extended Learning)
END:VEVENT
BEGIN:VEVENT
DTSTAMP:20260422T233338Z
UID:5ff34bb7-d75f-4719-b22c-cc9b734ad7a4
DTSTART:20260511T153100
DTEND:20260511T173500
DESCRIPTION:
LOCATION:
SUMMARY: Tommy Tornado Club (Extended Learning) & YLA
END:VEVENT
BEGIN:VEVENT
DTSTAMP:20260422T233338Z
UID:ab43006f-a58a-4a8c-83f1-f8bdde18a336
DTSTART:20260512T070000
DTEND:20260512T080500
DESCRIPTION:
LOCATION:
SUMMARY: Tommy Tornado Club (Extended Learning)
END:VEVENT
BEGIN:VEVENT
DTSTAMP:20260422T233338Z
UID:8496644b-c074-45ee-819e-9b69c9ed6627
DTSTART:20260512T071500
DTEND:20260512T081500
DESCRIPTION:Final All Pro Dad breakfast for the 2025-26 school year.
LOCATION:Julian Thomas Elementary School\, 930 Dr Martin Luther King Dr #30
 08\, Racine\, WI 53404\, USA
SUMMARY:Julian Thomas Dads Breakfast
END:VEVENT
BEGIN:VEVENT
DTSTAMP:20260422T233338Z
UID:f34c2e2f-fb82-4853-b99c-dd51c07ec4ab
DTSTART:20260512T140000
DTEND:20260512T150000
DESCRIPTION:
LOCATION:
SUMMARY:4th & 5th Grade Band/Orchestra Concert
END:VEVENT
BEGIN:VEVENT
DTSTAMP:20260422T233338Z
UID:f874a7d5-f966-4898-96fd-83bfad94b850
DTSTART:20260512T153100
DTEND:20260512T173500
DESCRIPTION:
LOCATION:
SUMMARY: Tommy Tornado Club (Extended Learning) & YLA
END:VEVENT
BEGIN:VEVENT
DTSTAMP:20260422T233338Z
UID:9a04bc48-c102-4f48-a6ef-8f7ece504d50
DTSTART:20260513T070000
DTEND:20260513T080500
DESCRIPTION:
LOCATION:
SUMMARY: Tommy Tornado Club (Extended Learning)
END:VEVENT
BEGIN:VEVENT
DTSTAMP:20260422T233338Z
UID:aea5bd64-5abb-409a-920d-3913da5b4b7e
DTSTART:20260513T153100
DTEND:20260513T170000
DESCRIPTION:
LOCATION:
SUMMARY:Grace Girls/Guys
END:VEVENT
BEGIN:VEVENT
DTSTAMP:20260422T233338Z
UID:d1069ee8-bd96-41ce-908d-5554892037ca
DTSTART:20260513T153100
DTEND:20260513T173500
DESCRIPTION:
LOCATION:
SUMMARY: Tommy Tornado Club (Extended Learning) & YLA
END:VEVENT
BEGIN:VEVENT
DTSTAMP:20260422T233338Z
UID:3f8c827d-e0a8-4a50-b315-9ec1cd02d1d0
DTSTART:20260513T164500
DTEND:20260513T174500
DESCRIPTION:
LOCATION:S C Johnson Elementary School\, 2420 Kentucky St\, Racine\, WI 534
 05\, USA
SUMMARY:5th Grade Basketball Game vs. SCJ
END:VEVENT
BEGIN:VEVENT
DTSTAMP:20260422T233338Z
UID:737ff7cd-a14f-43bc-9764-e38bb85e0146
DTSTART:20260514T070000
DTEND:20260514T080500
DESCRIPTION:
LOCATION:
SUMMARY: Tommy Tornado Club (Extended Learning)
END:VEVENT
BEGIN:VEVENT
DTSTAMP:20260422T233338Z
UID:045e1b5b-bfad-45eb-b2bc-ffb275451ed7
DTSTART:20260514T090000
DTEND:20260514T150000
DESCRIPTION:
LOCATION:Milwaukee County Zoo\, 10001 W Bluemound Rd\, Milwaukee\, WI 53226
 \, USA
SUMMARY:1st & 2nd Grades (Haas\, Westmoreland\, Rivera & Monroy) Field Trip
  to the Milwaukee Zoo
END:VEVENT
BEGIN:VEVENT
DTSTAMP:20260422T233338Z
UID:e7dfb1bd-d859-4334-9679-97e6ae6301c2
DTSTART:20260514T170000
DTEND:20260514T183000
DESCRIPTION:
LOCATION:
SUMMARY:Spring Carnival
END:VEVENT
BEGIN:VEVENT
DTSTAMP:20260422T233338Z
UID:e42cb20b-d1ec-46ed-b705-31dbceecc9ce
DTSTART;VALUE=DATE:20260515
DTEND;VALUE=DATE:20260516
DESCRIPTION:
LOCATION:
SUMMARY:No School
END:VEVENT
BEGIN:VEVENT
DTSTAMP:20260422T233338Z
UID:bf877ef9-e5d5-4392-b67e-b2a4183b595a
DTSTART;VALUE=DATE:20260515
DTEND;VALUE=DATE:20260516
DESCRIPTION:
LOCATION:
SUMMARY:No school K-12/Contingent Weather Day (Professional Learning Day)
END:VEVENT
BEGIN:VEVENT
DTSTAMP:20260422T233338Z
UID:00964fd0-c781-4b26-9f73-fb743f590416
DTSTART:20260518T070000
DTEND:20260518T080500
DESCRIPTION:
LOCATION:
SUMMARY: Tommy Tornado Club (Extended Learning)
END:VEVENT
BEGIN:VEVENT
DTSTAMP:20260422T233338Z
UID:079cefbc-81d0-496f-a676-0f56db6be329
DTSTART:20260518T153100
DTEND:20260518T173500
DESCRIPTION:
LOCATION:
SUMMARY: Tommy Tornado Club (Extended Learning) & YLA
END:VEVENT
BEGIN:VEVENT
DTSTAMP:20260422T233338Z
UID:10e9aaf6-4320-43e4-b69f-b480f2538186
DTSTART:20260519T070000
DTEND:20260519T080500
DESCRIPTION:
LOCATION:
SUMMARY: Tommy Tornado Club (Extended Learning)
END:VEVENT
BEGIN:VEVENT
DTSTAMP:20260422T233338Z
UID:50ef5304-7087-4f5f-b14e-8c778aaf4e61
DTSTART:20260519T153100
DTEND:20260519T173500
DESCRIPTION:
LOCATION:
SUMMARY: Tommy Tornado Club (Extended Learning) & YLA
END:VEVENT
BEGIN:VEVENT
DTSTAMP:20260422T233338Z
UID:2496f49c-8a58-4039-a00e-02d64237308e
DTSTART:20260520T070000
DTEND:20260520T080500
DESCRIPTION:
LOCATION:
SUMMARY: Tommy Tornado Club (Extended Learning)
END:VEVENT
BEGIN:VEVENT
DTSTAMP:20260422T233338Z
UID:84fedb31-ea93-486b-a3c5-e7d2b8c8ce1d
DTSTART:20260520T153100
DTEND:20260520T170000
DESCRIPTION:
LOCATION:
SUMMARY:Grace Girls/Guys
END:VEVENT
BEGIN:VEVENT
DTSTAMP:20260422T233338Z
UID:2c5157f3-2aab-4dd4-a259-491d7dbe5de8
DTSTART:20260520T153100
DTEND:20260520T173500
DESCRIPTION:
LOCATION:
SUMMARY: Tommy Tornado Club (Extended Learning) & YLA
END:VEVENT
BEGIN:VEVENT
DTSTAMP:20260422T233338Z
UID:a35c3f4e-8133-4985-a7d2-e58d09f8c34e
DTSTART:20260521T070000
DTEND:20260521T080500
DESCRIPTION:
LOCATION:
SUMMARY: Tommy Tornado Club (Extended Learning)
END:VEVENT
BEGIN:VEVENT
DTSTAMP:20260422T233338Z
UID:f9a71f6e-3abc-4e36-87bc-4064278b60c8
DTSTART:20260521T153100
DTEND:20260521T173500
DESCRIPTION:
LOCATION:
SUMMARY: Tommy Tornado Club (Extended Learning) & YLA
END:VEVENT
BEGIN:VEVENT
DTSTAMP:20260422T233338Z
UID:ac66326e-8885-4968-8a29-1d7c27f30b73
DTSTART:20260521T164500
DTEND:20260521T174500
DESCRIPTION:
LOCATION:Red Apple School\, 1012 Center St\, Racine\, WI 53402\, USA
SUMMARY:5th Grade Basketball Game vs. Knapp
END:VEVENT
BEGIN:VEVENT
DTSTAMP:20260422T233338Z
UID:ea83f8c4-ae57-4675-83d5-95b95cd5c653
DTSTART:20260522T070000
DTEND:20260522T080500
DESCRIPTION:
LOCATION:
SUMMARY: Tommy Tornado Club (Extended Learning)
END:VEVENT
BEGIN:VEVENT
DTSTAMP:20260422T233338Z
UID:36ab7f07-2b91-4944-82b8-3c1feb28db63
DTSTART;VALUE=DATE:20260525
DTEND;VALUE=DATE:20260526
DESCRIPTION:
LOCATION:
SUMMARY:No school K-12 (Memorial Day)
END:VEVENT
BEGIN:VEVENT
DTSTAMP:20260422T233338Z
UID:ef516d1a-e266-4974-a91b-d582fe6f47a2
DTSTART:20260526T070000
DTEND:20260526T080500
DESCRIPTION:
LOCATION:
SUMMARY: Tommy Tornado Club (Extended Learning)
END:VEVENT
BEGIN:VEVENT
DTSTAMP:20260422T233338Z
UID:aa3185b3-7458-4e7b-8b37-7114b7a8a104
DTSTART:20260526T153100
DTEND:20260526T173500
DESCRIPTION:
LOCATION:
SUMMARY: Tommy Tornado Club (Extended Learning) & YLA
END:VEVENT
BEGIN:VEVENT
DTSTAMP:20260422T233338Z
UID:2aade3e6-93f1-4547-b3ea-9eb5722ee3c8
DTSTART:20260527T070000
DTEND:20260527T080500
DESCRIPTION:
LOCATION:
SUMMARY: Tommy Tornado Club (Extended Learning)
END:VEVENT
BEGIN:VEVENT
DTSTAMP:20260422T233338Z
UID:1ceef6fd-ffe8-4957-8a3d-8d15c26350e3
DTSTART:20260527T153100
DTEND:20260527T170000
DESCRIPTION:
LOCATION:
SUMMARY:Grace Girls/Guys
END:VEVENT
BEGIN:VEVENT
DTSTAMP:20260422T233338Z
UID:2d469bf0-cee4-47c4-917e-047d39cbe774
DTSTART:20260527T153100
DTEND:20260527T173500
DESCRIPTION:
LOCATION:
SUMMARY: Tommy Tornado Club (Extended Learning) & YLA
END:VEVENT
BEGIN:VEVENT
DTSTAMP:20260422T233338Z
UID:2824e7bd-187c-4818-a800-16757af091ff
DTSTART:20260528T070000
DTEND:20260528T080500
DESCRIPTION:
LOCATION:
SUMMARY: Tommy Tornado Club (Extended Learning)
END:VEVENT
BEGIN:VEVENT
DTSTAMP:20260422T233338Z
UID:b7f4b197-96a4-490d-8d07-d7015e1a7775
DTSTART:20260528T153100
DTEND:20260528T173500
DESCRIPTION:
LOCATION:
SUMMARY: Tommy Tornado Club (Extended Learning) & YLA
END:VEVENT
BEGIN:VEVENT
DTSTAMP:20260422T233338Z
UID:3e705569-5087-4558-93ef-dfc96164ba74
DTSTART:20260528T164500
DTEND:20260528T184500
DESCRIPTION:
LOCATION:Red Apple School\, 1012 Center St\, Racine\, WI 53402\, USA
SUMMARY:5th Grade Basketball Play Offs & Championship
END:VEVENT
BEGIN:VEVENT
DTSTAMP:20260422T233338Z
UID:11966559-ec66-4f37-b28e-5b4fe1d5ca72
DTSTART:20260529T070000
DTEND:20260529T080500
DESCRIPTION:
LOCATION:
SUMMARY: Tommy Tornado Club (Extended Learning)
END:VEVENT
BEGIN:VEVENT
DTSTAMP:20260422T233338Z
UID:4908cdbf-d0cc-411f-a0a4-e31ad66dc82d
DTSTART:20260601T070000
DTEND:20260601T080500
DESCRIPTION:
LOCATION:
SUMMARY: Tommy Tornado Club (Extended Learning)
END:VEVENT
BEGIN:VEVENT
DTSTAMP:20260422T233338Z
UID:663ef45a-5680-4aef-a68f-34e5b95e18f1
DTSTART:20260601T153100
DTEND:20260601T173500
DESCRIPTION:
LOCATION:
SUMMARY: Tommy Tornado Club (Extended Learning) & YLA
END:VEVENT
BEGIN:VEVENT
DTSTAMP:20260422T233338Z
UID:68edd49f-67b1-4bb2-8f9f-74e33c7d0e36
DTSTART:20260602T070000
DTEND:20260602T080500
DESCRIPTION:
LOCATION:
SUMMARY: Tommy Tornado Club (Extended Learning)
END:VEVENT
BEGIN:VEVENT
DTSTAMP:20260422T233338Z
UID:7167266e-fed8-42f9-afb7-08ff10ed26ea
DTSTART:20260602T153100
DTEND:20260602T173500
DESCRIPTION:
LOCATION:
SUMMARY: Tommy Tornado Club (Extended Learning) & YLA
END:VEVENT
BEGIN:VEVENT
DTSTAMP:20260422T233338Z
UID:86406ac8-29f0-4da5-8f12-5736388dc9e2
DTSTART:20260603T070000
DTEND:20260603T080500
DESCRIPTION:
LOCATION:
SUMMARY: Tommy Tornado Club (Extended Learning)
END:VEVENT
BEGIN:VEVENT
DTSTAMP:20260422T233338Z
UID:d631e65d-8fac-4184-8c59-736029626e43
DTSTART:20260603T153100
DTEND:20260603T170000
DESCRIPTION:
LOCATION:
SUMMARY:Grace Girls/Guys
END:VEVENT
BEGIN:VEVENT
DTSTAMP:20260422T233338Z
UID:a01fae5e-f16f-4b24-9c80-dee665c9f428
DTSTART:20260603T153100
DTEND:20260603T173500
DESCRIPTION:
LOCATION:
SUMMARY: Tommy Tornado Club (Extended Learning) & YLA
END:VEVENT
BEGIN:VEVENT
DTSTAMP:20260422T233338Z
UID:77721958-b4ba-40f9-9786-b9f6d5adc4a1
DTSTART:20260604T070000
DTEND:20260604T080500
DESCRIPTION:
LOCATION:
SUMMARY: Tommy Tornado Club (Extended Learning)
END:VEVENT
BEGIN:VEVENT
DTSTAMP:20260422T233338Z
UID:3d5b8f41-3e74-45a8-bf8c-a07cca7a1141
DTSTART:20260604T140000
DTEND:20260604T150000
DESCRIPTION:
LOCATION:
SUMMARY:4k (Lopez) Parent Event
END:VEVENT
BEGIN:VEVENT
DTSTAMP:20260422T233338Z
UID:01254911-d65e-4567-9e56-47257c7d9e2e
DTSTART:20260604T153100
DTEND:20260604T173500
DESCRIPTION:
LOCATION:
SUMMARY: Tommy Tornado Club (Extended Learning) & YLA
END:VEVENT
BEGIN:VEVENT
DTSTAMP:20260422T233338Z
UID:14bf4979-4c86-4ab9-9e57-ef718c22e1cd
DTSTART:20260605T070000
DTEND:20260605T080500
DESCRIPTION:
LOCATION:
SUMMARY: Tommy Tornado Club (Extended Learning)
END:VEVENT
BEGIN:VEVENT
DTSTAMP:20260422T233338Z
UID:521eeb33-b4ee-4e86-bd63-a334fa799636
DTSTART:20260605T081500
DTEND:20260605T091500
DESCRIPTION:
LOCATION:Julian Thomas Elementary School\, 930 Dr Martin Luther King Dr #30
 08\, Racine\, WI 53404\, USA
SUMMARY:Donuts with Dad - Fathers' Day Breakfast
END:VEVENT
BEGIN:VEVENT
DTSTAMP:20260422T233338Z
UID:d5b35767-e0ae-4809-84f0-0aa5ce7799df
DTSTART:20260605T140000
DTEND:20260605T150000
DESCRIPTION:
LOCATION:
SUMMARY:4k (Frahman) Parent Event
END:VEVENT
BEGIN:VEVENT
DTSTAMP:20260422T233338Z
UID:a9407ae1-06c6-4c97-b84d-a69d01281585
DTSTART:20260610T090000
DTEND:20260610T110000
DESCRIPTION:
LOCATION:Julian Thomas Elementary School\, 930 Dr Martin Luther King Dr #30
 08\, Racine\, WI 53404\, USA
SUMMARY:5th Grade Farewell
END:VEVENT
BEGIN:VEVENT
DTSTAMP:20260422T233338Z
UID:95ee0875-354d-4d73-a6bf-feee8e5f9d04
DTSTART:20260610T140000
DTEND:20260610T150000
DESCRIPTION:
LOCATION:Julian Thomas Elementary School\, 930 Dr Martin Luther King Dr #30
 08\, Racine\, WI 53404\, USA
SUMMARY:Kindergarten Promotion
END:VEVENT
BEGIN:VEVENT
DTSTAMP:20260422T233338Z
UID:9a4829b2-cb7c-4a81-a70d-fa77b0d6a3ba
DTSTART;VALUE=DATE:20260611
DTEND;VALUE=DATE:20260612
DESCRIPTION:
LOCATION:
SUMMARY:Last Day of School
END:VEVENT
BEGIN:VEVENT
DTSTAMP:20260422T233338Z
UID:ca3757a2-02e0-4ec5-912e-ef1aec795579
DTSTART;VALUE=DATE:20260611
DTEND;VALUE=DATE:20260612
DESCRIPTION:  *May be adjusted due to inclement weather.
LOCATION:
SUMMARY:Last Day of School*
END:VEVENT
BEGIN:VEVENT
DTSTAMP:20260422T233338Z
UID:085e2178-609d-4f10-b813-55e9cbab27ff
DTSTART:20260611T090000
DTEND:20260611T112000
DESCRIPTION:
LOCATION:
SUMMARY:Field Day - 4k\, 3rd-5th Grade
END:VEVENT
BEGIN:VEVENT
DTSTAMP:20260422T233338Z
UID:93b4d0b5-120c-46eb-82fe-7df404e99d90
DTSTART:20260611T123000
DTEND:20260611T145000
DESCRIPTION:
LOCATION:
SUMMARY:Field Day - K-2nd Grade
END:VEVENT
BEGIN:VEVENT
DTSTAMP:20260422T233338Z
UID:5ee0a965-dce6-4cb4-b4bb-ca344bfa25e4
DTSTART;VALUE=DATE:20260612
DTEND;VALUE=DATE:20260613
DESCRIPTION:  *May be adjusted due to inclement weather.
LOCATION:
SUMMARY:Records Day/Contingent Weather Day*
END:VEVENT
BEGIN:VEVENT
DTSTAMP:20260422T233338Z
UID:48aa344f-90e5-4321-8a08-32ca6ed7a5e1
DTSTART;VALUE=DATE:20260623
DTEND;VALUE=DATE:20260624
DESCRIPTION:
LOCATION:
SUMMARY:Summer School Starts
END:VEVENT
BEGIN:VEVENT
DTSTAMP:20260422T233338Z
UID:336ca629-8f9c-4cc4-bb29-ea5f5ff45a4c
DTSTART;VALUE=DATE:20260730
DTEND;VALUE=DATE:20260731
DESCRIPTION:
LOCATION:
SUMMARY:Last Day of Summer School
END:VEVENT
BEGIN:VEVENT
DTSTAMP:20260422T233338Z
UID:745d0bd2-5fa7-4f86-8898-e7ad51ac4ed2
DTSTART:20260827T170000
DTEND:20260827T190000
DESCRIPTION:
LOCATION:
SUMMARY:Open House
END:VEVENT
BEGIN:VEVENT
DTSTAMP:20260422T233338Z
UID:631d87a3-7594-468f-b156-3348796f6d4a
DTSTART;VALUE=DATE:20260901
DTEND;VALUE=DATE:20260902
DESCRIPTION:
LOCATION:
SUMMARY:Grades 1-5 First Day of School
END:VEVENT
BEGIN:VEVENT
DTSTAMP:20260422T233338Z
UID:bbc264f0-4afd-48ff-b940-fe6522890403
DTSTART:20260901T090000
DTEND:20260901T100000
DESCRIPTION:
LOCATION:
SUMMARY:Kindergarten Orientation
END:VEVENT
BEGIN:VEVENT
DTSTAMP:20260422T233338Z
UID:e3a9364c-66cb-4998-adc2-8dfb7dfae5f3
DTSTART:20260901T100000
DTEND:20260901T110000
DESCRIPTION:
LOCATION:
SUMMARY:4k Orientation
END:VEVENT
BEGIN:VEVENT
DTSTAMP:20260422T233338Z
UID:54a133c4-1325-4691-99b6-6d0e9260916d
DTSTART:20260901T120000
DTEND:20260901T130000
DESCRIPTION:
LOCATION:
SUMMARY:Kindergarten Orientation
END:VEVENT
BEGIN:VEVENT
DTSTAMP:20260422T233338Z
UID:6c1455d5-4b30-4325-9c86-b861cbd9b5de
DTSTART:20260901T130000
DTEND:20260901T140000
DESCRIPTION:
LOCATION:
SUMMARY:4k Orientation
END:VEVENT
BEGIN:VEVENT
DTSTAMP:20260422T233338Z
UID:133a3a44-c968-4d18-a7dd-9a06a563ccfe
DTSTART;VALUE=DATE:20260902
DTEND;VALUE=DATE:20260903
DESCRIPTION:
LOCATION:
SUMMARY:4k & Kindergarten Group 1 will have school (Last Names A-L)
END:VEVENT
BEGIN:VEVENT
DTSTAMP:20260422T233338Z
UID:09bab1ff-6687-4cd3-871a-874c86122011
DTSTART;VALUE=DATE:20260903
DTEND;VALUE=DATE:20260904
DESCRIPTION:
LOCATION:
SUMMARY:4k & Kindergarten Group 2 will have school (Last Name M-Z)
END:VEVENT
BEGIN:VEVENT
DTSTAMP:20260422T233338Z
UID:436a2317-78e1-48a4-896b-1b105d06c2ba
DTSTART;VALUE=DATE:20260904
DTEND;VALUE=DATE:20260905
DESCRIPTION:
LOCATION:
SUMMARY:All 4k & Kindergarten begins
END:VEVENT
BEGIN:VEVENT
DTSTAMP:20260422T233338Z
UID:2d493ac8-5792-4d92-a4e4-1f90ddad8165
DTSTART:20261001T160000
DTEND:20261001T200000
DESCRIPTION:
LOCATION:Chuck E. Cheese\, 5612 Durand Ave\, Racine\, WI 53406\, USA
SUMMARY:Chuck E Cheese Night
END:VEVENT
BEGIN:VEVENT
DTSTAMP:20260422T233338Z
UID:81e22fdc-16fc-4305-bfc0-db0b3f02026c
DTSTART;VALUE=DATE:20261002
DTEND;VALUE=DATE:20261003
DESCRIPTION:
LOCATION:
SUMMARY:No School
END:VEVENT
BEGIN:VEVENT
DTSTAMP:20260422T233338Z
UID:e2767971-9d4b-4698-bacd-871ae8533d8e
DTSTART;VALUE=DATE:20261012
DTEND;VALUE=DATE:20261013
DESCRIPTION:
LOCATION:
SUMMARY:Fall Break Day - No School
END:VEVENT
BEGIN:VEVENT
DTSTAMP:20260422T233338Z
UID:57a2d7b1-1c23-470f-8b65-9eefc4294a6d
DTSTART;VALUE=DATE:20261016
DTEND;VALUE=DATE:20261017
DESCRIPTION:
LOCATION:
SUMMARY:No School
END:VEVENT
BEGIN:VEVENT
DTSTAMP:20260422T233338Z
UID:1ed03f22-4fae-440f-9eaf-a1ec951c6661
DTSTART;VALUE=DATE:20261029
DTEND;VALUE=DATE:20261031
DESCRIPTION:
LOCATION:
SUMMARY:Conferences - No School
END:VEVENT
BEGIN:VEVENT
DTSTAMP:20260422T233338Z
UID:fe3be68a-1816-4e64-bc60-119aefa32752
DTSTART;VALUE=DATE:20261113
DTEND;VALUE=DATE:20261114
DESCRIPTION:
LOCATION:
SUMMARY:No School
END:VEVENT
BEGIN:VEVENT
DTSTAMP:20260422T233338Z
UID:49112cd5-d0fd-4df5-8683-66628d6487d6
DTSTART;VALUE=DATE:20261125
DTEND;VALUE=DATE:20261128
DESCRIPTION:
LOCATION:
SUMMARY:Thanksgiving Recess - No School
END:VEVENT
BEGIN:VEVENT
DTSTAMP:20260422T233338Z
UID:8201f959-8fee-414c-9b2e-bfb3971f085a
DTSTART;VALUE=DATE:20261223
DTEND;VALUE=DATE:20261226
DESCRIPTION:
LOCATION:
SUMMARY:Winter Break - No School
END:VEVENT
BEGIN:VEVENT
DTSTAMP:20260422T233338Z
UID:57c7e13a-c30d-406a-8226-a28028c55589
DTSTART;VALUE=DATE:20261228
DTEND;VALUE=DATE:20270102
DESCRIPTION:
LOCATION:
SUMMARY:Winter Break - No School
END:VEVENT
BEGIN:VEVENT
DTSTAMP:20260422T233338Z
UID:90959b5e-9962-46bb-a716-7f9d96bcbcd7
DTSTART;VALUE=DATE:20270118
DTEND;VALUE=DATE:20270119
DESCRIPTION:
LOCATION:
SUMMARY:No School
END:VEVENT
BEGIN:VEVENT
DTSTAMP:20260422T233338Z
UID:79ab927c-4e23-44ed-a5a2-ac495d4e8660
DTSTART;VALUE=DATE:20270122
DTEND;VALUE=DATE:20270123
DESCRIPTION:
LOCATION:
SUMMARY:No School
END:VEVENT
BEGIN:VEVENT
DTSTAMP:20260422T233338Z
UID:f48943b4-23a6-4989-b656-9b8ace076577
DTSTART;VALUE=DATE:20270205
DTEND;VALUE=DATE:20270206
DESCRIPTION:
LOCATION:
SUMMARY:No School
END:VEVENT
BEGIN:VEVENT
DTSTAMP:20260422T233338Z
UID:515c39af-d2b6-4e7d-aff1-890338efd216
DTSTART;VALUE=DATE:20270215
DTEND;VALUE=DATE:20270216
DESCRIPTION:
LOCATION:
SUMMARY:Winter Break Day - No School
END:VEVENT
BEGIN:VEVENT
DTSTAMP:20260422T233338Z
UID:fb2b2fea-8c92-4a4e-814e-a25ceaf4faa1
DTSTART;VALUE=DATE:20270310
DTEND;VALUE=DATE:20270311
DESCRIPTION:
LOCATION:
SUMMARY:No School
END:VEVENT
BEGIN:VEVENT
DTSTAMP:20260422T233338Z
UID:97a299dc-6587-4423-9d80-073739f5d4de
DTSTART;VALUE=DATE:20270324
DTEND;VALUE=DATE:20270325
DESCRIPTION:
LOCATION:
SUMMARY:PM Conferences
END:VEVENT
BEGIN:VEVENT
DTSTAMP:20260422T233338Z
UID:ab2c636e-be9c-4fa3-ba9a-c082c4e9a0fc
DTSTART;VALUE=DATE:20270325
DTEND;VALUE=DATE:20270326
DESCRIPTION:
LOCATION:
SUMMARY:Conferences - No School
END:VEVENT
BEGIN:VEVENT
DTSTAMP:20260422T233338Z
UID:ff2eb74e-e1d6-4261-b4f0-7afbc5bd1c0e
DTSTART;VALUE=DATE:20270326
DTEND;VALUE=DATE:20270327
DESCRIPTION:
LOCATION:
SUMMARY:Spring Recess - No School
END:VEVENT
BEGIN:VEVENT
DTSTAMP:20260422T233338Z
UID:a975ba0c-bbc7-43d3-83ca-cef3079676ac
DTSTART;VALUE=DATE:20270329
DTEND;VALUE=DATE:20270403
DESCRIPTION:
LOCATION:
SUMMARY:Spring Recess - No School
END:VEVENT
BEGIN:VEVENT
DTSTAMP:20260422T233338Z
UID:6db453a6-7f05-4127-aae3-634b472fcbd2
DTSTART;VALUE=DATE:20270514
DTEND;VALUE=DATE:20270515
DESCRIPTION:
LOCATION:
SUMMARY:No School
END:VEVENT
BEGIN:VEVENT
DTSTAMP:20260422T233338Z
UID:d1892764-bb72-4251-916b-eeaff072e066
DTSTART;VALUE=DATE:20270610
DTEND;VALUE=DATE:20270611
DESCRIPTION:
LOCATION:
SUMMARY:Last Day of School
END:VEVENT
END:VCALENDAR
